BEGIN:VCALENDAR
VERSION:2.0
PRODID:-//St. Michael &amp; All Angels Episcopal Church - ECPv6.15.18//NONSGML v1.0//EN
CALSCALE:GREGORIAN
METHOD:PUBLISH
X-ORIGINAL-URL:https://stmaa.org
X-WR-CALDESC:Events for St. Michael &amp; All Angels Episcopal Church
REFRESH-INTERVAL;VALUE=DURATION:PT1H
X-Robots-Tag:noindex
X-PUBLISHED-TTL:PT1H
BEGIN:VTIMEZONE
TZID:America/Los_Angeles
BEGIN:DAYLIGHT
TZOFFSETFROM:-0800
TZOFFSETTO:-0700
TZNAME:PDT
DTSTART:20220313T100000
END:DAYLIGHT
BEGIN:STANDARD
TZOFFSETFROM:-0700
TZOFFSETTO:-0800
TZNAME:PST
DTSTART:20221106T090000
END:STANDARD
BEGIN:DAYLIGHT
TZOFFSETFROM:-0800
TZOFFSETTO:-0700
TZNAME:PDT
DTSTART:20230312T100000
END:DAYLIGHT
BEGIN:STANDARD
TZOFFSETFROM:-0700
TZOFFSETTO:-0800
TZNAME:PST
DTSTART:20231105T090000
END:STANDARD
BEGIN:DAYLIGHT
TZOFFSETFROM:-0800
TZOFFSETTO:-0700
TZNAME:PDT
DTSTART:20240310T100000
END:DAYLIGHT
BEGIN:STANDARD
TZOFFSETFROM:-0700
TZOFFSETTO:-0800
TZNAME:PST
DTSTART:20241103T090000
END:STANDARD
END:VTIMEZONE
BEGIN:VEVENT
DTSTART;TZID=America/Los_Angeles:20231001T170000
DTEND;TZID=America/Los_Angeles:20231001T183000
DTSTAMP:20260425T085210
CREATED:20230922T201417Z
LAST-MODIFIED:20230922T201417Z
UID:10011651-1696179600-1696185000@stmaa.org
SUMMARY:Youth Group gathering
DESCRIPTION:
URL:https://stmaa.org/event/youth-group-gathering/2023-10-01/
LOCATION:Parish Hall\, 1704 NE 43rd Ave\, Portland\, OR\, 97213\, United States
CATEGORIES:Youth regular
GEO:37.09024;-95.712891
X-APPLE-STRUCTURED-LOCATION;VALUE=URI;X-ADDRESS=Parish Hall 1704 NE 43rd Ave Portland OR 97213 United States;X-APPLE-RADIUS=500;X-TITLE=1704 NE 43rd Ave:geo:-95.712891,37.09024
END:VEVENT
BEGIN:VEVENT
DTSTART;TZID=America/Los_Angeles:20231001T101500
DTEND;TZID=America/Los_Angeles:20231001T110000
DTSTAMP:20260425T085210
CREATED:20230818T205910Z
LAST-MODIFIED:20240307T202147Z
UID:10011232-1696155300-1696158000@stmaa.org
SUMMARY:Coffee Hour
DESCRIPTION:
URL:https://stmaa.org/event/coffee-hour/2023-10-01/
LOCATION:Parish Hall\, 1704 NE 43rd Ave\, Portland\, OR\, 97213\, United States
CATEGORIES:Parish Life
GEO:37.09024;-95.712891
X-APPLE-STRUCTURED-LOCATION;VALUE=URI;X-ADDRESS=Parish Hall 1704 NE 43rd Ave Portland OR 97213 United States;X-APPLE-RADIUS=500;X-TITLE=1704 NE 43rd Ave:geo:-95.712891,37.09024
END:VEVENT
BEGIN:VEVENT
DTSTART;TZID=America/Los_Angeles:20230929T110000
DTEND;TZID=America/Los_Angeles:20230929T123000
DTSTAMP:20260425T085210
CREATED:20230720T211927Z
LAST-MODIFIED:20231115T011756Z
UID:10011121-1695985200-1695990600@stmaa.org
SUMMARY:Birthday cards ministry
DESCRIPTION:
URL:https://stmaa.org/event/birthday-cards-ministry/2023-09-29/
LOCATION:Parish Hall\, 1704 NE 43rd Ave\, Portland\, OR\, 97213\, United States
CATEGORIES:Pastoral Care events
GEO:37.09024;-95.712891
X-APPLE-STRUCTURED-LOCATION;VALUE=URI;X-ADDRESS=Parish Hall 1704 NE 43rd Ave Portland OR 97213 United States;X-APPLE-RADIUS=500;X-TITLE=1704 NE 43rd Ave:geo:-95.712891,37.09024
END:VEVENT
BEGIN:VEVENT
DTSTART;TZID=America/Los_Angeles:20230924T101500
DTEND;TZID=America/Los_Angeles:20230924T110000
DTSTAMP:20260425T085210
CREATED:20230818T205910Z
LAST-MODIFIED:20240307T202147Z
UID:10011231-1695550500-1695553200@stmaa.org
SUMMARY:Coffee Hour
DESCRIPTION:
URL:https://stmaa.org/event/coffee-hour/2023-09-24/
LOCATION:Parish Hall\, 1704 NE 43rd Ave\, Portland\, OR\, 97213\, United States
CATEGORIES:Parish Life
GEO:37.09024;-95.712891
X-APPLE-STRUCTURED-LOCATION;VALUE=URI;X-ADDRESS=Parish Hall 1704 NE 43rd Ave Portland OR 97213 United States;X-APPLE-RADIUS=500;X-TITLE=1704 NE 43rd Ave:geo:-95.712891,37.09024
END:VEVENT
BEGIN:VEVENT
DTSTART;TZID=America/Los_Angeles:20230922T110000
DTEND;TZID=America/Los_Angeles:20230922T120000
DTSTAMP:20260425T085210
CREATED:20230922T174450Z
LAST-MODIFIED:20230922T174450Z
UID:10011281-1695380400-1695384000@stmaa.org
SUMMARY:Birthday Card group
DESCRIPTION:
URL:https://stmaa.org/event/birthday-card-group/
LOCATION:Parish Hall\, 1704 NE 43rd Ave\, Portland\, OR\, 97213\, United States
CATEGORIES:Pastoral Care regular
GEO:37.09024;-95.712891
X-APPLE-STRUCTURED-LOCATION;VALUE=URI;X-ADDRESS=Parish Hall 1704 NE 43rd Ave Portland OR 97213 United States;X-APPLE-RADIUS=500;X-TITLE=1704 NE 43rd Ave:geo:-95.712891,37.09024
END:VEVENT
BEGIN:VEVENT
DTSTART;TZID=America/Los_Angeles:20230921T183000
DTEND;TZID=America/Los_Angeles:20230921T203000
DTSTAMP:20260425T085210
CREATED:20230107T204209Z
LAST-MODIFIED:20240201T212153Z
UID:10010512-1695321000-1695328200@stmaa.org
SUMMARY:Vestry meeting
DESCRIPTION:
URL:https://stmaa.org/event/vestry-meeting-4/2023-09-21/
LOCATION:Parish Hall\, 1704 NE 43rd Ave\, Portland\, OR\, 97213\, United States
CATEGORIES:Administration
GEO:37.09024;-95.712891
X-APPLE-STRUCTURED-LOCATION;VALUE=URI;X-ADDRESS=Parish Hall 1704 NE 43rd Ave Portland OR 97213 United States;X-APPLE-RADIUS=500;X-TITLE=1704 NE 43rd Ave:geo:-95.712891,37.09024
END:VEVENT
BEGIN:VEVENT
DTSTART;TZID=America/Los_Angeles:20230917T101500
DTEND;TZID=America/Los_Angeles:20230917T110000
DTSTAMP:20260425T085210
CREATED:20230818T205910Z
LAST-MODIFIED:20240307T202147Z
UID:10011230-1694945700-1694948400@stmaa.org
SUMMARY:Coffee Hour
DESCRIPTION:
URL:https://stmaa.org/event/coffee-hour/2023-09-17/
LOCATION:Parish Hall\, 1704 NE 43rd Ave\, Portland\, OR\, 97213\, United States
CATEGORIES:Parish Life
GEO:37.09024;-95.712891
X-APPLE-STRUCTURED-LOCATION;VALUE=URI;X-ADDRESS=Parish Hall 1704 NE 43rd Ave Portland OR 97213 United States;X-APPLE-RADIUS=500;X-TITLE=1704 NE 43rd Ave:geo:-95.712891,37.09024
END:VEVENT
BEGIN:VEVENT
DTSTART;TZID=America/Los_Angeles:20230910T101500
DTEND;TZID=America/Los_Angeles:20230910T110000
DTSTAMP:20260425T085210
CREATED:20230818T205910Z
LAST-MODIFIED:20240307T202147Z
UID:10011229-1694340900-1694343600@stmaa.org
SUMMARY:Coffee Hour
DESCRIPTION:
URL:https://stmaa.org/event/coffee-hour/2023-09-10/
LOCATION:Parish Hall\, 1704 NE 43rd Ave\, Portland\, OR\, 97213\, United States
CATEGORIES:Parish Life
GEO:37.09024;-95.712891
X-APPLE-STRUCTURED-LOCATION;VALUE=URI;X-ADDRESS=Parish Hall 1704 NE 43rd Ave Portland OR 97213 United States;X-APPLE-RADIUS=500;X-TITLE=1704 NE 43rd Ave:geo:-95.712891,37.09024
END:VEVENT
BEGIN:VEVENT
DTSTART;TZID=America/Los_Angeles:20230909T120000
DTEND;TZID=America/Los_Angeles:20230909T170000
DTSTAMP:20260425T085210
CREATED:20230725T175435Z
LAST-MODIFIED:20230725T175435Z
UID:10011211-1694260800-1694278800@stmaa.org
SUMMARY:AARP driving classes
DESCRIPTION:
URL:https://stmaa.org/event/aarp-driving-classes-2/2023-09-09/
LOCATION:Parish Hall\, 1704 NE 43rd Ave\, Portland\, OR\, 97213\, United States
CATEGORIES:Community Groups
GEO:37.09024;-95.712891
X-APPLE-STRUCTURED-LOCATION;VALUE=URI;X-ADDRESS=Parish Hall 1704 NE 43rd Ave Portland OR 97213 United States;X-APPLE-RADIUS=500;X-TITLE=1704 NE 43rd Ave:geo:-95.712891,37.09024
END:VEVENT
BEGIN:VEVENT
DTSTART;TZID=America/Los_Angeles:20230904T100000
DTEND;TZID=America/Los_Angeles:20230904T113000
DTSTAMP:20260425T085210
CREATED:20230425T225845Z
LAST-MODIFIED:20230425T225845Z
UID:10011010-1693821600-1693827000@stmaa.org
SUMMARY:Reckoning with Racism team meeting
DESCRIPTION:
URL:https://stmaa.org/event/reckoning-with-racism-team-meeting/2023-09-04/
LOCATION:Parish Hall\, 1704 NE 43rd Ave\, Portland\, OR\, 97213\, United States
CATEGORIES:Outreach & Justice regular
GEO:37.09024;-95.712891
X-APPLE-STRUCTURED-LOCATION;VALUE=URI;X-ADDRESS=Parish Hall 1704 NE 43rd Ave Portland OR 97213 United States;X-APPLE-RADIUS=500;X-TITLE=1704 NE 43rd Ave:geo:-95.712891,37.09024
END:VEVENT
BEGIN:VEVENT
DTSTART;TZID=America/Los_Angeles:20230903T101500
DTEND;TZID=America/Los_Angeles:20230903T110000
DTSTAMP:20260425T085210
CREATED:20230818T205910Z
LAST-MODIFIED:20240307T202147Z
UID:10011228-1693736100-1693738800@stmaa.org
SUMMARY:Coffee Hour
DESCRIPTION:
URL:https://stmaa.org/event/coffee-hour/2023-09-03/
LOCATION:Parish Hall\, 1704 NE 43rd Ave\, Portland\, OR\, 97213\, United States
CATEGORIES:Parish Life
GEO:37.09024;-95.712891
X-APPLE-STRUCTURED-LOCATION;VALUE=URI;X-ADDRESS=Parish Hall 1704 NE 43rd Ave Portland OR 97213 United States;X-APPLE-RADIUS=500;X-TITLE=1704 NE 43rd Ave:geo:-95.712891,37.09024
END:VEVENT
BEGIN:VEVENT
DTSTART;TZID=America/Los_Angeles:20230902T120000
DTEND;TZID=America/Los_Angeles:20230902T170000
DTSTAMP:20260425T085210
CREATED:20230725T175435Z
LAST-MODIFIED:20230725T175435Z
UID:10011210-1693656000-1693674000@stmaa.org
SUMMARY:AARP driving classes
DESCRIPTION:
URL:https://stmaa.org/event/aarp-driving-classes-2/2023-09-02/
LOCATION:Parish Hall\, 1704 NE 43rd Ave\, Portland\, OR\, 97213\, United States
CATEGORIES:Community Groups
GEO:37.09024;-95.712891
X-APPLE-STRUCTURED-LOCATION;VALUE=URI;X-ADDRESS=Parish Hall 1704 NE 43rd Ave Portland OR 97213 United States;X-APPLE-RADIUS=500;X-TITLE=1704 NE 43rd Ave:geo:-95.712891,37.09024
END:VEVENT
BEGIN:VEVENT
DTSTART;TZID=America/Los_Angeles:20230825T110000
DTEND;TZID=America/Los_Angeles:20230825T123000
DTSTAMP:20260425T085210
CREATED:20230720T211927Z
LAST-MODIFIED:20231115T011756Z
UID:10011120-1692961200-1692966600@stmaa.org
SUMMARY:Birthday cards ministry
DESCRIPTION:
URL:https://stmaa.org/event/birthday-cards-ministry/2023-08-25/
LOCATION:Parish Hall\, 1704 NE 43rd Ave\, Portland\, OR\, 97213\, United States
CATEGORIES:Pastoral Care events
GEO:37.09024;-95.712891
X-APPLE-STRUCTURED-LOCATION;VALUE=URI;X-ADDRESS=Parish Hall 1704 NE 43rd Ave Portland OR 97213 United States;X-APPLE-RADIUS=500;X-TITLE=1704 NE 43rd Ave:geo:-95.712891,37.09024
END:VEVENT
BEGIN:VEVENT
DTSTART;TZID=America/Los_Angeles:20230820T101500
DTEND;TZID=America/Los_Angeles:20230820T110000
DTSTAMP:20260425T085210
CREATED:20230818T205910Z
LAST-MODIFIED:20240307T202147Z
UID:10011226-1692526500-1692529200@stmaa.org
SUMMARY:Coffee Hour
DESCRIPTION:
URL:https://stmaa.org/event/coffee-hour/2023-08-20/
LOCATION:Parish Hall\, 1704 NE 43rd Ave\, Portland\, OR\, 97213\, United States
CATEGORIES:Parish Life
GEO:37.09024;-95.712891
X-APPLE-STRUCTURED-LOCATION;VALUE=URI;X-ADDRESS=Parish Hall 1704 NE 43rd Ave Portland OR 97213 United States;X-APPLE-RADIUS=500;X-TITLE=1704 NE 43rd Ave:geo:-95.712891,37.09024
END:VEVENT
BEGIN:VEVENT
DTSTART;TZID=America/Los_Angeles:20230820T101500
DTEND;TZID=America/Los_Angeles:20230820T110000
DTSTAMP:20260425T085210
CREATED:20230720T215744Z
LAST-MODIFIED:20230720T215744Z
UID:10011207-1692526500-1692529200@stmaa.org
SUMMARY:Packing of backpacks for foster kids
DESCRIPTION:
URL:https://stmaa.org/event/packing-of-backpacks-for-foster-kids/
LOCATION:Parish Hall\, 1704 NE 43rd Ave\, Portland\, OR\, 97213\, United States
CATEGORIES:Outreach & Justice events
GEO:37.09024;-95.712891
X-APPLE-STRUCTURED-LOCATION;VALUE=URI;X-ADDRESS=Parish Hall 1704 NE 43rd Ave Portland OR 97213 United States;X-APPLE-RADIUS=500;X-TITLE=1704 NE 43rd Ave:geo:-95.712891,37.09024
END:VEVENT
BEGIN:VEVENT
DTSTART;TZID=America/Los_Angeles:20230817T183000
DTEND;TZID=America/Los_Angeles:20230817T203000
DTSTAMP:20260425T085210
CREATED:20230107T204209Z
LAST-MODIFIED:20240201T212153Z
UID:10010511-1692297000-1692304200@stmaa.org
SUMMARY:Vestry meeting
DESCRIPTION:
URL:https://stmaa.org/event/vestry-meeting-4/2023-08-17/
LOCATION:Parish Hall\, 1704 NE 43rd Ave\, Portland\, OR\, 97213\, United States
CATEGORIES:Administration
GEO:37.09024;-95.712891
X-APPLE-STRUCTURED-LOCATION;VALUE=URI;X-ADDRESS=Parish Hall 1704 NE 43rd Ave Portland OR 97213 United States;X-APPLE-RADIUS=500;X-TITLE=1704 NE 43rd Ave:geo:-95.712891,37.09024
END:VEVENT
BEGIN:VEVENT
DTSTART;TZID=America/Los_Angeles:20230813T101500
DTEND;TZID=America/Los_Angeles:20230813T110000
DTSTAMP:20260425T085210
CREATED:20230818T205910Z
LAST-MODIFIED:20240307T202147Z
UID:10011225-1691921700-1691924400@stmaa.org
SUMMARY:Coffee Hour
DESCRIPTION:
URL:https://stmaa.org/event/coffee-hour/2023-08-13/
LOCATION:Parish Hall\, 1704 NE 43rd Ave\, Portland\, OR\, 97213\, United States
CATEGORIES:Parish Life
GEO:37.09024;-95.712891
X-APPLE-STRUCTURED-LOCATION;VALUE=URI;X-ADDRESS=Parish Hall 1704 NE 43rd Ave Portland OR 97213 United States;X-APPLE-RADIUS=500;X-TITLE=1704 NE 43rd Ave:geo:-95.712891,37.09024
END:VEVENT
BEGIN:VEVENT
DTSTART;TZID=America/Los_Angeles:20230807T100000
DTEND;TZID=America/Los_Angeles:20230807T113000
DTSTAMP:20260425T085210
CREATED:20230425T225845Z
LAST-MODIFIED:20230425T225845Z
UID:10011009-1691402400-1691407800@stmaa.org
SUMMARY:Reckoning with Racism team meeting
DESCRIPTION:
URL:https://stmaa.org/event/reckoning-with-racism-team-meeting/2023-08-07/
LOCATION:Parish Hall\, 1704 NE 43rd Ave\, Portland\, OR\, 97213\, United States
CATEGORIES:Outreach & Justice regular
GEO:37.09024;-95.712891
X-APPLE-STRUCTURED-LOCATION;VALUE=URI;X-ADDRESS=Parish Hall 1704 NE 43rd Ave Portland OR 97213 United States;X-APPLE-RADIUS=500;X-TITLE=1704 NE 43rd Ave:geo:-95.712891,37.09024
END:VEVENT
BEGIN:VEVENT
DTSTART;TZID=America/Los_Angeles:20230806T101500
DTEND;TZID=America/Los_Angeles:20230806T110000
DTSTAMP:20260425T085210
CREATED:20230818T205910Z
LAST-MODIFIED:20240307T202147Z
UID:10011224-1691316900-1691319600@stmaa.org
SUMMARY:Coffee Hour
DESCRIPTION:
URL:https://stmaa.org/event/coffee-hour/2023-08-06/
LOCATION:Parish Hall\, 1704 NE 43rd Ave\, Portland\, OR\, 97213\, United States
CATEGORIES:Parish Life
GEO:37.09024;-95.712891
X-APPLE-STRUCTURED-LOCATION;VALUE=URI;X-ADDRESS=Parish Hall 1704 NE 43rd Ave Portland OR 97213 United States;X-APPLE-RADIUS=500;X-TITLE=1704 NE 43rd Ave:geo:-95.712891,37.09024
END:VEVENT
BEGIN:VEVENT
DTSTART;TZID=America/Los_Angeles:20230728T110000
DTEND;TZID=America/Los_Angeles:20230728T123000
DTSTAMP:20260425T085210
CREATED:20230720T211927Z
LAST-MODIFIED:20231115T011756Z
UID:10011119-1690542000-1690547400@stmaa.org
SUMMARY:Birthday cards ministry
DESCRIPTION:
URL:https://stmaa.org/event/birthday-cards-ministry/2023-07-28/
LOCATION:Parish Hall\, 1704 NE 43rd Ave\, Portland\, OR\, 97213\, United States
CATEGORIES:Pastoral Care events
GEO:37.09024;-95.712891
X-APPLE-STRUCTURED-LOCATION;VALUE=URI;X-ADDRESS=Parish Hall 1704 NE 43rd Ave Portland OR 97213 United States;X-APPLE-RADIUS=500;X-TITLE=1704 NE 43rd Ave:geo:-95.712891,37.09024
END:VEVENT
BEGIN:VEVENT
DTSTART;TZID=America/Los_Angeles:20230720T183000
DTEND;TZID=America/Los_Angeles:20230720T203000
DTSTAMP:20260425T085210
CREATED:20230107T204209Z
LAST-MODIFIED:20240201T212153Z
UID:10010510-1689877800-1689885000@stmaa.org
SUMMARY:Vestry meeting
DESCRIPTION:
URL:https://stmaa.org/event/vestry-meeting-4/2023-07-20/
LOCATION:Parish Hall\, 1704 NE 43rd Ave\, Portland\, OR\, 97213\, United States
CATEGORIES:Administration
GEO:37.09024;-95.712891
X-APPLE-STRUCTURED-LOCATION;VALUE=URI;X-ADDRESS=Parish Hall 1704 NE 43rd Ave Portland OR 97213 United States;X-APPLE-RADIUS=500;X-TITLE=1704 NE 43rd Ave:geo:-95.712891,37.09024
END:VEVENT
BEGIN:VEVENT
DTSTART;TZID=America/Los_Angeles:20230703T100000
DTEND;TZID=America/Los_Angeles:20230703T113000
DTSTAMP:20260425T085210
CREATED:20230425T225845Z
LAST-MODIFIED:20230425T225845Z
UID:10011008-1688378400-1688383800@stmaa.org
SUMMARY:Reckoning with Racism team meeting
DESCRIPTION:
URL:https://stmaa.org/event/reckoning-with-racism-team-meeting/2023-07-03/
LOCATION:Parish Hall\, 1704 NE 43rd Ave\, Portland\, OR\, 97213\, United States
CATEGORIES:Outreach & Justice regular
GEO:37.09024;-95.712891
X-APPLE-STRUCTURED-LOCATION;VALUE=URI;X-ADDRESS=Parish Hall 1704 NE 43rd Ave Portland OR 97213 United States;X-APPLE-RADIUS=500;X-TITLE=1704 NE 43rd Ave:geo:-95.712891,37.09024
END:VEVENT
BEGIN:VEVENT
DTSTART;TZID=America/Los_Angeles:20230615T183000
DTEND;TZID=America/Los_Angeles:20230615T203000
DTSTAMP:20260425T085210
CREATED:20230107T204209Z
LAST-MODIFIED:20240201T212153Z
UID:10010509-1686853800-1686861000@stmaa.org
SUMMARY:Vestry meeting
DESCRIPTION:
URL:https://stmaa.org/event/vestry-meeting-4/2023-06-15/
LOCATION:Parish Hall\, 1704 NE 43rd Ave\, Portland\, OR\, 97213\, United States
CATEGORIES:Administration
GEO:37.09024;-95.712891
X-APPLE-STRUCTURED-LOCATION;VALUE=URI;X-ADDRESS=Parish Hall 1704 NE 43rd Ave Portland OR 97213 United States;X-APPLE-RADIUS=500;X-TITLE=1704 NE 43rd Ave:geo:-95.712891,37.09024
END:VEVENT
BEGIN:VEVENT
DTSTART;TZID=America/Los_Angeles:20230610T100000
DTEND;TZID=America/Los_Angeles:20230610T160000
DTSTAMP:20260425T085210
CREATED:20230525T233621Z
LAST-MODIFIED:20230525T233924Z
UID:10011064-1686391200-1686412800@stmaa.org
SUMMARY:Vestry retreat
DESCRIPTION:
URL:https://stmaa.org/event/vestry-retreat/
LOCATION:Parish Hall\, 1704 NE 43rd Ave\, Portland\, OR\, 97213\, United States
CATEGORIES:Administration
GEO:37.09024;-95.712891
X-APPLE-STRUCTURED-LOCATION;VALUE=URI;X-ADDRESS=Parish Hall 1704 NE 43rd Ave Portland OR 97213 United States;X-APPLE-RADIUS=500;X-TITLE=1704 NE 43rd Ave:geo:-95.712891,37.09024
END:VEVENT
BEGIN:VEVENT
DTSTART;TZID=America/Los_Angeles:20230606T100000
DTEND;TZID=America/Los_Angeles:20230606T113000
DTSTAMP:20260425T085210
CREATED:20230525T233118Z
LAST-MODIFIED:20230525T233118Z
UID:10011061-1686045600-1686051000@stmaa.org
SUMMARY:Meet-up with Scott+
DESCRIPTION:
URL:https://stmaa.org/event/meet-up-with-scott-3/
LOCATION:Parish Hall\, 1704 NE 43rd Ave\, Portland\, OR\, 97213\, United States
CATEGORIES:Parish Life
GEO:37.09024;-95.712891
X-APPLE-STRUCTURED-LOCATION;VALUE=URI;X-ADDRESS=Parish Hall 1704 NE 43rd Ave Portland OR 97213 United States;X-APPLE-RADIUS=500;X-TITLE=1704 NE 43rd Ave:geo:-95.712891,37.09024
END:VEVENT
BEGIN:VEVENT
DTSTART;TZID=America/Los_Angeles:20230605T100000
DTEND;TZID=America/Los_Angeles:20230605T113000
DTSTAMP:20260425T085210
CREATED:20230425T225845Z
LAST-MODIFIED:20230425T225845Z
UID:10011007-1685959200-1685964600@stmaa.org
SUMMARY:Reckoning with Racism team meeting
DESCRIPTION:
URL:https://stmaa.org/event/reckoning-with-racism-team-meeting/2023-06-05/
LOCATION:Parish Hall\, 1704 NE 43rd Ave\, Portland\, OR\, 97213\, United States
CATEGORIES:Outreach & Justice regular
GEO:37.09024;-95.712891
X-APPLE-STRUCTURED-LOCATION;VALUE=URI;X-ADDRESS=Parish Hall 1704 NE 43rd Ave Portland OR 97213 United States;X-APPLE-RADIUS=500;X-TITLE=1704 NE 43rd Ave:geo:-95.712891,37.09024
END:VEVENT
BEGIN:VEVENT
DTSTART;TZID=America/Los_Angeles:20230604T160000
DTEND;TZID=America/Los_Angeles:20230604T173000
DTSTAMP:20260425T085210
CREATED:20230525T232911Z
LAST-MODIFIED:20230525T232911Z
UID:10011059-1685894400-1685899800@stmaa.org
SUMMARY:Youth Group (w/Scott+)
DESCRIPTION:
URL:https://stmaa.org/event/youth-group-w-scott/
LOCATION:Parish Hall\, 1704 NE 43rd Ave\, Portland\, OR\, 97213\, United States
CATEGORIES:Youth events
GEO:37.09024;-95.712891
X-APPLE-STRUCTURED-LOCATION;VALUE=URI;X-ADDRESS=Parish Hall 1704 NE 43rd Ave Portland OR 97213 United States;X-APPLE-RADIUS=500;X-TITLE=1704 NE 43rd Ave:geo:-95.712891,37.09024
END:VEVENT
BEGIN:VEVENT
DTSTART;TZID=America/Los_Angeles:20230520T140000
DTEND;TZID=America/Los_Angeles:20230520T160000
DTSTAMP:20260425T085210
CREATED:20230320T235944Z
LAST-MODIFIED:20230320T235944Z
UID:10010991-1684591200-1684598400@stmaa.org
SUMMARY:Diane W. 90th b-day celebration
DESCRIPTION:
URL:https://stmaa.org/event/diane-w-90th-b-day-celebration/
LOCATION:Parish Hall\, 1704 NE 43rd Ave\, Portland\, OR\, 97213\, United States
CATEGORIES:Parish Life
GEO:37.09024;-95.712891
X-APPLE-STRUCTURED-LOCATION;VALUE=URI;X-ADDRESS=Parish Hall 1704 NE 43rd Ave Portland OR 97213 United States;X-APPLE-RADIUS=500;X-TITLE=1704 NE 43rd Ave:geo:-95.712891,37.09024
END:VEVENT
BEGIN:VEVENT
DTSTART;TZID=America/Los_Angeles:20230518T183000
DTEND;TZID=America/Los_Angeles:20230518T203000
DTSTAMP:20260425T085210
CREATED:20230107T204209Z
LAST-MODIFIED:20240201T212153Z
UID:10010508-1684434600-1684441800@stmaa.org
SUMMARY:Vestry meeting
DESCRIPTION:
URL:https://stmaa.org/event/vestry-meeting-4/2023-05-18/
LOCATION:Parish Hall\, 1704 NE 43rd Ave\, Portland\, OR\, 97213\, United States
CATEGORIES:Administration
GEO:37.09024;-95.712891
X-APPLE-STRUCTURED-LOCATION;VALUE=URI;X-ADDRESS=Parish Hall 1704 NE 43rd Ave Portland OR 97213 United States;X-APPLE-RADIUS=500;X-TITLE=1704 NE 43rd Ave:geo:-95.712891,37.09024
END:VEVENT
BEGIN:VEVENT
DTSTART;TZID=America/Los_Angeles:20230513T130000
DTEND;TZID=America/Los_Angeles:20230513T173000
DTSTAMP:20260425T085210
CREATED:20230320T235717Z
LAST-MODIFIED:20230320T235717Z
UID:10010990-1683982800-1683999000@stmaa.org
SUMMARY:AARP SmartDriver workshops
DESCRIPTION:
URL:https://stmaa.org/event/aarp-smartdriver-workshops/2023-05-13/
LOCATION:Parish Hall\, 1704 NE 43rd Ave\, Portland\, OR\, 97213\, United States
CATEGORIES:Community Groups
GEO:37.09024;-95.712891
X-APPLE-STRUCTURED-LOCATION;VALUE=URI;X-ADDRESS=Parish Hall 1704 NE 43rd Ave Portland OR 97213 United States;X-APPLE-RADIUS=500;X-TITLE=1704 NE 43rd Ave:geo:-95.712891,37.09024
END:VEVENT
END:VCALENDAR