BEGIN:VCALENDAR
VERSION:2.0
PRODID:-//St. Michael &amp; All Angels Episcopal Church - ECPv6.15.18//NONSGML v1.0//EN
CALSCALE:GREGORIAN
METHOD:PUBLISH
X-WR-CALNAME:St. Michael &amp; All Angels Episcopal Church
X-ORIGINAL-URL:https://stmaa.org
X-WR-CALDESC:Events for St. Michael &amp; All Angels Episcopal Church
REFRESH-INTERVAL;VALUE=DURATION:PT1H
X-Robots-Tag:noindex
X-PUBLISHED-TTL:PT1H
BEGIN:VTIMEZONE
TZID:America/Los_Angeles
BEGIN:DAYLIGHT
TZOFFSETFROM:-0800
TZOFFSETTO:-0700
TZNAME:PDT
DTSTART:20200308T100000
END:DAYLIGHT
BEGIN:STANDARD
TZOFFSETFROM:-0700
TZOFFSETTO:-0800
TZNAME:PST
DTSTART:20201101T090000
END:STANDARD
BEGIN:DAYLIGHT
TZOFFSETFROM:-0800
TZOFFSETTO:-0700
TZNAME:PDT
DTSTART:20210314T100000
END:DAYLIGHT
BEGIN:STANDARD
TZOFFSETFROM:-0700
TZOFFSETTO:-0800
TZNAME:PST
DTSTART:20211107T090000
END:STANDARD
BEGIN:DAYLIGHT
TZOFFSETFROM:-0800
TZOFFSETTO:-0700
TZNAME:PDT
DTSTART:20220313T100000
END:DAYLIGHT
BEGIN:STANDARD
TZOFFSETFROM:-0700
TZOFFSETTO:-0800
TZNAME:PST
DTSTART:20221106T090000
END:STANDARD
END:VTIMEZONE
BEGIN:VEVENT
DTSTART;TZID=America/Los_Angeles:20210606T090000
DTEND;TZID=America/Los_Angeles:20210606T100000
DTSTAMP:20260422T092502
CREATED:20210520T233735Z
LAST-MODIFIED:20210520T233735Z
UID:10007499-1622970000-1622973600@stmaa.org
SUMMARY:Sunday Worship live-streamed & in-person
DESCRIPTION:Limited in-person capacity inside the church for the 9:00 am service. Please check your eblast or contact the office.
URL:https://stmaa.org/event/sunday-worship-live-streamed-in-person/2021-06-06/
LOCATION:Nave\, 1704 NE 43rd Ave\, Portland\, OR\, 97213\, United States
CATEGORIES:Worship regular
END:VEVENT
BEGIN:VEVENT
DTSTART;TZID=America/Los_Angeles:20210530T090000
DTEND;TZID=America/Los_Angeles:20210530T100000
DTSTAMP:20260422T092502
CREATED:20210520T233735Z
LAST-MODIFIED:20210520T233735Z
UID:10007498-1622365200-1622368800@stmaa.org
SUMMARY:Sunday Worship live-streamed & in-person
DESCRIPTION:Limited in-person capacity inside the church for the 9:00 am service. Please check your eblast or contact the office.
URL:https://stmaa.org/event/sunday-worship-live-streamed-in-person/2021-05-30/
LOCATION:Nave\, 1704 NE 43rd Ave\, Portland\, OR\, 97213\, United States
CATEGORIES:Worship regular
END:VEVENT
BEGIN:VEVENT
DTSTART;TZID=America/Los_Angeles:20210523T090000
DTEND;TZID=America/Los_Angeles:20210523T100000
DTSTAMP:20260422T092502
CREATED:20210520T233735Z
LAST-MODIFIED:20210520T233735Z
UID:10007497-1621760400-1621764000@stmaa.org
SUMMARY:Sunday Worship live-streamed & in-person
DESCRIPTION:Limited in-person capacity inside the church for the 9:00 am service. Please check your eblast or contact the office.
URL:https://stmaa.org/event/sunday-worship-live-streamed-in-person/2021-05-23/
LOCATION:Nave\, 1704 NE 43rd Ave\, Portland\, OR\, 97213\, United States
CATEGORIES:Worship regular
END:VEVENT
END:VCALENDAR