BEGIN:VCALENDAR
VERSION:2.0
PRODID:-//St. Michael &amp; All Angels Episcopal Church - ECPv6.15.18//NONSGML v1.0//EN
CALSCALE:GREGORIAN
METHOD:PUBLISH
X-ORIGINAL-URL:https://stmaa.org
X-WR-CALDESC:Events for St. Michael &amp; All Angels Episcopal Church
REFRESH-INTERVAL;VALUE=DURATION:PT1H
X-Robots-Tag:noindex
X-PUBLISHED-TTL:PT1H
BEGIN:VTIMEZONE
TZID:America/Los_Angeles
BEGIN:DAYLIGHT
TZOFFSETFROM:-0800
TZOFFSETTO:-0700
TZNAME:PDT
DTSTART:20200308T100000
END:DAYLIGHT
BEGIN:STANDARD
TZOFFSETFROM:-0700
TZOFFSETTO:-0800
TZNAME:PST
DTSTART:20201101T090000
END:STANDARD
BEGIN:DAYLIGHT
TZOFFSETFROM:-0800
TZOFFSETTO:-0700
TZNAME:PDT
DTSTART:20210314T100000
END:DAYLIGHT
BEGIN:STANDARD
TZOFFSETFROM:-0700
TZOFFSETTO:-0800
TZNAME:PST
DTSTART:20211107T090000
END:STANDARD
BEGIN:DAYLIGHT
TZOFFSETFROM:-0800
TZOFFSETTO:-0700
TZNAME:PDT
DTSTART:20220313T100000
END:DAYLIGHT
BEGIN:STANDARD
TZOFFSETFROM:-0700
TZOFFSETTO:-0800
TZNAME:PST
DTSTART:20221106T090000
END:STANDARD
BEGIN:DAYLIGHT
TZOFFSETFROM:-0800
TZOFFSETTO:-0700
TZNAME:PDT
DTSTART:20230312T100000
END:DAYLIGHT
BEGIN:STANDARD
TZOFFSETFROM:-0700
TZOFFSETTO:-0800
TZNAME:PST
DTSTART:20231105T090000
END:STANDARD
END:VTIMEZONE
BEGIN:VEVENT
DTSTART;TZID=America/Los_Angeles:20220709T110000
DTEND;TZID=America/Los_Angeles:20220709T140000
DTSTAMP:20260420T232132
CREATED:20220607T001819Z
LAST-MODIFIED:20220607T001819Z
UID:10008895-1657364400-1657375200@stmaa.org
SUMMARY:Bautismos (2)
DESCRIPTION:Bautismos at 11:30 am and 1:00 pm
URL:https://stmaa.org/event/bautismos-2/
LOCATION:Nave\, 1704 NE 43rd Ave\, Portland\, OR\, 97213\, United States
CATEGORIES:Weddings/Funerals/XV Años
END:VEVENT
BEGIN:VEVENT
DTSTART;TZID=America/Los_Angeles:20220625T113000
DTEND;TZID=America/Los_Angeles:20220625T140000
DTSTAMP:20260420T232132
CREATED:20220524T213612Z
LAST-MODIFIED:20220524T213612Z
UID:10010260-1656156600-1656165600@stmaa.org
SUMMARY:XV Años (2)
DESCRIPTION:
URL:https://stmaa.org/event/xv-anos-2-2/
LOCATION:Nave\, 1704 NE 43rd Ave\, Portland\, OR\, 97213\, United States
CATEGORIES:Bautismo/Quinceaños
END:VEVENT
BEGIN:VEVENT
DTSTART;TZID=America/Los_Angeles:20220619T153000
DTEND;TZID=America/Los_Angeles:20220619T170000
DTSTAMP:20260420T232132
CREATED:20220524T214558Z
LAST-MODIFIED:20220524T214558Z
UID:10010269-1655652600-1655658000@stmaa.org
SUMMARY:Violin recital
DESCRIPTION:
URL:https://stmaa.org/event/violin-recital/
LOCATION:Nave\, 1704 NE 43rd Ave\, Portland\, OR\, 97213\, United States
CATEGORIES:Music events
END:VEVENT
BEGIN:VEVENT
DTSTART;TZID=America/Los_Angeles:20220618T150000
DTEND;TZID=America/Los_Angeles:20220618T170000
DTSTAMP:20260420T232132
CREATED:20220524T213047Z
LAST-MODIFIED:20220524T213047Z
UID:10010259-1655564400-1655571600@stmaa.org
SUMMARY:Violin rehearsal
DESCRIPTION:
URL:https://stmaa.org/event/violin-rehearsal/
LOCATION:Nave\, 1704 NE 43rd Ave\, Portland\, OR\, 97213\, United States
CATEGORIES:Music rehearsals
END:VEVENT
BEGIN:VEVENT
DTSTART;TZID=America/Los_Angeles:20220611T113000
DTEND;TZID=America/Los_Angeles:20220611T130000
DTSTAMP:20260420T232132
CREATED:20220524T195543Z
LAST-MODIFIED:20220524T211456Z
UID:10010257-1654947000-1654952400@stmaa.org
SUMMARY:XV Años
DESCRIPTION:
URL:https://stmaa.org/event/xv-anos-9/
LOCATION:Nave\, 1704 NE 43rd Ave\, Portland\, OR\, 97213\, United States
CATEGORIES:Bautismo/Quinceaños
END:VEVENT
BEGIN:VEVENT
DTSTART;TZID=America/Los_Angeles:20220604T123000
DTEND;TZID=America/Los_Angeles:20220604T133000
DTSTAMP:20260420T232132
CREATED:20220524T195444Z
LAST-MODIFIED:20220524T195444Z
UID:10010256-1654345800-1654349400@stmaa.org
SUMMARY:XV Años
DESCRIPTION:
URL:https://stmaa.org/event/xv-anos-8/
LOCATION:Nave\, 1704 NE 43rd Ave\, Portland\, OR\, 97213\, United States
CATEGORIES:Bautismo/Quinceaños
END:VEVENT
BEGIN:VEVENT
DTSTART;TZID=America/Los_Angeles:20220604T103000
DTEND;TZID=America/Los_Angeles:20220604T110000
DTSTAMP:20260420T232132
CREATED:20220524T195342Z
LAST-MODIFIED:20220524T195342Z
UID:10010255-1654338600-1654340400@stmaa.org
SUMMARY:Baptism rehearsal
DESCRIPTION:
URL:https://stmaa.org/event/baptism-rehearsal/
LOCATION:Nave\, 1704 NE 43rd Ave\, Portland\, OR\, 97213\, United States
CATEGORIES:Bautismo/Quinceaños
END:VEVENT
BEGIN:VEVENT
DTSTART;TZID=America/Los_Angeles:20220528T123000
DTEND;TZID=America/Los_Angeles:20220528T153000
DTSTAMP:20260420T232132
CREATED:20220524T180215Z
LAST-MODIFIED:20220524T180953Z
UID:10010197-1653741000-1653751800@stmaa.org
SUMMARY:Broadway Night rehearsal
DESCRIPTION:
URL:https://stmaa.org/event/broadway-night-rehearsal-3/
LOCATION:Nave\, 1704 NE 43rd Ave\, Portland\, OR\, 97213\, United States
CATEGORIES:Administration,Music rehearsals
END:VEVENT
BEGIN:VEVENT
DTSTART;TZID=America/Los_Angeles:20210829T090000
DTEND;TZID=America/Los_Angeles:20210829T100000
DTSTAMP:20260420T232132
CREATED:20210520T233735Z
LAST-MODIFIED:20210520T233735Z
UID:10007511-1630227600-1630231200@stmaa.org
SUMMARY:Sunday Worship live-streamed & in-person
DESCRIPTION:Limited in-person capacity inside the church for the 9:00 am service. Please check your eblast or contact the office.
URL:https://stmaa.org/event/sunday-worship-live-streamed-in-person/2021-08-29/
LOCATION:Nave\, 1704 NE 43rd Ave\, Portland\, OR\, 97213\, United States
CATEGORIES:Worship regular
END:VEVENT
BEGIN:VEVENT
DTSTART;TZID=America/Los_Angeles:20210822T090000
DTEND;TZID=America/Los_Angeles:20210822T100000
DTSTAMP:20260420T232132
CREATED:20210520T233735Z
LAST-MODIFIED:20210520T233735Z
UID:10007510-1629622800-1629626400@stmaa.org
SUMMARY:Sunday Worship live-streamed & in-person
DESCRIPTION:Limited in-person capacity inside the church for the 9:00 am service. Please check your eblast or contact the office.
URL:https://stmaa.org/event/sunday-worship-live-streamed-in-person/2021-08-22/
LOCATION:Nave\, 1704 NE 43rd Ave\, Portland\, OR\, 97213\, United States
CATEGORIES:Worship regular
END:VEVENT
BEGIN:VEVENT
DTSTART;TZID=America/Los_Angeles:20210815T090000
DTEND;TZID=America/Los_Angeles:20210815T100000
DTSTAMP:20260420T232132
CREATED:20210520T233735Z
LAST-MODIFIED:20210520T233735Z
UID:10007509-1629018000-1629021600@stmaa.org
SUMMARY:Sunday Worship live-streamed & in-person
DESCRIPTION:Limited in-person capacity inside the church for the 9:00 am service. Please check your eblast or contact the office.
URL:https://stmaa.org/event/sunday-worship-live-streamed-in-person/2021-08-15/
LOCATION:Nave\, 1704 NE 43rd Ave\, Portland\, OR\, 97213\, United States
CATEGORIES:Worship regular
END:VEVENT
BEGIN:VEVENT
DTSTART;TZID=America/Los_Angeles:20210808T090000
DTEND;TZID=America/Los_Angeles:20210808T100000
DTSTAMP:20260420T232132
CREATED:20210520T233735Z
LAST-MODIFIED:20210520T233735Z
UID:10007508-1628413200-1628416800@stmaa.org
SUMMARY:Sunday Worship live-streamed & in-person
DESCRIPTION:Limited in-person capacity inside the church for the 9:00 am service. Please check your eblast or contact the office.
URL:https://stmaa.org/event/sunday-worship-live-streamed-in-person/2021-08-08/
LOCATION:Nave\, 1704 NE 43rd Ave\, Portland\, OR\, 97213\, United States
CATEGORIES:Worship regular
END:VEVENT
BEGIN:VEVENT
DTSTART;TZID=America/Los_Angeles:20210801T090000
DTEND;TZID=America/Los_Angeles:20210801T100000
DTSTAMP:20260420T232132
CREATED:20210520T233735Z
LAST-MODIFIED:20210520T233735Z
UID:10007507-1627808400-1627812000@stmaa.org
SUMMARY:Sunday Worship live-streamed & in-person
DESCRIPTION:Limited in-person capacity inside the church for the 9:00 am service. Please check your eblast or contact the office.
URL:https://stmaa.org/event/sunday-worship-live-streamed-in-person/2021-08-01/
LOCATION:Nave\, 1704 NE 43rd Ave\, Portland\, OR\, 97213\, United States
CATEGORIES:Worship regular
END:VEVENT
BEGIN:VEVENT
DTSTART;TZID=America/Los_Angeles:20210725T090000
DTEND;TZID=America/Los_Angeles:20210725T100000
DTSTAMP:20260420T232132
CREATED:20210520T233735Z
LAST-MODIFIED:20210520T233735Z
UID:10007506-1627203600-1627207200@stmaa.org
SUMMARY:Sunday Worship live-streamed & in-person
DESCRIPTION:Limited in-person capacity inside the church for the 9:00 am service. Please check your eblast or contact the office.
URL:https://stmaa.org/event/sunday-worship-live-streamed-in-person/2021-07-25/
LOCATION:Nave\, 1704 NE 43rd Ave\, Portland\, OR\, 97213\, United States
CATEGORIES:Worship regular
END:VEVENT
BEGIN:VEVENT
DTSTART;TZID=America/Los_Angeles:20210718T090000
DTEND;TZID=America/Los_Angeles:20210718T100000
DTSTAMP:20260420T232132
CREATED:20210520T233735Z
LAST-MODIFIED:20210520T233735Z
UID:10007505-1626598800-1626602400@stmaa.org
SUMMARY:Sunday Worship live-streamed & in-person
DESCRIPTION:Limited in-person capacity inside the church for the 9:00 am service. Please check your eblast or contact the office.
URL:https://stmaa.org/event/sunday-worship-live-streamed-in-person/2021-07-18/
LOCATION:Nave\, 1704 NE 43rd Ave\, Portland\, OR\, 97213\, United States
CATEGORIES:Worship regular
END:VEVENT
BEGIN:VEVENT
DTSTART;TZID=America/Los_Angeles:20210711T090000
DTEND;TZID=America/Los_Angeles:20210711T100000
DTSTAMP:20260420T232132
CREATED:20210520T233735Z
LAST-MODIFIED:20210520T233735Z
UID:10007504-1625994000-1625997600@stmaa.org
SUMMARY:Sunday Worship live-streamed & in-person
DESCRIPTION:Limited in-person capacity inside the church for the 9:00 am service. Please check your eblast or contact the office.
URL:https://stmaa.org/event/sunday-worship-live-streamed-in-person/2021-07-11/
LOCATION:Nave\, 1704 NE 43rd Ave\, Portland\, OR\, 97213\, United States
CATEGORIES:Worship regular
END:VEVENT
BEGIN:VEVENT
DTSTART;TZID=America/Los_Angeles:20210704T090000
DTEND;TZID=America/Los_Angeles:20210704T100000
DTSTAMP:20260420T232132
CREATED:20210520T233735Z
LAST-MODIFIED:20210520T233735Z
UID:10007503-1625389200-1625392800@stmaa.org
SUMMARY:Sunday Worship live-streamed & in-person
DESCRIPTION:Limited in-person capacity inside the church for the 9:00 am service. Please check your eblast or contact the office.
URL:https://stmaa.org/event/sunday-worship-live-streamed-in-person/2021-07-04/
LOCATION:Nave\, 1704 NE 43rd Ave\, Portland\, OR\, 97213\, United States
CATEGORIES:Worship regular
END:VEVENT
BEGIN:VEVENT
DTSTART;TZID=America/Los_Angeles:20210627T090000
DTEND;TZID=America/Los_Angeles:20210627T100000
DTSTAMP:20260420T232132
CREATED:20210520T233735Z
LAST-MODIFIED:20210520T233735Z
UID:10007502-1624784400-1624788000@stmaa.org
SUMMARY:Sunday Worship live-streamed & in-person
DESCRIPTION:Limited in-person capacity inside the church for the 9:00 am service. Please check your eblast or contact the office.
URL:https://stmaa.org/event/sunday-worship-live-streamed-in-person/2021-06-27/
LOCATION:Nave\, 1704 NE 43rd Ave\, Portland\, OR\, 97213\, United States
CATEGORIES:Worship regular
END:VEVENT
BEGIN:VEVENT
DTSTART;TZID=America/Los_Angeles:20210620T090000
DTEND;TZID=America/Los_Angeles:20210620T100000
DTSTAMP:20260420T232132
CREATED:20210520T233735Z
LAST-MODIFIED:20210520T233735Z
UID:10007501-1624179600-1624183200@stmaa.org
SUMMARY:Sunday Worship live-streamed & in-person
DESCRIPTION:Limited in-person capacity inside the church for the 9:00 am service. Please check your eblast or contact the office.
URL:https://stmaa.org/event/sunday-worship-live-streamed-in-person/2021-06-20/
LOCATION:Nave\, 1704 NE 43rd Ave\, Portland\, OR\, 97213\, United States
CATEGORIES:Worship regular
END:VEVENT
BEGIN:VEVENT
DTSTART;TZID=America/Los_Angeles:20210613T090000
DTEND;TZID=America/Los_Angeles:20210613T100000
DTSTAMP:20260420T232132
CREATED:20210520T233735Z
LAST-MODIFIED:20210520T233735Z
UID:10007500-1623574800-1623578400@stmaa.org
SUMMARY:Sunday Worship live-streamed & in-person
DESCRIPTION:Limited in-person capacity inside the church for the 9:00 am service. Please check your eblast or contact the office.
URL:https://stmaa.org/event/sunday-worship-live-streamed-in-person/2021-06-13/
LOCATION:Nave\, 1704 NE 43rd Ave\, Portland\, OR\, 97213\, United States
CATEGORIES:Worship regular
END:VEVENT
BEGIN:VEVENT
DTSTART;TZID=America/Los_Angeles:20210606T090000
DTEND;TZID=America/Los_Angeles:20210606T100000
DTSTAMP:20260420T232132
CREATED:20210520T233735Z
LAST-MODIFIED:20210520T233735Z
UID:10007499-1622970000-1622973600@stmaa.org
SUMMARY:Sunday Worship live-streamed & in-person
DESCRIPTION:Limited in-person capacity inside the church for the 9:00 am service. Please check your eblast or contact the office.
URL:https://stmaa.org/event/sunday-worship-live-streamed-in-person/2021-06-06/
LOCATION:Nave\, 1704 NE 43rd Ave\, Portland\, OR\, 97213\, United States
CATEGORIES:Worship regular
END:VEVENT
BEGIN:VEVENT
DTSTART;TZID=America/Los_Angeles:20210530T090000
DTEND;TZID=America/Los_Angeles:20210530T100000
DTSTAMP:20260420T232132
CREATED:20210520T233735Z
LAST-MODIFIED:20210520T233735Z
UID:10007498-1622365200-1622368800@stmaa.org
SUMMARY:Sunday Worship live-streamed & in-person
DESCRIPTION:Limited in-person capacity inside the church for the 9:00 am service. Please check your eblast or contact the office.
URL:https://stmaa.org/event/sunday-worship-live-streamed-in-person/2021-05-30/
LOCATION:Nave\, 1704 NE 43rd Ave\, Portland\, OR\, 97213\, United States
CATEGORIES:Worship regular
END:VEVENT
BEGIN:VEVENT
DTSTART;TZID=America/Los_Angeles:20210523T090000
DTEND;TZID=America/Los_Angeles:20210523T100000
DTSTAMP:20260420T232132
CREATED:20210520T233735Z
LAST-MODIFIED:20210520T233735Z
UID:10007497-1621760400-1621764000@stmaa.org
SUMMARY:Sunday Worship live-streamed & in-person
DESCRIPTION:Limited in-person capacity inside the church for the 9:00 am service. Please check your eblast or contact the office.
URL:https://stmaa.org/event/sunday-worship-live-streamed-in-person/2021-05-23/
LOCATION:Nave\, 1704 NE 43rd Ave\, Portland\, OR\, 97213\, United States
CATEGORIES:Worship regular
END:VEVENT
END:VCALENDAR