BEGIN:VCALENDAR
VERSION:2.0
PRODID:-//St. Michael &amp; All Angels Episcopal Church - ECPv6.15.18//NONSGML v1.0//EN
CALSCALE:GREGORIAN
METHOD:PUBLISH
X-WR-CALNAME:St. Michael &amp; All Angels Episcopal Church
X-ORIGINAL-URL:https://stmaa.org
X-WR-CALDESC:Events for St. Michael &amp; All Angels Episcopal Church
REFRESH-INTERVAL;VALUE=DURATION:PT1H
X-Robots-Tag:noindex
X-PUBLISHED-TTL:PT1H
BEGIN:VTIMEZONE
TZID:America/Los_Angeles
BEGIN:DAYLIGHT
TZOFFSETFROM:-0800
TZOFFSETTO:-0700
TZNAME:PDT
DTSTART:20240310T100000
END:DAYLIGHT
BEGIN:STANDARD
TZOFFSETFROM:-0700
TZOFFSETTO:-0800
TZNAME:PST
DTSTART:20241103T090000
END:STANDARD
BEGIN:DAYLIGHT
TZOFFSETFROM:-0800
TZOFFSETTO:-0700
TZNAME:PDT
DTSTART:20250309T100000
END:DAYLIGHT
BEGIN:STANDARD
TZOFFSETFROM:-0700
TZOFFSETTO:-0800
TZNAME:PST
DTSTART:20251102T090000
END:STANDARD
BEGIN:DAYLIGHT
TZOFFSETFROM:-0800
TZOFFSETTO:-0700
TZNAME:PDT
DTSTART:20260308T100000
END:DAYLIGHT
BEGIN:STANDARD
TZOFFSETFROM:-0700
TZOFFSETTO:-0800
TZNAME:PST
DTSTART:20261101T090000
END:STANDARD
END:VTIMEZONE
BEGIN:VEVENT
DTSTART;TZID=America/Los_Angeles:20250522T170000
DTEND;TZID=America/Los_Angeles:20250522T183000
DTSTAMP:20260423T130527
CREATED:20240201T195611Z
LAST-MODIFIED:20240201T195719Z
UID:10012221-1747933200-1747938600@stmaa.org
SUMMARY:Women Celebrating in Recovery group
DESCRIPTION:
URL:https://stmaa.org/event/women-celebrating-in-recovery-group-2/2025-05-22/
LOCATION:Nativity Hall\, 1704 NE 43rd Ave\, Portland\, OR\, 97213\, United States
CATEGORIES:Recovery meetings
GEO:37.09024;-95.712891
X-APPLE-STRUCTURED-LOCATION;VALUE=URI;X-ADDRESS=Nativity Hall 1704 NE 43rd Ave Portland OR 97213 United States;X-APPLE-RADIUS=500;X-TITLE=1704 NE 43rd Ave:geo:-95.712891,37.09024
END:VEVENT
BEGIN:VEVENT
DTSTART;TZID=America/Los_Angeles:20250522T120000
DTEND;TZID=America/Los_Angeles:20250522T130000
DTSTAMP:20260423T130527
CREATED:20240113T201546Z
LAST-MODIFIED:20240113T201720Z
UID:10011893-1747915200-1747918800@stmaa.org
SUMMARY:It's in the Bag sack lunch offering
DESCRIPTION:
URL:https://stmaa.org/event/its-in-the-bag-sack-lunch-offering-2/2025-05-22/
LOCATION:Courtyard\, 1704 NE 43rd Ave\, Portland\, OR\, 97213\, United States
CATEGORIES:Outreach & Justice regular
END:VEVENT
BEGIN:VEVENT
DTSTART;TZID=America/Los_Angeles:20250518T183000
DTEND;TZID=America/Los_Angeles:20250518T203000
DTSTAMP:20260423T130527
CREATED:20230107T205128Z
LAST-MODIFIED:20240201T205234Z
UID:10013001-1747593000-1747600200@stmaa.org
SUMMARY:CA meeting
DESCRIPTION:
URL:https://stmaa.org/event/ca-meeting-3/2025-05-18/
LOCATION:Nativity Hall\, 1704 NE 43rd Ave\, Portland\, OR\, 97213\, United States
CATEGORIES:Recovery meetings
GEO:37.09024;-95.712891
X-APPLE-STRUCTURED-LOCATION;VALUE=URI;X-ADDRESS=Nativity Hall 1704 NE 43rd Ave Portland OR 97213 United States;X-APPLE-RADIUS=500;X-TITLE=1704 NE 43rd Ave:geo:-95.712891,37.09024
END:VEVENT
BEGIN:VEVENT
DTSTART;TZID=America/Los_Angeles:20250515T183000
DTEND;TZID=America/Los_Angeles:20250515T200000
DTSTAMP:20260423T130527
CREATED:20220307T201122Z
LAST-MODIFIED:20240201T200052Z
UID:10012486-1747333800-1747339200@stmaa.org
SUMMARY:AA meeting
DESCRIPTION:
URL:https://stmaa.org/event/aa-meeting/2025-05-15/
LOCATION:Nativity Hall\, 1704 NE 43rd Ave\, Portland\, OR\, 97213\, United States
CATEGORIES:Recovery meetings
GEO:37.09024;-95.712891
X-APPLE-STRUCTURED-LOCATION;VALUE=URI;X-ADDRESS=Nativity Hall 1704 NE 43rd Ave Portland OR 97213 United States;X-APPLE-RADIUS=500;X-TITLE=1704 NE 43rd Ave:geo:-95.712891,37.09024
END:VEVENT
BEGIN:VEVENT
DTSTART;TZID=America/Los_Angeles:20250515T170000
DTEND;TZID=America/Los_Angeles:20250515T183000
DTSTAMP:20260423T130527
CREATED:20240201T195611Z
LAST-MODIFIED:20240201T195719Z
UID:10012220-1747328400-1747333800@stmaa.org
SUMMARY:Women Celebrating in Recovery group
DESCRIPTION:
URL:https://stmaa.org/event/women-celebrating-in-recovery-group-2/2025-05-15/
LOCATION:Nativity Hall\, 1704 NE 43rd Ave\, Portland\, OR\, 97213\, United States
CATEGORIES:Recovery meetings
GEO:37.09024;-95.712891
X-APPLE-STRUCTURED-LOCATION;VALUE=URI;X-ADDRESS=Nativity Hall 1704 NE 43rd Ave Portland OR 97213 United States;X-APPLE-RADIUS=500;X-TITLE=1704 NE 43rd Ave:geo:-95.712891,37.09024
END:VEVENT
BEGIN:VEVENT
DTSTART;TZID=America/Los_Angeles:20250515T120000
DTEND;TZID=America/Los_Angeles:20250515T130000
DTSTAMP:20260423T130527
CREATED:20240113T201546Z
LAST-MODIFIED:20240113T201720Z
UID:10011892-1747310400-1747314000@stmaa.org
SUMMARY:It's in the Bag sack lunch offering
DESCRIPTION:
URL:https://stmaa.org/event/its-in-the-bag-sack-lunch-offering-2/2025-05-15/
LOCATION:Courtyard\, 1704 NE 43rd Ave\, Portland\, OR\, 97213\, United States
CATEGORIES:Outreach & Justice regular
END:VEVENT
BEGIN:VEVENT
DTSTART;TZID=America/Los_Angeles:20250511T183000
DTEND;TZID=America/Los_Angeles:20250511T203000
DTSTAMP:20260423T130527
CREATED:20230107T205128Z
LAST-MODIFIED:20240201T205234Z
UID:10013000-1746988200-1746995400@stmaa.org
SUMMARY:CA meeting
DESCRIPTION:
URL:https://stmaa.org/event/ca-meeting-3/2025-05-11/
LOCATION:Nativity Hall\, 1704 NE 43rd Ave\, Portland\, OR\, 97213\, United States
CATEGORIES:Recovery meetings
GEO:37.09024;-95.712891
X-APPLE-STRUCTURED-LOCATION;VALUE=URI;X-ADDRESS=Nativity Hall 1704 NE 43rd Ave Portland OR 97213 United States;X-APPLE-RADIUS=500;X-TITLE=1704 NE 43rd Ave:geo:-95.712891,37.09024
END:VEVENT
BEGIN:VEVENT
DTSTART;TZID=America/Los_Angeles:20250508T183000
DTEND;TZID=America/Los_Angeles:20250508T200000
DTSTAMP:20260423T130527
CREATED:20220307T201122Z
LAST-MODIFIED:20240201T200052Z
UID:10012485-1746729000-1746734400@stmaa.org
SUMMARY:AA meeting
DESCRIPTION:
URL:https://stmaa.org/event/aa-meeting/2025-05-08/
LOCATION:Nativity Hall\, 1704 NE 43rd Ave\, Portland\, OR\, 97213\, United States
CATEGORIES:Recovery meetings
GEO:37.09024;-95.712891
X-APPLE-STRUCTURED-LOCATION;VALUE=URI;X-ADDRESS=Nativity Hall 1704 NE 43rd Ave Portland OR 97213 United States;X-APPLE-RADIUS=500;X-TITLE=1704 NE 43rd Ave:geo:-95.712891,37.09024
END:VEVENT
BEGIN:VEVENT
DTSTART;TZID=America/Los_Angeles:20250508T170000
DTEND;TZID=America/Los_Angeles:20250508T183000
DTSTAMP:20260423T130527
CREATED:20240201T195611Z
LAST-MODIFIED:20240201T195719Z
UID:10012219-1746723600-1746729000@stmaa.org
SUMMARY:Women Celebrating in Recovery group
DESCRIPTION:
URL:https://stmaa.org/event/women-celebrating-in-recovery-group-2/2025-05-08/
LOCATION:Nativity Hall\, 1704 NE 43rd Ave\, Portland\, OR\, 97213\, United States
CATEGORIES:Recovery meetings
GEO:37.09024;-95.712891
X-APPLE-STRUCTURED-LOCATION;VALUE=URI;X-ADDRESS=Nativity Hall 1704 NE 43rd Ave Portland OR 97213 United States;X-APPLE-RADIUS=500;X-TITLE=1704 NE 43rd Ave:geo:-95.712891,37.09024
END:VEVENT
BEGIN:VEVENT
DTSTART;TZID=America/Los_Angeles:20250508T120000
DTEND;TZID=America/Los_Angeles:20250508T130000
DTSTAMP:20260423T130527
CREATED:20240113T201546Z
LAST-MODIFIED:20240113T201720Z
UID:10011891-1746705600-1746709200@stmaa.org
SUMMARY:It's in the Bag sack lunch offering
DESCRIPTION:
URL:https://stmaa.org/event/its-in-the-bag-sack-lunch-offering-2/2025-05-08/
LOCATION:Courtyard\, 1704 NE 43rd Ave\, Portland\, OR\, 97213\, United States
CATEGORIES:Outreach & Justice regular
END:VEVENT
BEGIN:VEVENT
DTSTART;TZID=America/Los_Angeles:20250504T183000
DTEND;TZID=America/Los_Angeles:20250504T203000
DTSTAMP:20260423T130527
CREATED:20230107T205128Z
LAST-MODIFIED:20240201T205234Z
UID:10012999-1746383400-1746390600@stmaa.org
SUMMARY:CA meeting
DESCRIPTION:
URL:https://stmaa.org/event/ca-meeting-3/2025-05-04/
LOCATION:Nativity Hall\, 1704 NE 43rd Ave\, Portland\, OR\, 97213\, United States
CATEGORIES:Recovery meetings
GEO:37.09024;-95.712891
X-APPLE-STRUCTURED-LOCATION;VALUE=URI;X-ADDRESS=Nativity Hall 1704 NE 43rd Ave Portland OR 97213 United States;X-APPLE-RADIUS=500;X-TITLE=1704 NE 43rd Ave:geo:-95.712891,37.09024
END:VEVENT
BEGIN:VEVENT
DTSTART;TZID=America/Los_Angeles:20250501T183000
DTEND;TZID=America/Los_Angeles:20250501T200000
DTSTAMP:20260423T130527
CREATED:20220307T201122Z
LAST-MODIFIED:20240201T200052Z
UID:10012484-1746124200-1746129600@stmaa.org
SUMMARY:AA meeting
DESCRIPTION:
URL:https://stmaa.org/event/aa-meeting/2025-05-01/
LOCATION:Nativity Hall\, 1704 NE 43rd Ave\, Portland\, OR\, 97213\, United States
CATEGORIES:Recovery meetings
GEO:37.09024;-95.712891
X-APPLE-STRUCTURED-LOCATION;VALUE=URI;X-ADDRESS=Nativity Hall 1704 NE 43rd Ave Portland OR 97213 United States;X-APPLE-RADIUS=500;X-TITLE=1704 NE 43rd Ave:geo:-95.712891,37.09024
END:VEVENT
BEGIN:VEVENT
DTSTART;TZID=America/Los_Angeles:20250501T170000
DTEND;TZID=America/Los_Angeles:20250501T183000
DTSTAMP:20260423T130527
CREATED:20240201T195611Z
LAST-MODIFIED:20240201T195719Z
UID:10012218-1746118800-1746124200@stmaa.org
SUMMARY:Women Celebrating in Recovery group
DESCRIPTION:
URL:https://stmaa.org/event/women-celebrating-in-recovery-group-2/2025-05-01/
LOCATION:Nativity Hall\, 1704 NE 43rd Ave\, Portland\, OR\, 97213\, United States
CATEGORIES:Recovery meetings
GEO:37.09024;-95.712891
X-APPLE-STRUCTURED-LOCATION;VALUE=URI;X-ADDRESS=Nativity Hall 1704 NE 43rd Ave Portland OR 97213 United States;X-APPLE-RADIUS=500;X-TITLE=1704 NE 43rd Ave:geo:-95.712891,37.09024
END:VEVENT
BEGIN:VEVENT
DTSTART;TZID=America/Los_Angeles:20250501T120000
DTEND;TZID=America/Los_Angeles:20250501T130000
DTSTAMP:20260423T130527
CREATED:20240113T201546Z
LAST-MODIFIED:20240113T201720Z
UID:10011890-1746100800-1746104400@stmaa.org
SUMMARY:It's in the Bag sack lunch offering
DESCRIPTION:
URL:https://stmaa.org/event/its-in-the-bag-sack-lunch-offering-2/2025-05-01/
LOCATION:Courtyard\, 1704 NE 43rd Ave\, Portland\, OR\, 97213\, United States
CATEGORIES:Outreach & Justice regular
END:VEVENT
BEGIN:VEVENT
DTSTART;TZID=America/Los_Angeles:20250427T183000
DTEND;TZID=America/Los_Angeles:20250427T203000
DTSTAMP:20260423T130527
CREATED:20230107T205128Z
LAST-MODIFIED:20240201T205234Z
UID:10012998-1745778600-1745785800@stmaa.org
SUMMARY:CA meeting
DESCRIPTION:
URL:https://stmaa.org/event/ca-meeting-3/2025-04-27/
LOCATION:Nativity Hall\, 1704 NE 43rd Ave\, Portland\, OR\, 97213\, United States
CATEGORIES:Recovery meetings
GEO:37.09024;-95.712891
X-APPLE-STRUCTURED-LOCATION;VALUE=URI;X-ADDRESS=Nativity Hall 1704 NE 43rd Ave Portland OR 97213 United States;X-APPLE-RADIUS=500;X-TITLE=1704 NE 43rd Ave:geo:-95.712891,37.09024
END:VEVENT
BEGIN:VEVENT
DTSTART;TZID=America/Los_Angeles:20250424T183000
DTEND;TZID=America/Los_Angeles:20250424T200000
DTSTAMP:20260423T130527
CREATED:20220307T201122Z
LAST-MODIFIED:20240201T200052Z
UID:10012483-1745519400-1745524800@stmaa.org
SUMMARY:AA meeting
DESCRIPTION:
URL:https://stmaa.org/event/aa-meeting/2025-04-24/
LOCATION:Nativity Hall\, 1704 NE 43rd Ave\, Portland\, OR\, 97213\, United States
CATEGORIES:Recovery meetings
GEO:37.09024;-95.712891
X-APPLE-STRUCTURED-LOCATION;VALUE=URI;X-ADDRESS=Nativity Hall 1704 NE 43rd Ave Portland OR 97213 United States;X-APPLE-RADIUS=500;X-TITLE=1704 NE 43rd Ave:geo:-95.712891,37.09024
END:VEVENT
BEGIN:VEVENT
DTSTART;TZID=America/Los_Angeles:20250424T170000
DTEND;TZID=America/Los_Angeles:20250424T183000
DTSTAMP:20260423T130527
CREATED:20240201T195611Z
LAST-MODIFIED:20240201T195719Z
UID:10012217-1745514000-1745519400@stmaa.org
SUMMARY:Women Celebrating in Recovery group
DESCRIPTION:
URL:https://stmaa.org/event/women-celebrating-in-recovery-group-2/2025-04-24/
LOCATION:Nativity Hall\, 1704 NE 43rd Ave\, Portland\, OR\, 97213\, United States
CATEGORIES:Recovery meetings
GEO:37.09024;-95.712891
X-APPLE-STRUCTURED-LOCATION;VALUE=URI;X-ADDRESS=Nativity Hall 1704 NE 43rd Ave Portland OR 97213 United States;X-APPLE-RADIUS=500;X-TITLE=1704 NE 43rd Ave:geo:-95.712891,37.09024
END:VEVENT
BEGIN:VEVENT
DTSTART;TZID=America/Los_Angeles:20250424T120000
DTEND;TZID=America/Los_Angeles:20250424T130000
DTSTAMP:20260423T130527
CREATED:20240113T201546Z
LAST-MODIFIED:20240113T201720Z
UID:10011889-1745496000-1745499600@stmaa.org
SUMMARY:It's in the Bag sack lunch offering
DESCRIPTION:
URL:https://stmaa.org/event/its-in-the-bag-sack-lunch-offering-2/2025-04-24/
LOCATION:Courtyard\, 1704 NE 43rd Ave\, Portland\, OR\, 97213\, United States
CATEGORIES:Outreach & Justice regular
END:VEVENT
BEGIN:VEVENT
DTSTART;TZID=America/Los_Angeles:20250420T183000
DTEND;TZID=America/Los_Angeles:20250420T203000
DTSTAMP:20260423T130527
CREATED:20230107T205128Z
LAST-MODIFIED:20240201T205234Z
UID:10012997-1745173800-1745181000@stmaa.org
SUMMARY:CA meeting
DESCRIPTION:
URL:https://stmaa.org/event/ca-meeting-3/2025-04-20/
LOCATION:Nativity Hall\, 1704 NE 43rd Ave\, Portland\, OR\, 97213\, United States
CATEGORIES:Recovery meetings
GEO:37.09024;-95.712891
X-APPLE-STRUCTURED-LOCATION;VALUE=URI;X-ADDRESS=Nativity Hall 1704 NE 43rd Ave Portland OR 97213 United States;X-APPLE-RADIUS=500;X-TITLE=1704 NE 43rd Ave:geo:-95.712891,37.09024
END:VEVENT
BEGIN:VEVENT
DTSTART;TZID=America/Los_Angeles:20250417T183000
DTEND;TZID=America/Los_Angeles:20250417T200000
DTSTAMP:20260423T130527
CREATED:20220307T201122Z
LAST-MODIFIED:20240201T200052Z
UID:10012482-1744914600-1744920000@stmaa.org
SUMMARY:AA meeting
DESCRIPTION:
URL:https://stmaa.org/event/aa-meeting/2025-04-17/
LOCATION:Nativity Hall\, 1704 NE 43rd Ave\, Portland\, OR\, 97213\, United States
CATEGORIES:Recovery meetings
GEO:37.09024;-95.712891
X-APPLE-STRUCTURED-LOCATION;VALUE=URI;X-ADDRESS=Nativity Hall 1704 NE 43rd Ave Portland OR 97213 United States;X-APPLE-RADIUS=500;X-TITLE=1704 NE 43rd Ave:geo:-95.712891,37.09024
END:VEVENT
BEGIN:VEVENT
DTSTART;TZID=America/Los_Angeles:20250417T170000
DTEND;TZID=America/Los_Angeles:20250417T183000
DTSTAMP:20260423T130527
CREATED:20240201T195611Z
LAST-MODIFIED:20240201T195719Z
UID:10012216-1744909200-1744914600@stmaa.org
SUMMARY:Women Celebrating in Recovery group
DESCRIPTION:
URL:https://stmaa.org/event/women-celebrating-in-recovery-group-2/2025-04-17/
LOCATION:Nativity Hall\, 1704 NE 43rd Ave\, Portland\, OR\, 97213\, United States
CATEGORIES:Recovery meetings
GEO:37.09024;-95.712891
X-APPLE-STRUCTURED-LOCATION;VALUE=URI;X-ADDRESS=Nativity Hall 1704 NE 43rd Ave Portland OR 97213 United States;X-APPLE-RADIUS=500;X-TITLE=1704 NE 43rd Ave:geo:-95.712891,37.09024
END:VEVENT
BEGIN:VEVENT
DTSTART;TZID=America/Los_Angeles:20250417T120000
DTEND;TZID=America/Los_Angeles:20250417T130000
DTSTAMP:20260423T130527
CREATED:20240113T201546Z
LAST-MODIFIED:20240113T201720Z
UID:10011888-1744891200-1744894800@stmaa.org
SUMMARY:It's in the Bag sack lunch offering
DESCRIPTION:
URL:https://stmaa.org/event/its-in-the-bag-sack-lunch-offering-2/2025-04-17/
LOCATION:Courtyard\, 1704 NE 43rd Ave\, Portland\, OR\, 97213\, United States
CATEGORIES:Outreach & Justice regular
END:VEVENT
BEGIN:VEVENT
DTSTART;TZID=America/Los_Angeles:20250413T183000
DTEND;TZID=America/Los_Angeles:20250413T203000
DTSTAMP:20260423T130527
CREATED:20230107T205128Z
LAST-MODIFIED:20240201T205234Z
UID:10012996-1744569000-1744576200@stmaa.org
SUMMARY:CA meeting
DESCRIPTION:
URL:https://stmaa.org/event/ca-meeting-3/2025-04-13/
LOCATION:Nativity Hall\, 1704 NE 43rd Ave\, Portland\, OR\, 97213\, United States
CATEGORIES:Recovery meetings
GEO:37.09024;-95.712891
X-APPLE-STRUCTURED-LOCATION;VALUE=URI;X-ADDRESS=Nativity Hall 1704 NE 43rd Ave Portland OR 97213 United States;X-APPLE-RADIUS=500;X-TITLE=1704 NE 43rd Ave:geo:-95.712891,37.09024
END:VEVENT
BEGIN:VEVENT
DTSTART;TZID=America/Los_Angeles:20250410T183000
DTEND;TZID=America/Los_Angeles:20250410T200000
DTSTAMP:20260423T130527
CREATED:20220307T201122Z
LAST-MODIFIED:20240201T200052Z
UID:10012481-1744309800-1744315200@stmaa.org
SUMMARY:AA meeting
DESCRIPTION:
URL:https://stmaa.org/event/aa-meeting/2025-04-10/
LOCATION:Nativity Hall\, 1704 NE 43rd Ave\, Portland\, OR\, 97213\, United States
CATEGORIES:Recovery meetings
GEO:37.09024;-95.712891
X-APPLE-STRUCTURED-LOCATION;VALUE=URI;X-ADDRESS=Nativity Hall 1704 NE 43rd Ave Portland OR 97213 United States;X-APPLE-RADIUS=500;X-TITLE=1704 NE 43rd Ave:geo:-95.712891,37.09024
END:VEVENT
BEGIN:VEVENT
DTSTART;TZID=America/Los_Angeles:20250410T170000
DTEND;TZID=America/Los_Angeles:20250410T183000
DTSTAMP:20260423T130527
CREATED:20240201T195611Z
LAST-MODIFIED:20240201T195719Z
UID:10012215-1744304400-1744309800@stmaa.org
SUMMARY:Women Celebrating in Recovery group
DESCRIPTION:
URL:https://stmaa.org/event/women-celebrating-in-recovery-group-2/2025-04-10/
LOCATION:Nativity Hall\, 1704 NE 43rd Ave\, Portland\, OR\, 97213\, United States
CATEGORIES:Recovery meetings
GEO:37.09024;-95.712891
X-APPLE-STRUCTURED-LOCATION;VALUE=URI;X-ADDRESS=Nativity Hall 1704 NE 43rd Ave Portland OR 97213 United States;X-APPLE-RADIUS=500;X-TITLE=1704 NE 43rd Ave:geo:-95.712891,37.09024
END:VEVENT
BEGIN:VEVENT
DTSTART;TZID=America/Los_Angeles:20250410T120000
DTEND;TZID=America/Los_Angeles:20250410T130000
DTSTAMP:20260423T130527
CREATED:20240113T201546Z
LAST-MODIFIED:20240113T201720Z
UID:10011887-1744286400-1744290000@stmaa.org
SUMMARY:It's in the Bag sack lunch offering
DESCRIPTION:
URL:https://stmaa.org/event/its-in-the-bag-sack-lunch-offering-2/2025-04-10/
LOCATION:Courtyard\, 1704 NE 43rd Ave\, Portland\, OR\, 97213\, United States
CATEGORIES:Outreach & Justice regular
END:VEVENT
BEGIN:VEVENT
DTSTART;TZID=America/Los_Angeles:20250406T183000
DTEND;TZID=America/Los_Angeles:20250406T203000
DTSTAMP:20260423T130527
CREATED:20230107T205128Z
LAST-MODIFIED:20240201T205234Z
UID:10012995-1743964200-1743971400@stmaa.org
SUMMARY:CA meeting
DESCRIPTION:
URL:https://stmaa.org/event/ca-meeting-3/2025-04-06/
LOCATION:Nativity Hall\, 1704 NE 43rd Ave\, Portland\, OR\, 97213\, United States
CATEGORIES:Recovery meetings
GEO:37.09024;-95.712891
X-APPLE-STRUCTURED-LOCATION;VALUE=URI;X-ADDRESS=Nativity Hall 1704 NE 43rd Ave Portland OR 97213 United States;X-APPLE-RADIUS=500;X-TITLE=1704 NE 43rd Ave:geo:-95.712891,37.09024
END:VEVENT
BEGIN:VEVENT
DTSTART;TZID=America/Los_Angeles:20250403T183000
DTEND;TZID=America/Los_Angeles:20250403T200000
DTSTAMP:20260423T130527
CREATED:20220307T201122Z
LAST-MODIFIED:20240201T200052Z
UID:10012480-1743705000-1743710400@stmaa.org
SUMMARY:AA meeting
DESCRIPTION:
URL:https://stmaa.org/event/aa-meeting/2025-04-03/
LOCATION:Nativity Hall\, 1704 NE 43rd Ave\, Portland\, OR\, 97213\, United States
CATEGORIES:Recovery meetings
GEO:37.09024;-95.712891
X-APPLE-STRUCTURED-LOCATION;VALUE=URI;X-ADDRESS=Nativity Hall 1704 NE 43rd Ave Portland OR 97213 United States;X-APPLE-RADIUS=500;X-TITLE=1704 NE 43rd Ave:geo:-95.712891,37.09024
END:VEVENT
BEGIN:VEVENT
DTSTART;TZID=America/Los_Angeles:20250403T170000
DTEND;TZID=America/Los_Angeles:20250403T183000
DTSTAMP:20260423T130527
CREATED:20240201T195611Z
LAST-MODIFIED:20240201T195719Z
UID:10012214-1743699600-1743705000@stmaa.org
SUMMARY:Women Celebrating in Recovery group
DESCRIPTION:
URL:https://stmaa.org/event/women-celebrating-in-recovery-group-2/2025-04-03/
LOCATION:Nativity Hall\, 1704 NE 43rd Ave\, Portland\, OR\, 97213\, United States
CATEGORIES:Recovery meetings
GEO:37.09024;-95.712891
X-APPLE-STRUCTURED-LOCATION;VALUE=URI;X-ADDRESS=Nativity Hall 1704 NE 43rd Ave Portland OR 97213 United States;X-APPLE-RADIUS=500;X-TITLE=1704 NE 43rd Ave:geo:-95.712891,37.09024
END:VEVENT
BEGIN:VEVENT
DTSTART;TZID=America/Los_Angeles:20250403T120000
DTEND;TZID=America/Los_Angeles:20250403T130000
DTSTAMP:20260423T130527
CREATED:20240113T201546Z
LAST-MODIFIED:20240113T201720Z
UID:10011886-1743681600-1743685200@stmaa.org
SUMMARY:It's in the Bag sack lunch offering
DESCRIPTION:
URL:https://stmaa.org/event/its-in-the-bag-sack-lunch-offering-2/2025-04-03/
LOCATION:Courtyard\, 1704 NE 43rd Ave\, Portland\, OR\, 97213\, United States
CATEGORIES:Outreach & Justice regular
END:VEVENT
END:VCALENDAR