BEGIN:VCALENDAR
VERSION:2.0
PRODID:-//St. Michael &amp; All Angels Episcopal Church - ECPv6.15.18//NONSGML v1.0//EN
CALSCALE:GREGORIAN
METHOD:PUBLISH
X-WR-CALNAME:St. Michael &amp; All Angels Episcopal Church
X-ORIGINAL-URL:https://stmaa.org
X-WR-CALDESC:Events for St. Michael &amp; All Angels Episcopal Church
REFRESH-INTERVAL;VALUE=DURATION:PT1H
X-Robots-Tag:noindex
X-PUBLISHED-TTL:PT1H
BEGIN:VTIMEZONE
TZID:America/Los_Angeles
BEGIN:DAYLIGHT
TZOFFSETFROM:-0800
TZOFFSETTO:-0700
TZNAME:PDT
DTSTART:20240310T100000
END:DAYLIGHT
BEGIN:STANDARD
TZOFFSETFROM:-0700
TZOFFSETTO:-0800
TZNAME:PST
DTSTART:20241103T090000
END:STANDARD
BEGIN:DAYLIGHT
TZOFFSETFROM:-0800
TZOFFSETTO:-0700
TZNAME:PDT
DTSTART:20250309T100000
END:DAYLIGHT
BEGIN:STANDARD
TZOFFSETFROM:-0700
TZOFFSETTO:-0800
TZNAME:PST
DTSTART:20251102T090000
END:STANDARD
BEGIN:DAYLIGHT
TZOFFSETFROM:-0800
TZOFFSETTO:-0700
TZNAME:PDT
DTSTART:20260308T100000
END:DAYLIGHT
BEGIN:STANDARD
TZOFFSETFROM:-0700
TZOFFSETTO:-0800
TZNAME:PST
DTSTART:20261101T090000
END:STANDARD
END:VTIMEZONE
BEGIN:VEVENT
DTSTART;TZID=America/Los_Angeles:20250731T120000
DTEND;TZID=America/Los_Angeles:20250731T130000
DTSTAMP:20260421T175645
CREATED:20240113T201546Z
LAST-MODIFIED:20240113T201720Z
UID:10011903-1753963200-1753966800@stmaa.org
SUMMARY:It's in the Bag sack lunch offering
DESCRIPTION:
URL:https://stmaa.org/event/its-in-the-bag-sack-lunch-offering-2/2025-07-31/
LOCATION:Courtyard\, 1704 NE 43rd Ave\, Portland\, OR\, 97213\, United States
CATEGORIES:Outreach & Justice regular
END:VEVENT
BEGIN:VEVENT
DTSTART;TZID=America/Los_Angeles:20250727T183000
DTEND;TZID=America/Los_Angeles:20250727T203000
DTSTAMP:20260421T175645
CREATED:20230107T205128Z
LAST-MODIFIED:20240201T205234Z
UID:10013011-1753641000-1753648200@stmaa.org
SUMMARY:CA meeting
DESCRIPTION:
URL:https://stmaa.org/event/ca-meeting-3/2025-07-27/
LOCATION:Nativity Hall\, 1704 NE 43rd Ave\, Portland\, OR\, 97213\, United States
CATEGORIES:Recovery meetings
GEO:37.09024;-95.712891
X-APPLE-STRUCTURED-LOCATION;VALUE=URI;X-ADDRESS=Nativity Hall 1704 NE 43rd Ave Portland OR 97213 United States;X-APPLE-RADIUS=500;X-TITLE=1704 NE 43rd Ave:geo:-95.712891,37.09024
END:VEVENT
BEGIN:VEVENT
DTSTART;TZID=America/Los_Angeles:20250724T183000
DTEND;TZID=America/Los_Angeles:20250724T200000
DTSTAMP:20260421T175645
CREATED:20220307T201122Z
LAST-MODIFIED:20240201T200052Z
UID:10012496-1753381800-1753387200@stmaa.org
SUMMARY:AA meeting
DESCRIPTION:
URL:https://stmaa.org/event/aa-meeting/2025-07-24/
LOCATION:Nativity Hall\, 1704 NE 43rd Ave\, Portland\, OR\, 97213\, United States
CATEGORIES:Recovery meetings
GEO:37.09024;-95.712891
X-APPLE-STRUCTURED-LOCATION;VALUE=URI;X-ADDRESS=Nativity Hall 1704 NE 43rd Ave Portland OR 97213 United States;X-APPLE-RADIUS=500;X-TITLE=1704 NE 43rd Ave:geo:-95.712891,37.09024
END:VEVENT
BEGIN:VEVENT
DTSTART;TZID=America/Los_Angeles:20250724T170000
DTEND;TZID=America/Los_Angeles:20250724T183000
DTSTAMP:20260421T175645
CREATED:20240201T195611Z
LAST-MODIFIED:20240201T195719Z
UID:10012230-1753376400-1753381800@stmaa.org
SUMMARY:Women Celebrating in Recovery group
DESCRIPTION:
URL:https://stmaa.org/event/women-celebrating-in-recovery-group-2/2025-07-24/
LOCATION:Nativity Hall\, 1704 NE 43rd Ave\, Portland\, OR\, 97213\, United States
CATEGORIES:Recovery meetings
GEO:37.09024;-95.712891
X-APPLE-STRUCTURED-LOCATION;VALUE=URI;X-ADDRESS=Nativity Hall 1704 NE 43rd Ave Portland OR 97213 United States;X-APPLE-RADIUS=500;X-TITLE=1704 NE 43rd Ave:geo:-95.712891,37.09024
END:VEVENT
BEGIN:VEVENT
DTSTART;TZID=America/Los_Angeles:20250724T120000
DTEND;TZID=America/Los_Angeles:20250724T130000
DTSTAMP:20260421T175645
CREATED:20240113T201546Z
LAST-MODIFIED:20240113T201720Z
UID:10011902-1753358400-1753362000@stmaa.org
SUMMARY:It's in the Bag sack lunch offering
DESCRIPTION:
URL:https://stmaa.org/event/its-in-the-bag-sack-lunch-offering-2/2025-07-24/
LOCATION:Courtyard\, 1704 NE 43rd Ave\, Portland\, OR\, 97213\, United States
CATEGORIES:Outreach & Justice regular
END:VEVENT
BEGIN:VEVENT
DTSTART;TZID=America/Los_Angeles:20250720T183000
DTEND;TZID=America/Los_Angeles:20250720T203000
DTSTAMP:20260421T175645
CREATED:20230107T205128Z
LAST-MODIFIED:20240201T205234Z
UID:10013010-1753036200-1753043400@stmaa.org
SUMMARY:CA meeting
DESCRIPTION:
URL:https://stmaa.org/event/ca-meeting-3/2025-07-20/
LOCATION:Nativity Hall\, 1704 NE 43rd Ave\, Portland\, OR\, 97213\, United States
CATEGORIES:Recovery meetings
GEO:37.09024;-95.712891
X-APPLE-STRUCTURED-LOCATION;VALUE=URI;X-ADDRESS=Nativity Hall 1704 NE 43rd Ave Portland OR 97213 United States;X-APPLE-RADIUS=500;X-TITLE=1704 NE 43rd Ave:geo:-95.712891,37.09024
END:VEVENT
BEGIN:VEVENT
DTSTART;TZID=America/Los_Angeles:20250717T183000
DTEND;TZID=America/Los_Angeles:20250717T200000
DTSTAMP:20260421T175645
CREATED:20220307T201122Z
LAST-MODIFIED:20240201T200052Z
UID:10012495-1752777000-1752782400@stmaa.org
SUMMARY:AA meeting
DESCRIPTION:
URL:https://stmaa.org/event/aa-meeting/2025-07-17/
LOCATION:Nativity Hall\, 1704 NE 43rd Ave\, Portland\, OR\, 97213\, United States
CATEGORIES:Recovery meetings
GEO:37.09024;-95.712891
X-APPLE-STRUCTURED-LOCATION;VALUE=URI;X-ADDRESS=Nativity Hall 1704 NE 43rd Ave Portland OR 97213 United States;X-APPLE-RADIUS=500;X-TITLE=1704 NE 43rd Ave:geo:-95.712891,37.09024
END:VEVENT
BEGIN:VEVENT
DTSTART;TZID=America/Los_Angeles:20250717T170000
DTEND;TZID=America/Los_Angeles:20250717T183000
DTSTAMP:20260421T175645
CREATED:20240201T195611Z
LAST-MODIFIED:20240201T195719Z
UID:10012229-1752771600-1752777000@stmaa.org
SUMMARY:Women Celebrating in Recovery group
DESCRIPTION:
URL:https://stmaa.org/event/women-celebrating-in-recovery-group-2/2025-07-17/
LOCATION:Nativity Hall\, 1704 NE 43rd Ave\, Portland\, OR\, 97213\, United States
CATEGORIES:Recovery meetings
GEO:37.09024;-95.712891
X-APPLE-STRUCTURED-LOCATION;VALUE=URI;X-ADDRESS=Nativity Hall 1704 NE 43rd Ave Portland OR 97213 United States;X-APPLE-RADIUS=500;X-TITLE=1704 NE 43rd Ave:geo:-95.712891,37.09024
END:VEVENT
BEGIN:VEVENT
DTSTART;TZID=America/Los_Angeles:20250717T120000
DTEND;TZID=America/Los_Angeles:20250717T130000
DTSTAMP:20260421T175645
CREATED:20240113T201546Z
LAST-MODIFIED:20240113T201720Z
UID:10011901-1752753600-1752757200@stmaa.org
SUMMARY:It's in the Bag sack lunch offering
DESCRIPTION:
URL:https://stmaa.org/event/its-in-the-bag-sack-lunch-offering-2/2025-07-17/
LOCATION:Courtyard\, 1704 NE 43rd Ave\, Portland\, OR\, 97213\, United States
CATEGORIES:Outreach & Justice regular
END:VEVENT
BEGIN:VEVENT
DTSTART;TZID=America/Los_Angeles:20250713T183000
DTEND;TZID=America/Los_Angeles:20250713T203000
DTSTAMP:20260421T175645
CREATED:20230107T205128Z
LAST-MODIFIED:20240201T205234Z
UID:10013009-1752431400-1752438600@stmaa.org
SUMMARY:CA meeting
DESCRIPTION:
URL:https://stmaa.org/event/ca-meeting-3/2025-07-13/
LOCATION:Nativity Hall\, 1704 NE 43rd Ave\, Portland\, OR\, 97213\, United States
CATEGORIES:Recovery meetings
GEO:37.09024;-95.712891
X-APPLE-STRUCTURED-LOCATION;VALUE=URI;X-ADDRESS=Nativity Hall 1704 NE 43rd Ave Portland OR 97213 United States;X-APPLE-RADIUS=500;X-TITLE=1704 NE 43rd Ave:geo:-95.712891,37.09024
END:VEVENT
BEGIN:VEVENT
DTSTART;TZID=America/Los_Angeles:20250710T183000
DTEND;TZID=America/Los_Angeles:20250710T200000
DTSTAMP:20260421T175645
CREATED:20220307T201122Z
LAST-MODIFIED:20240201T200052Z
UID:10012494-1752172200-1752177600@stmaa.org
SUMMARY:AA meeting
DESCRIPTION:
URL:https://stmaa.org/event/aa-meeting/2025-07-10/
LOCATION:Nativity Hall\, 1704 NE 43rd Ave\, Portland\, OR\, 97213\, United States
CATEGORIES:Recovery meetings
GEO:37.09024;-95.712891
X-APPLE-STRUCTURED-LOCATION;VALUE=URI;X-ADDRESS=Nativity Hall 1704 NE 43rd Ave Portland OR 97213 United States;X-APPLE-RADIUS=500;X-TITLE=1704 NE 43rd Ave:geo:-95.712891,37.09024
END:VEVENT
BEGIN:VEVENT
DTSTART;TZID=America/Los_Angeles:20250710T170000
DTEND;TZID=America/Los_Angeles:20250710T183000
DTSTAMP:20260421T175645
CREATED:20240201T195611Z
LAST-MODIFIED:20240201T195719Z
UID:10012228-1752166800-1752172200@stmaa.org
SUMMARY:Women Celebrating in Recovery group
DESCRIPTION:
URL:https://stmaa.org/event/women-celebrating-in-recovery-group-2/2025-07-10/
LOCATION:Nativity Hall\, 1704 NE 43rd Ave\, Portland\, OR\, 97213\, United States
CATEGORIES:Recovery meetings
GEO:37.09024;-95.712891
X-APPLE-STRUCTURED-LOCATION;VALUE=URI;X-ADDRESS=Nativity Hall 1704 NE 43rd Ave Portland OR 97213 United States;X-APPLE-RADIUS=500;X-TITLE=1704 NE 43rd Ave:geo:-95.712891,37.09024
END:VEVENT
BEGIN:VEVENT
DTSTART;TZID=America/Los_Angeles:20250710T120000
DTEND;TZID=America/Los_Angeles:20250710T130000
DTSTAMP:20260421T175645
CREATED:20240113T201546Z
LAST-MODIFIED:20240113T201720Z
UID:10011900-1752148800-1752152400@stmaa.org
SUMMARY:It's in the Bag sack lunch offering
DESCRIPTION:
URL:https://stmaa.org/event/its-in-the-bag-sack-lunch-offering-2/2025-07-10/
LOCATION:Courtyard\, 1704 NE 43rd Ave\, Portland\, OR\, 97213\, United States
CATEGORIES:Outreach & Justice regular
END:VEVENT
BEGIN:VEVENT
DTSTART;TZID=America/Los_Angeles:20250706T183000
DTEND;TZID=America/Los_Angeles:20250706T203000
DTSTAMP:20260421T175645
CREATED:20230107T205128Z
LAST-MODIFIED:20240201T205234Z
UID:10013008-1751826600-1751833800@stmaa.org
SUMMARY:CA meeting
DESCRIPTION:
URL:https://stmaa.org/event/ca-meeting-3/2025-07-06/
LOCATION:Nativity Hall\, 1704 NE 43rd Ave\, Portland\, OR\, 97213\, United States
CATEGORIES:Recovery meetings
GEO:37.09024;-95.712891
X-APPLE-STRUCTURED-LOCATION;VALUE=URI;X-ADDRESS=Nativity Hall 1704 NE 43rd Ave Portland OR 97213 United States;X-APPLE-RADIUS=500;X-TITLE=1704 NE 43rd Ave:geo:-95.712891,37.09024
END:VEVENT
BEGIN:VEVENT
DTSTART;TZID=America/Los_Angeles:20250703T183000
DTEND;TZID=America/Los_Angeles:20250703T200000
DTSTAMP:20260421T175645
CREATED:20220307T201122Z
LAST-MODIFIED:20240201T200052Z
UID:10012493-1751567400-1751572800@stmaa.org
SUMMARY:AA meeting
DESCRIPTION:
URL:https://stmaa.org/event/aa-meeting/2025-07-03/
LOCATION:Nativity Hall\, 1704 NE 43rd Ave\, Portland\, OR\, 97213\, United States
CATEGORIES:Recovery meetings
GEO:37.09024;-95.712891
X-APPLE-STRUCTURED-LOCATION;VALUE=URI;X-ADDRESS=Nativity Hall 1704 NE 43rd Ave Portland OR 97213 United States;X-APPLE-RADIUS=500;X-TITLE=1704 NE 43rd Ave:geo:-95.712891,37.09024
END:VEVENT
BEGIN:VEVENT
DTSTART;TZID=America/Los_Angeles:20250703T170000
DTEND;TZID=America/Los_Angeles:20250703T183000
DTSTAMP:20260421T175645
CREATED:20240201T195611Z
LAST-MODIFIED:20240201T195719Z
UID:10012227-1751562000-1751567400@stmaa.org
SUMMARY:Women Celebrating in Recovery group
DESCRIPTION:
URL:https://stmaa.org/event/women-celebrating-in-recovery-group-2/2025-07-03/
LOCATION:Nativity Hall\, 1704 NE 43rd Ave\, Portland\, OR\, 97213\, United States
CATEGORIES:Recovery meetings
GEO:37.09024;-95.712891
X-APPLE-STRUCTURED-LOCATION;VALUE=URI;X-ADDRESS=Nativity Hall 1704 NE 43rd Ave Portland OR 97213 United States;X-APPLE-RADIUS=500;X-TITLE=1704 NE 43rd Ave:geo:-95.712891,37.09024
END:VEVENT
BEGIN:VEVENT
DTSTART;TZID=America/Los_Angeles:20250703T120000
DTEND;TZID=America/Los_Angeles:20250703T130000
DTSTAMP:20260421T175645
CREATED:20240113T201546Z
LAST-MODIFIED:20240113T201720Z
UID:10011899-1751544000-1751547600@stmaa.org
SUMMARY:It's in the Bag sack lunch offering
DESCRIPTION:
URL:https://stmaa.org/event/its-in-the-bag-sack-lunch-offering-2/2025-07-03/
LOCATION:Courtyard\, 1704 NE 43rd Ave\, Portland\, OR\, 97213\, United States
CATEGORIES:Outreach & Justice regular
END:VEVENT
BEGIN:VEVENT
DTSTART;TZID=America/Los_Angeles:20250629T183000
DTEND;TZID=America/Los_Angeles:20250629T203000
DTSTAMP:20260421T175645
CREATED:20230107T205128Z
LAST-MODIFIED:20240201T205234Z
UID:10013007-1751221800-1751229000@stmaa.org
SUMMARY:CA meeting
DESCRIPTION:
URL:https://stmaa.org/event/ca-meeting-3/2025-06-29/
LOCATION:Nativity Hall\, 1704 NE 43rd Ave\, Portland\, OR\, 97213\, United States
CATEGORIES:Recovery meetings
GEO:37.09024;-95.712891
X-APPLE-STRUCTURED-LOCATION;VALUE=URI;X-ADDRESS=Nativity Hall 1704 NE 43rd Ave Portland OR 97213 United States;X-APPLE-RADIUS=500;X-TITLE=1704 NE 43rd Ave:geo:-95.712891,37.09024
END:VEVENT
BEGIN:VEVENT
DTSTART;TZID=America/Los_Angeles:20250626T183000
DTEND;TZID=America/Los_Angeles:20250626T200000
DTSTAMP:20260421T175645
CREATED:20220307T201122Z
LAST-MODIFIED:20240201T200052Z
UID:10012492-1750962600-1750968000@stmaa.org
SUMMARY:AA meeting
DESCRIPTION:
URL:https://stmaa.org/event/aa-meeting/2025-06-26/
LOCATION:Nativity Hall\, 1704 NE 43rd Ave\, Portland\, OR\, 97213\, United States
CATEGORIES:Recovery meetings
GEO:37.09024;-95.712891
X-APPLE-STRUCTURED-LOCATION;VALUE=URI;X-ADDRESS=Nativity Hall 1704 NE 43rd Ave Portland OR 97213 United States;X-APPLE-RADIUS=500;X-TITLE=1704 NE 43rd Ave:geo:-95.712891,37.09024
END:VEVENT
BEGIN:VEVENT
DTSTART;TZID=America/Los_Angeles:20250626T170000
DTEND;TZID=America/Los_Angeles:20250626T183000
DTSTAMP:20260421T175645
CREATED:20240201T195611Z
LAST-MODIFIED:20240201T195719Z
UID:10012226-1750957200-1750962600@stmaa.org
SUMMARY:Women Celebrating in Recovery group
DESCRIPTION:
URL:https://stmaa.org/event/women-celebrating-in-recovery-group-2/2025-06-26/
LOCATION:Nativity Hall\, 1704 NE 43rd Ave\, Portland\, OR\, 97213\, United States
CATEGORIES:Recovery meetings
GEO:37.09024;-95.712891
X-APPLE-STRUCTURED-LOCATION;VALUE=URI;X-ADDRESS=Nativity Hall 1704 NE 43rd Ave Portland OR 97213 United States;X-APPLE-RADIUS=500;X-TITLE=1704 NE 43rd Ave:geo:-95.712891,37.09024
END:VEVENT
BEGIN:VEVENT
DTSTART;TZID=America/Los_Angeles:20250626T120000
DTEND;TZID=America/Los_Angeles:20250626T130000
DTSTAMP:20260421T175645
CREATED:20240113T201546Z
LAST-MODIFIED:20240113T201720Z
UID:10011898-1750939200-1750942800@stmaa.org
SUMMARY:It's in the Bag sack lunch offering
DESCRIPTION:
URL:https://stmaa.org/event/its-in-the-bag-sack-lunch-offering-2/2025-06-26/
LOCATION:Courtyard\, 1704 NE 43rd Ave\, Portland\, OR\, 97213\, United States
CATEGORIES:Outreach & Justice regular
END:VEVENT
BEGIN:VEVENT
DTSTART;TZID=America/Los_Angeles:20250622T183000
DTEND;TZID=America/Los_Angeles:20250622T203000
DTSTAMP:20260421T175645
CREATED:20230107T205128Z
LAST-MODIFIED:20240201T205234Z
UID:10013006-1750617000-1750624200@stmaa.org
SUMMARY:CA meeting
DESCRIPTION:
URL:https://stmaa.org/event/ca-meeting-3/2025-06-22/
LOCATION:Nativity Hall\, 1704 NE 43rd Ave\, Portland\, OR\, 97213\, United States
CATEGORIES:Recovery meetings
GEO:37.09024;-95.712891
X-APPLE-STRUCTURED-LOCATION;VALUE=URI;X-ADDRESS=Nativity Hall 1704 NE 43rd Ave Portland OR 97213 United States;X-APPLE-RADIUS=500;X-TITLE=1704 NE 43rd Ave:geo:-95.712891,37.09024
END:VEVENT
BEGIN:VEVENT
DTSTART;TZID=America/Los_Angeles:20250619T183000
DTEND;TZID=America/Los_Angeles:20250619T200000
DTSTAMP:20260421T175645
CREATED:20220307T201122Z
LAST-MODIFIED:20240201T200052Z
UID:10012491-1750357800-1750363200@stmaa.org
SUMMARY:AA meeting
DESCRIPTION:
URL:https://stmaa.org/event/aa-meeting/2025-06-19/
LOCATION:Nativity Hall\, 1704 NE 43rd Ave\, Portland\, OR\, 97213\, United States
CATEGORIES:Recovery meetings
GEO:37.09024;-95.712891
X-APPLE-STRUCTURED-LOCATION;VALUE=URI;X-ADDRESS=Nativity Hall 1704 NE 43rd Ave Portland OR 97213 United States;X-APPLE-RADIUS=500;X-TITLE=1704 NE 43rd Ave:geo:-95.712891,37.09024
END:VEVENT
BEGIN:VEVENT
DTSTART;TZID=America/Los_Angeles:20250619T170000
DTEND;TZID=America/Los_Angeles:20250619T183000
DTSTAMP:20260421T175645
CREATED:20240201T195611Z
LAST-MODIFIED:20240201T195719Z
UID:10012225-1750352400-1750357800@stmaa.org
SUMMARY:Women Celebrating in Recovery group
DESCRIPTION:
URL:https://stmaa.org/event/women-celebrating-in-recovery-group-2/2025-06-19/
LOCATION:Nativity Hall\, 1704 NE 43rd Ave\, Portland\, OR\, 97213\, United States
CATEGORIES:Recovery meetings
GEO:37.09024;-95.712891
X-APPLE-STRUCTURED-LOCATION;VALUE=URI;X-ADDRESS=Nativity Hall 1704 NE 43rd Ave Portland OR 97213 United States;X-APPLE-RADIUS=500;X-TITLE=1704 NE 43rd Ave:geo:-95.712891,37.09024
END:VEVENT
BEGIN:VEVENT
DTSTART;TZID=America/Los_Angeles:20250619T120000
DTEND;TZID=America/Los_Angeles:20250619T130000
DTSTAMP:20260421T175645
CREATED:20240113T201546Z
LAST-MODIFIED:20240113T201720Z
UID:10011897-1750334400-1750338000@stmaa.org
SUMMARY:It's in the Bag sack lunch offering
DESCRIPTION:
URL:https://stmaa.org/event/its-in-the-bag-sack-lunch-offering-2/2025-06-19/
LOCATION:Courtyard\, 1704 NE 43rd Ave\, Portland\, OR\, 97213\, United States
CATEGORIES:Outreach & Justice regular
END:VEVENT
BEGIN:VEVENT
DTSTART;TZID=America/Los_Angeles:20250615T183000
DTEND;TZID=America/Los_Angeles:20250615T203000
DTSTAMP:20260421T175645
CREATED:20230107T205128Z
LAST-MODIFIED:20240201T205234Z
UID:10013005-1750012200-1750019400@stmaa.org
SUMMARY:CA meeting
DESCRIPTION:
URL:https://stmaa.org/event/ca-meeting-3/2025-06-15/
LOCATION:Nativity Hall\, 1704 NE 43rd Ave\, Portland\, OR\, 97213\, United States
CATEGORIES:Recovery meetings
GEO:37.09024;-95.712891
X-APPLE-STRUCTURED-LOCATION;VALUE=URI;X-ADDRESS=Nativity Hall 1704 NE 43rd Ave Portland OR 97213 United States;X-APPLE-RADIUS=500;X-TITLE=1704 NE 43rd Ave:geo:-95.712891,37.09024
END:VEVENT
BEGIN:VEVENT
DTSTART;TZID=America/Los_Angeles:20250612T183000
DTEND;TZID=America/Los_Angeles:20250612T200000
DTSTAMP:20260421T175645
CREATED:20220307T201122Z
LAST-MODIFIED:20240201T200052Z
UID:10012490-1749753000-1749758400@stmaa.org
SUMMARY:AA meeting
DESCRIPTION:
URL:https://stmaa.org/event/aa-meeting/2025-06-12/
LOCATION:Nativity Hall\, 1704 NE 43rd Ave\, Portland\, OR\, 97213\, United States
CATEGORIES:Recovery meetings
GEO:37.09024;-95.712891
X-APPLE-STRUCTURED-LOCATION;VALUE=URI;X-ADDRESS=Nativity Hall 1704 NE 43rd Ave Portland OR 97213 United States;X-APPLE-RADIUS=500;X-TITLE=1704 NE 43rd Ave:geo:-95.712891,37.09024
END:VEVENT
BEGIN:VEVENT
DTSTART;TZID=America/Los_Angeles:20250612T170000
DTEND;TZID=America/Los_Angeles:20250612T183000
DTSTAMP:20260421T175645
CREATED:20240201T195611Z
LAST-MODIFIED:20240201T195719Z
UID:10012224-1749747600-1749753000@stmaa.org
SUMMARY:Women Celebrating in Recovery group
DESCRIPTION:
URL:https://stmaa.org/event/women-celebrating-in-recovery-group-2/2025-06-12/
LOCATION:Nativity Hall\, 1704 NE 43rd Ave\, Portland\, OR\, 97213\, United States
CATEGORIES:Recovery meetings
GEO:37.09024;-95.712891
X-APPLE-STRUCTURED-LOCATION;VALUE=URI;X-ADDRESS=Nativity Hall 1704 NE 43rd Ave Portland OR 97213 United States;X-APPLE-RADIUS=500;X-TITLE=1704 NE 43rd Ave:geo:-95.712891,37.09024
END:VEVENT
BEGIN:VEVENT
DTSTART;TZID=America/Los_Angeles:20250612T120000
DTEND;TZID=America/Los_Angeles:20250612T130000
DTSTAMP:20260421T175645
CREATED:20240113T201546Z
LAST-MODIFIED:20240113T201720Z
UID:10011896-1749729600-1749733200@stmaa.org
SUMMARY:It's in the Bag sack lunch offering
DESCRIPTION:
URL:https://stmaa.org/event/its-in-the-bag-sack-lunch-offering-2/2025-06-12/
LOCATION:Courtyard\, 1704 NE 43rd Ave\, Portland\, OR\, 97213\, United States
CATEGORIES:Outreach & Justice regular
END:VEVENT
BEGIN:VEVENT
DTSTART;TZID=America/Los_Angeles:20250608T183000
DTEND;TZID=America/Los_Angeles:20250608T203000
DTSTAMP:20260421T175645
CREATED:20230107T205128Z
LAST-MODIFIED:20240201T205234Z
UID:10013004-1749407400-1749414600@stmaa.org
SUMMARY:CA meeting
DESCRIPTION:
URL:https://stmaa.org/event/ca-meeting-3/2025-06-08/
LOCATION:Nativity Hall\, 1704 NE 43rd Ave\, Portland\, OR\, 97213\, United States
CATEGORIES:Recovery meetings
GEO:37.09024;-95.712891
X-APPLE-STRUCTURED-LOCATION;VALUE=URI;X-ADDRESS=Nativity Hall 1704 NE 43rd Ave Portland OR 97213 United States;X-APPLE-RADIUS=500;X-TITLE=1704 NE 43rd Ave:geo:-95.712891,37.09024
END:VEVENT
END:VCALENDAR