BEGIN:VCALENDAR
VERSION:2.0
PRODID:-//St. Michael &amp; All Angels Episcopal Church - ECPv6.15.18//NONSGML v1.0//EN
CALSCALE:GREGORIAN
METHOD:PUBLISH
X-WR-CALNAME:St. Michael &amp; All Angels Episcopal Church
X-ORIGINAL-URL:https://stmaa.org
X-WR-CALDESC:Events for St. Michael &amp; All Angels Episcopal Church
REFRESH-INTERVAL;VALUE=DURATION:PT1H
X-Robots-Tag:noindex
X-PUBLISHED-TTL:PT1H
BEGIN:VTIMEZONE
TZID:America/Los_Angeles
BEGIN:DAYLIGHT
TZOFFSETFROM:-0800
TZOFFSETTO:-0700
TZNAME:PDT
DTSTART:20240310T100000
END:DAYLIGHT
BEGIN:STANDARD
TZOFFSETFROM:-0700
TZOFFSETTO:-0800
TZNAME:PST
DTSTART:20241103T090000
END:STANDARD
BEGIN:DAYLIGHT
TZOFFSETFROM:-0800
TZOFFSETTO:-0700
TZNAME:PDT
DTSTART:20250309T100000
END:DAYLIGHT
BEGIN:STANDARD
TZOFFSETFROM:-0700
TZOFFSETTO:-0800
TZNAME:PST
DTSTART:20251102T090000
END:STANDARD
BEGIN:DAYLIGHT
TZOFFSETFROM:-0800
TZOFFSETTO:-0700
TZNAME:PDT
DTSTART:20260308T100000
END:DAYLIGHT
BEGIN:STANDARD
TZOFFSETFROM:-0700
TZOFFSETTO:-0800
TZNAME:PST
DTSTART:20261101T090000
END:STANDARD
END:VTIMEZONE
BEGIN:VEVENT
DTSTART;TZID=America/Los_Angeles:20250904T120000
DTEND;TZID=America/Los_Angeles:20250904T130000
DTSTAMP:20260419T093447
CREATED:20240113T201546Z
LAST-MODIFIED:20240113T201720Z
UID:10011908-1756987200-1756990800@stmaa.org
SUMMARY:It's in the Bag sack lunch offering
DESCRIPTION:
URL:https://stmaa.org/event/its-in-the-bag-sack-lunch-offering-2/2025-09-04/
LOCATION:Courtyard\, 1704 NE 43rd Ave\, Portland\, OR\, 97213\, United States
CATEGORIES:Outreach & Justice regular
END:VEVENT
BEGIN:VEVENT
DTSTART;TZID=America/Los_Angeles:20250831T183000
DTEND;TZID=America/Los_Angeles:20250831T203000
DTSTAMP:20260419T093447
CREATED:20230107T205128Z
LAST-MODIFIED:20240201T205234Z
UID:10013016-1756665000-1756672200@stmaa.org
SUMMARY:CA meeting
DESCRIPTION:
URL:https://stmaa.org/event/ca-meeting-3/2025-08-31/
LOCATION:Nativity Hall\, 1704 NE 43rd Ave\, Portland\, OR\, 97213\, United States
CATEGORIES:Recovery meetings
GEO:37.09024;-95.712891
X-APPLE-STRUCTURED-LOCATION;VALUE=URI;X-ADDRESS=Nativity Hall 1704 NE 43rd Ave Portland OR 97213 United States;X-APPLE-RADIUS=500;X-TITLE=1704 NE 43rd Ave:geo:-95.712891,37.09024
END:VEVENT
BEGIN:VEVENT
DTSTART;TZID=America/Los_Angeles:20250828T183000
DTEND;TZID=America/Los_Angeles:20250828T200000
DTSTAMP:20260419T093447
CREATED:20220307T201122Z
LAST-MODIFIED:20240201T200052Z
UID:10012501-1756405800-1756411200@stmaa.org
SUMMARY:AA meeting
DESCRIPTION:
URL:https://stmaa.org/event/aa-meeting/2025-08-28/
LOCATION:Nativity Hall\, 1704 NE 43rd Ave\, Portland\, OR\, 97213\, United States
CATEGORIES:Recovery meetings
GEO:37.09024;-95.712891
X-APPLE-STRUCTURED-LOCATION;VALUE=URI;X-ADDRESS=Nativity Hall 1704 NE 43rd Ave Portland OR 97213 United States;X-APPLE-RADIUS=500;X-TITLE=1704 NE 43rd Ave:geo:-95.712891,37.09024
END:VEVENT
BEGIN:VEVENT
DTSTART;TZID=America/Los_Angeles:20250828T170000
DTEND;TZID=America/Los_Angeles:20250828T183000
DTSTAMP:20260419T093447
CREATED:20240201T195611Z
LAST-MODIFIED:20240201T195719Z
UID:10012235-1756400400-1756405800@stmaa.org
SUMMARY:Women Celebrating in Recovery group
DESCRIPTION:
URL:https://stmaa.org/event/women-celebrating-in-recovery-group-2/2025-08-28/
LOCATION:Nativity Hall\, 1704 NE 43rd Ave\, Portland\, OR\, 97213\, United States
CATEGORIES:Recovery meetings
GEO:37.09024;-95.712891
X-APPLE-STRUCTURED-LOCATION;VALUE=URI;X-ADDRESS=Nativity Hall 1704 NE 43rd Ave Portland OR 97213 United States;X-APPLE-RADIUS=500;X-TITLE=1704 NE 43rd Ave:geo:-95.712891,37.09024
END:VEVENT
BEGIN:VEVENT
DTSTART;TZID=America/Los_Angeles:20250828T120000
DTEND;TZID=America/Los_Angeles:20250828T130000
DTSTAMP:20260419T093447
CREATED:20240113T201546Z
LAST-MODIFIED:20240113T201720Z
UID:10011907-1756382400-1756386000@stmaa.org
SUMMARY:It's in the Bag sack lunch offering
DESCRIPTION:
URL:https://stmaa.org/event/its-in-the-bag-sack-lunch-offering-2/2025-08-28/
LOCATION:Courtyard\, 1704 NE 43rd Ave\, Portland\, OR\, 97213\, United States
CATEGORIES:Outreach & Justice regular
END:VEVENT
BEGIN:VEVENT
DTSTART;TZID=America/Los_Angeles:20250824T183000
DTEND;TZID=America/Los_Angeles:20250824T203000
DTSTAMP:20260419T093447
CREATED:20230107T205128Z
LAST-MODIFIED:20240201T205234Z
UID:10013015-1756060200-1756067400@stmaa.org
SUMMARY:CA meeting
DESCRIPTION:
URL:https://stmaa.org/event/ca-meeting-3/2025-08-24/
LOCATION:Nativity Hall\, 1704 NE 43rd Ave\, Portland\, OR\, 97213\, United States
CATEGORIES:Recovery meetings
GEO:37.09024;-95.712891
X-APPLE-STRUCTURED-LOCATION;VALUE=URI;X-ADDRESS=Nativity Hall 1704 NE 43rd Ave Portland OR 97213 United States;X-APPLE-RADIUS=500;X-TITLE=1704 NE 43rd Ave:geo:-95.712891,37.09024
END:VEVENT
BEGIN:VEVENT
DTSTART;TZID=America/Los_Angeles:20250821T183000
DTEND;TZID=America/Los_Angeles:20250821T200000
DTSTAMP:20260419T093447
CREATED:20220307T201122Z
LAST-MODIFIED:20240201T200052Z
UID:10012500-1755801000-1755806400@stmaa.org
SUMMARY:AA meeting
DESCRIPTION:
URL:https://stmaa.org/event/aa-meeting/2025-08-21/
LOCATION:Nativity Hall\, 1704 NE 43rd Ave\, Portland\, OR\, 97213\, United States
CATEGORIES:Recovery meetings
GEO:37.09024;-95.712891
X-APPLE-STRUCTURED-LOCATION;VALUE=URI;X-ADDRESS=Nativity Hall 1704 NE 43rd Ave Portland OR 97213 United States;X-APPLE-RADIUS=500;X-TITLE=1704 NE 43rd Ave:geo:-95.712891,37.09024
END:VEVENT
BEGIN:VEVENT
DTSTART;TZID=America/Los_Angeles:20250821T170000
DTEND;TZID=America/Los_Angeles:20250821T183000
DTSTAMP:20260419T093447
CREATED:20240201T195611Z
LAST-MODIFIED:20240201T195719Z
UID:10012234-1755795600-1755801000@stmaa.org
SUMMARY:Women Celebrating in Recovery group
DESCRIPTION:
URL:https://stmaa.org/event/women-celebrating-in-recovery-group-2/2025-08-21/
LOCATION:Nativity Hall\, 1704 NE 43rd Ave\, Portland\, OR\, 97213\, United States
CATEGORIES:Recovery meetings
GEO:37.09024;-95.712891
X-APPLE-STRUCTURED-LOCATION;VALUE=URI;X-ADDRESS=Nativity Hall 1704 NE 43rd Ave Portland OR 97213 United States;X-APPLE-RADIUS=500;X-TITLE=1704 NE 43rd Ave:geo:-95.712891,37.09024
END:VEVENT
BEGIN:VEVENT
DTSTART;TZID=America/Los_Angeles:20250821T120000
DTEND;TZID=America/Los_Angeles:20250821T130000
DTSTAMP:20260419T093447
CREATED:20240113T201546Z
LAST-MODIFIED:20240113T201720Z
UID:10011906-1755777600-1755781200@stmaa.org
SUMMARY:It's in the Bag sack lunch offering
DESCRIPTION:
URL:https://stmaa.org/event/its-in-the-bag-sack-lunch-offering-2/2025-08-21/
LOCATION:Courtyard\, 1704 NE 43rd Ave\, Portland\, OR\, 97213\, United States
CATEGORIES:Outreach & Justice regular
END:VEVENT
BEGIN:VEVENT
DTSTART;TZID=America/Los_Angeles:20250817T183000
DTEND;TZID=America/Los_Angeles:20250817T203000
DTSTAMP:20260419T093447
CREATED:20230107T205128Z
LAST-MODIFIED:20240201T205234Z
UID:10013014-1755455400-1755462600@stmaa.org
SUMMARY:CA meeting
DESCRIPTION:
URL:https://stmaa.org/event/ca-meeting-3/2025-08-17/
LOCATION:Nativity Hall\, 1704 NE 43rd Ave\, Portland\, OR\, 97213\, United States
CATEGORIES:Recovery meetings
GEO:37.09024;-95.712891
X-APPLE-STRUCTURED-LOCATION;VALUE=URI;X-ADDRESS=Nativity Hall 1704 NE 43rd Ave Portland OR 97213 United States;X-APPLE-RADIUS=500;X-TITLE=1704 NE 43rd Ave:geo:-95.712891,37.09024
END:VEVENT
BEGIN:VEVENT
DTSTART;TZID=America/Los_Angeles:20250814T183000
DTEND;TZID=America/Los_Angeles:20250814T200000
DTSTAMP:20260419T093447
CREATED:20220307T201122Z
LAST-MODIFIED:20240201T200052Z
UID:10012499-1755196200-1755201600@stmaa.org
SUMMARY:AA meeting
DESCRIPTION:
URL:https://stmaa.org/event/aa-meeting/2025-08-14/
LOCATION:Nativity Hall\, 1704 NE 43rd Ave\, Portland\, OR\, 97213\, United States
CATEGORIES:Recovery meetings
GEO:37.09024;-95.712891
X-APPLE-STRUCTURED-LOCATION;VALUE=URI;X-ADDRESS=Nativity Hall 1704 NE 43rd Ave Portland OR 97213 United States;X-APPLE-RADIUS=500;X-TITLE=1704 NE 43rd Ave:geo:-95.712891,37.09024
END:VEVENT
BEGIN:VEVENT
DTSTART;TZID=America/Los_Angeles:20250814T170000
DTEND;TZID=America/Los_Angeles:20250814T183000
DTSTAMP:20260419T093447
CREATED:20240201T195611Z
LAST-MODIFIED:20240201T195719Z
UID:10012233-1755190800-1755196200@stmaa.org
SUMMARY:Women Celebrating in Recovery group
DESCRIPTION:
URL:https://stmaa.org/event/women-celebrating-in-recovery-group-2/2025-08-14/
LOCATION:Nativity Hall\, 1704 NE 43rd Ave\, Portland\, OR\, 97213\, United States
CATEGORIES:Recovery meetings
GEO:37.09024;-95.712891
X-APPLE-STRUCTURED-LOCATION;VALUE=URI;X-ADDRESS=Nativity Hall 1704 NE 43rd Ave Portland OR 97213 United States;X-APPLE-RADIUS=500;X-TITLE=1704 NE 43rd Ave:geo:-95.712891,37.09024
END:VEVENT
BEGIN:VEVENT
DTSTART;TZID=America/Los_Angeles:20250814T120000
DTEND;TZID=America/Los_Angeles:20250814T130000
DTSTAMP:20260419T093447
CREATED:20240113T201546Z
LAST-MODIFIED:20240113T201720Z
UID:10011905-1755172800-1755176400@stmaa.org
SUMMARY:It's in the Bag sack lunch offering
DESCRIPTION:
URL:https://stmaa.org/event/its-in-the-bag-sack-lunch-offering-2/2025-08-14/
LOCATION:Courtyard\, 1704 NE 43rd Ave\, Portland\, OR\, 97213\, United States
CATEGORIES:Outreach & Justice regular
END:VEVENT
BEGIN:VEVENT
DTSTART;TZID=America/Los_Angeles:20250810T183000
DTEND;TZID=America/Los_Angeles:20250810T203000
DTSTAMP:20260419T093447
CREATED:20230107T205128Z
LAST-MODIFIED:20240201T205234Z
UID:10013013-1754850600-1754857800@stmaa.org
SUMMARY:CA meeting
DESCRIPTION:
URL:https://stmaa.org/event/ca-meeting-3/2025-08-10/
LOCATION:Nativity Hall\, 1704 NE 43rd Ave\, Portland\, OR\, 97213\, United States
CATEGORIES:Recovery meetings
GEO:37.09024;-95.712891
X-APPLE-STRUCTURED-LOCATION;VALUE=URI;X-ADDRESS=Nativity Hall 1704 NE 43rd Ave Portland OR 97213 United States;X-APPLE-RADIUS=500;X-TITLE=1704 NE 43rd Ave:geo:-95.712891,37.09024
END:VEVENT
BEGIN:VEVENT
DTSTART;TZID=America/Los_Angeles:20250807T183000
DTEND;TZID=America/Los_Angeles:20250807T200000
DTSTAMP:20260419T093447
CREATED:20220307T201122Z
LAST-MODIFIED:20240201T200052Z
UID:10012498-1754591400-1754596800@stmaa.org
SUMMARY:AA meeting
DESCRIPTION:
URL:https://stmaa.org/event/aa-meeting/2025-08-07/
LOCATION:Nativity Hall\, 1704 NE 43rd Ave\, Portland\, OR\, 97213\, United States
CATEGORIES:Recovery meetings
GEO:37.09024;-95.712891
X-APPLE-STRUCTURED-LOCATION;VALUE=URI;X-ADDRESS=Nativity Hall 1704 NE 43rd Ave Portland OR 97213 United States;X-APPLE-RADIUS=500;X-TITLE=1704 NE 43rd Ave:geo:-95.712891,37.09024
END:VEVENT
BEGIN:VEVENT
DTSTART;TZID=America/Los_Angeles:20250807T170000
DTEND;TZID=America/Los_Angeles:20250807T183000
DTSTAMP:20260419T093447
CREATED:20240201T195611Z
LAST-MODIFIED:20240201T195719Z
UID:10012232-1754586000-1754591400@stmaa.org
SUMMARY:Women Celebrating in Recovery group
DESCRIPTION:
URL:https://stmaa.org/event/women-celebrating-in-recovery-group-2/2025-08-07/
LOCATION:Nativity Hall\, 1704 NE 43rd Ave\, Portland\, OR\, 97213\, United States
CATEGORIES:Recovery meetings
GEO:37.09024;-95.712891
X-APPLE-STRUCTURED-LOCATION;VALUE=URI;X-ADDRESS=Nativity Hall 1704 NE 43rd Ave Portland OR 97213 United States;X-APPLE-RADIUS=500;X-TITLE=1704 NE 43rd Ave:geo:-95.712891,37.09024
END:VEVENT
BEGIN:VEVENT
DTSTART;TZID=America/Los_Angeles:20250807T120000
DTEND;TZID=America/Los_Angeles:20250807T130000
DTSTAMP:20260419T093447
CREATED:20240113T201546Z
LAST-MODIFIED:20240113T201720Z
UID:10011904-1754568000-1754571600@stmaa.org
SUMMARY:It's in the Bag sack lunch offering
DESCRIPTION:
URL:https://stmaa.org/event/its-in-the-bag-sack-lunch-offering-2/2025-08-07/
LOCATION:Courtyard\, 1704 NE 43rd Ave\, Portland\, OR\, 97213\, United States
CATEGORIES:Outreach & Justice regular
END:VEVENT
BEGIN:VEVENT
DTSTART;TZID=America/Los_Angeles:20250803T183000
DTEND;TZID=America/Los_Angeles:20250803T203000
DTSTAMP:20260419T093447
CREATED:20230107T205128Z
LAST-MODIFIED:20240201T205234Z
UID:10013012-1754245800-1754253000@stmaa.org
SUMMARY:CA meeting
DESCRIPTION:
URL:https://stmaa.org/event/ca-meeting-3/2025-08-03/
LOCATION:Nativity Hall\, 1704 NE 43rd Ave\, Portland\, OR\, 97213\, United States
CATEGORIES:Recovery meetings
GEO:37.09024;-95.712891
X-APPLE-STRUCTURED-LOCATION;VALUE=URI;X-ADDRESS=Nativity Hall 1704 NE 43rd Ave Portland OR 97213 United States;X-APPLE-RADIUS=500;X-TITLE=1704 NE 43rd Ave:geo:-95.712891,37.09024
END:VEVENT
BEGIN:VEVENT
DTSTART;TZID=America/Los_Angeles:20250731T183000
DTEND;TZID=America/Los_Angeles:20250731T200000
DTSTAMP:20260419T093447
CREATED:20220307T201122Z
LAST-MODIFIED:20240201T200052Z
UID:10012497-1753986600-1753992000@stmaa.org
SUMMARY:AA meeting
DESCRIPTION:
URL:https://stmaa.org/event/aa-meeting/2025-07-31/
LOCATION:Nativity Hall\, 1704 NE 43rd Ave\, Portland\, OR\, 97213\, United States
CATEGORIES:Recovery meetings
GEO:37.09024;-95.712891
X-APPLE-STRUCTURED-LOCATION;VALUE=URI;X-ADDRESS=Nativity Hall 1704 NE 43rd Ave Portland OR 97213 United States;X-APPLE-RADIUS=500;X-TITLE=1704 NE 43rd Ave:geo:-95.712891,37.09024
END:VEVENT
BEGIN:VEVENT
DTSTART;TZID=America/Los_Angeles:20250731T170000
DTEND;TZID=America/Los_Angeles:20250731T183000
DTSTAMP:20260419T093447
CREATED:20240201T195611Z
LAST-MODIFIED:20240201T195719Z
UID:10012231-1753981200-1753986600@stmaa.org
SUMMARY:Women Celebrating in Recovery group
DESCRIPTION:
URL:https://stmaa.org/event/women-celebrating-in-recovery-group-2/2025-07-31/
LOCATION:Nativity Hall\, 1704 NE 43rd Ave\, Portland\, OR\, 97213\, United States
CATEGORIES:Recovery meetings
GEO:37.09024;-95.712891
X-APPLE-STRUCTURED-LOCATION;VALUE=URI;X-ADDRESS=Nativity Hall 1704 NE 43rd Ave Portland OR 97213 United States;X-APPLE-RADIUS=500;X-TITLE=1704 NE 43rd Ave:geo:-95.712891,37.09024
END:VEVENT
BEGIN:VEVENT
DTSTART;TZID=America/Los_Angeles:20250731T120000
DTEND;TZID=America/Los_Angeles:20250731T130000
DTSTAMP:20260419T093447
CREATED:20240113T201546Z
LAST-MODIFIED:20240113T201720Z
UID:10011903-1753963200-1753966800@stmaa.org
SUMMARY:It's in the Bag sack lunch offering
DESCRIPTION:
URL:https://stmaa.org/event/its-in-the-bag-sack-lunch-offering-2/2025-07-31/
LOCATION:Courtyard\, 1704 NE 43rd Ave\, Portland\, OR\, 97213\, United States
CATEGORIES:Outreach & Justice regular
END:VEVENT
BEGIN:VEVENT
DTSTART;TZID=America/Los_Angeles:20250727T183000
DTEND;TZID=America/Los_Angeles:20250727T203000
DTSTAMP:20260419T093447
CREATED:20230107T205128Z
LAST-MODIFIED:20240201T205234Z
UID:10013011-1753641000-1753648200@stmaa.org
SUMMARY:CA meeting
DESCRIPTION:
URL:https://stmaa.org/event/ca-meeting-3/2025-07-27/
LOCATION:Nativity Hall\, 1704 NE 43rd Ave\, Portland\, OR\, 97213\, United States
CATEGORIES:Recovery meetings
GEO:37.09024;-95.712891
X-APPLE-STRUCTURED-LOCATION;VALUE=URI;X-ADDRESS=Nativity Hall 1704 NE 43rd Ave Portland OR 97213 United States;X-APPLE-RADIUS=500;X-TITLE=1704 NE 43rd Ave:geo:-95.712891,37.09024
END:VEVENT
BEGIN:VEVENT
DTSTART;TZID=America/Los_Angeles:20250724T183000
DTEND;TZID=America/Los_Angeles:20250724T200000
DTSTAMP:20260419T093447
CREATED:20220307T201122Z
LAST-MODIFIED:20240201T200052Z
UID:10012496-1753381800-1753387200@stmaa.org
SUMMARY:AA meeting
DESCRIPTION:
URL:https://stmaa.org/event/aa-meeting/2025-07-24/
LOCATION:Nativity Hall\, 1704 NE 43rd Ave\, Portland\, OR\, 97213\, United States
CATEGORIES:Recovery meetings
GEO:37.09024;-95.712891
X-APPLE-STRUCTURED-LOCATION;VALUE=URI;X-ADDRESS=Nativity Hall 1704 NE 43rd Ave Portland OR 97213 United States;X-APPLE-RADIUS=500;X-TITLE=1704 NE 43rd Ave:geo:-95.712891,37.09024
END:VEVENT
BEGIN:VEVENT
DTSTART;TZID=America/Los_Angeles:20250724T170000
DTEND;TZID=America/Los_Angeles:20250724T183000
DTSTAMP:20260419T093447
CREATED:20240201T195611Z
LAST-MODIFIED:20240201T195719Z
UID:10012230-1753376400-1753381800@stmaa.org
SUMMARY:Women Celebrating in Recovery group
DESCRIPTION:
URL:https://stmaa.org/event/women-celebrating-in-recovery-group-2/2025-07-24/
LOCATION:Nativity Hall\, 1704 NE 43rd Ave\, Portland\, OR\, 97213\, United States
CATEGORIES:Recovery meetings
GEO:37.09024;-95.712891
X-APPLE-STRUCTURED-LOCATION;VALUE=URI;X-ADDRESS=Nativity Hall 1704 NE 43rd Ave Portland OR 97213 United States;X-APPLE-RADIUS=500;X-TITLE=1704 NE 43rd Ave:geo:-95.712891,37.09024
END:VEVENT
BEGIN:VEVENT
DTSTART;TZID=America/Los_Angeles:20250724T120000
DTEND;TZID=America/Los_Angeles:20250724T130000
DTSTAMP:20260419T093447
CREATED:20240113T201546Z
LAST-MODIFIED:20240113T201720Z
UID:10011902-1753358400-1753362000@stmaa.org
SUMMARY:It's in the Bag sack lunch offering
DESCRIPTION:
URL:https://stmaa.org/event/its-in-the-bag-sack-lunch-offering-2/2025-07-24/
LOCATION:Courtyard\, 1704 NE 43rd Ave\, Portland\, OR\, 97213\, United States
CATEGORIES:Outreach & Justice regular
END:VEVENT
BEGIN:VEVENT
DTSTART;TZID=America/Los_Angeles:20250720T183000
DTEND;TZID=America/Los_Angeles:20250720T203000
DTSTAMP:20260419T093447
CREATED:20230107T205128Z
LAST-MODIFIED:20240201T205234Z
UID:10013010-1753036200-1753043400@stmaa.org
SUMMARY:CA meeting
DESCRIPTION:
URL:https://stmaa.org/event/ca-meeting-3/2025-07-20/
LOCATION:Nativity Hall\, 1704 NE 43rd Ave\, Portland\, OR\, 97213\, United States
CATEGORIES:Recovery meetings
GEO:37.09024;-95.712891
X-APPLE-STRUCTURED-LOCATION;VALUE=URI;X-ADDRESS=Nativity Hall 1704 NE 43rd Ave Portland OR 97213 United States;X-APPLE-RADIUS=500;X-TITLE=1704 NE 43rd Ave:geo:-95.712891,37.09024
END:VEVENT
BEGIN:VEVENT
DTSTART;TZID=America/Los_Angeles:20250717T183000
DTEND;TZID=America/Los_Angeles:20250717T200000
DTSTAMP:20260419T093447
CREATED:20220307T201122Z
LAST-MODIFIED:20240201T200052Z
UID:10012495-1752777000-1752782400@stmaa.org
SUMMARY:AA meeting
DESCRIPTION:
URL:https://stmaa.org/event/aa-meeting/2025-07-17/
LOCATION:Nativity Hall\, 1704 NE 43rd Ave\, Portland\, OR\, 97213\, United States
CATEGORIES:Recovery meetings
GEO:37.09024;-95.712891
X-APPLE-STRUCTURED-LOCATION;VALUE=URI;X-ADDRESS=Nativity Hall 1704 NE 43rd Ave Portland OR 97213 United States;X-APPLE-RADIUS=500;X-TITLE=1704 NE 43rd Ave:geo:-95.712891,37.09024
END:VEVENT
BEGIN:VEVENT
DTSTART;TZID=America/Los_Angeles:20250717T170000
DTEND;TZID=America/Los_Angeles:20250717T183000
DTSTAMP:20260419T093447
CREATED:20240201T195611Z
LAST-MODIFIED:20240201T195719Z
UID:10012229-1752771600-1752777000@stmaa.org
SUMMARY:Women Celebrating in Recovery group
DESCRIPTION:
URL:https://stmaa.org/event/women-celebrating-in-recovery-group-2/2025-07-17/
LOCATION:Nativity Hall\, 1704 NE 43rd Ave\, Portland\, OR\, 97213\, United States
CATEGORIES:Recovery meetings
GEO:37.09024;-95.712891
X-APPLE-STRUCTURED-LOCATION;VALUE=URI;X-ADDRESS=Nativity Hall 1704 NE 43rd Ave Portland OR 97213 United States;X-APPLE-RADIUS=500;X-TITLE=1704 NE 43rd Ave:geo:-95.712891,37.09024
END:VEVENT
BEGIN:VEVENT
DTSTART;TZID=America/Los_Angeles:20250717T120000
DTEND;TZID=America/Los_Angeles:20250717T130000
DTSTAMP:20260419T093447
CREATED:20240113T201546Z
LAST-MODIFIED:20240113T201720Z
UID:10011901-1752753600-1752757200@stmaa.org
SUMMARY:It's in the Bag sack lunch offering
DESCRIPTION:
URL:https://stmaa.org/event/its-in-the-bag-sack-lunch-offering-2/2025-07-17/
LOCATION:Courtyard\, 1704 NE 43rd Ave\, Portland\, OR\, 97213\, United States
CATEGORIES:Outreach & Justice regular
END:VEVENT
BEGIN:VEVENT
DTSTART;TZID=America/Los_Angeles:20250713T183000
DTEND;TZID=America/Los_Angeles:20250713T203000
DTSTAMP:20260419T093447
CREATED:20230107T205128Z
LAST-MODIFIED:20240201T205234Z
UID:10013009-1752431400-1752438600@stmaa.org
SUMMARY:CA meeting
DESCRIPTION:
URL:https://stmaa.org/event/ca-meeting-3/2025-07-13/
LOCATION:Nativity Hall\, 1704 NE 43rd Ave\, Portland\, OR\, 97213\, United States
CATEGORIES:Recovery meetings
GEO:37.09024;-95.712891
X-APPLE-STRUCTURED-LOCATION;VALUE=URI;X-ADDRESS=Nativity Hall 1704 NE 43rd Ave Portland OR 97213 United States;X-APPLE-RADIUS=500;X-TITLE=1704 NE 43rd Ave:geo:-95.712891,37.09024
END:VEVENT
END:VCALENDAR