BEGIN:VCALENDAR
VERSION:2.0
PRODID:-//St. Michael &amp; All Angels Episcopal Church - ECPv6.15.18//NONSGML v1.0//EN
CALSCALE:GREGORIAN
METHOD:PUBLISH
X-WR-CALNAME:St. Michael &amp; All Angels Episcopal Church
X-ORIGINAL-URL:https://stmaa.org
X-WR-CALDESC:Events for St. Michael &amp; All Angels Episcopal Church
REFRESH-INTERVAL;VALUE=DURATION:PT1H
X-Robots-Tag:noindex
X-PUBLISHED-TTL:PT1H
BEGIN:VTIMEZONE
TZID:America/Los_Angeles
BEGIN:DAYLIGHT
TZOFFSETFROM:-0800
TZOFFSETTO:-0700
TZNAME:PDT
DTSTART:20240310T100000
END:DAYLIGHT
BEGIN:STANDARD
TZOFFSETFROM:-0700
TZOFFSETTO:-0800
TZNAME:PST
DTSTART:20241103T090000
END:STANDARD
BEGIN:DAYLIGHT
TZOFFSETFROM:-0800
TZOFFSETTO:-0700
TZNAME:PDT
DTSTART:20250309T100000
END:DAYLIGHT
BEGIN:STANDARD
TZOFFSETFROM:-0700
TZOFFSETTO:-0800
TZNAME:PST
DTSTART:20251102T090000
END:STANDARD
BEGIN:DAYLIGHT
TZOFFSETFROM:-0800
TZOFFSETTO:-0700
TZNAME:PDT
DTSTART:20260308T100000
END:DAYLIGHT
BEGIN:STANDARD
TZOFFSETFROM:-0700
TZOFFSETTO:-0800
TZNAME:PST
DTSTART:20261101T090000
END:STANDARD
END:VTIMEZONE
BEGIN:VEVENT
DTSTART;TZID=America/Los_Angeles:20250313T183000
DTEND;TZID=America/Los_Angeles:20250313T200000
DTSTAMP:20260424T042257
CREATED:20220307T201122Z
LAST-MODIFIED:20240201T200052Z
UID:10012477-1741890600-1741896000@stmaa.org
SUMMARY:AA meeting
DESCRIPTION:
URL:https://stmaa.org/event/aa-meeting/2025-03-13/
LOCATION:Nativity Hall\, 1704 NE 43rd Ave\, Portland\, OR\, 97213\, United States
CATEGORIES:Recovery meetings
GEO:37.09024;-95.712891
X-APPLE-STRUCTURED-LOCATION;VALUE=URI;X-ADDRESS=Nativity Hall 1704 NE 43rd Ave Portland OR 97213 United States;X-APPLE-RADIUS=500;X-TITLE=1704 NE 43rd Ave:geo:-95.712891,37.09024
END:VEVENT
BEGIN:VEVENT
DTSTART;TZID=America/Los_Angeles:20250313T170000
DTEND;TZID=America/Los_Angeles:20250313T183000
DTSTAMP:20260424T042257
CREATED:20240201T195611Z
LAST-MODIFIED:20240201T195719Z
UID:10012211-1741885200-1741890600@stmaa.org
SUMMARY:Women Celebrating in Recovery group
DESCRIPTION:
URL:https://stmaa.org/event/women-celebrating-in-recovery-group-2/2025-03-13/
LOCATION:Nativity Hall\, 1704 NE 43rd Ave\, Portland\, OR\, 97213\, United States
CATEGORIES:Recovery meetings
GEO:37.09024;-95.712891
X-APPLE-STRUCTURED-LOCATION;VALUE=URI;X-ADDRESS=Nativity Hall 1704 NE 43rd Ave Portland OR 97213 United States;X-APPLE-RADIUS=500;X-TITLE=1704 NE 43rd Ave:geo:-95.712891,37.09024
END:VEVENT
BEGIN:VEVENT
DTSTART;TZID=America/Los_Angeles:20250313T120000
DTEND;TZID=America/Los_Angeles:20250313T130000
DTSTAMP:20260424T042257
CREATED:20240113T201546Z
LAST-MODIFIED:20240113T201720Z
UID:10011883-1741867200-1741870800@stmaa.org
SUMMARY:It's in the Bag sack lunch offering
DESCRIPTION:
URL:https://stmaa.org/event/its-in-the-bag-sack-lunch-offering-2/2025-03-13/
LOCATION:Courtyard\, 1704 NE 43rd Ave\, Portland\, OR\, 97213\, United States
CATEGORIES:Outreach & Justice regular
END:VEVENT
BEGIN:VEVENT
DTSTART;TZID=America/Los_Angeles:20250309T183000
DTEND;TZID=America/Los_Angeles:20250309T203000
DTSTAMP:20260424T042257
CREATED:20230107T205128Z
LAST-MODIFIED:20240201T205234Z
UID:10012991-1741545000-1741552200@stmaa.org
SUMMARY:CA meeting
DESCRIPTION:
URL:https://stmaa.org/event/ca-meeting-3/2025-03-09/
LOCATION:Nativity Hall\, 1704 NE 43rd Ave\, Portland\, OR\, 97213\, United States
CATEGORIES:Recovery meetings
GEO:37.09024;-95.712891
X-APPLE-STRUCTURED-LOCATION;VALUE=URI;X-ADDRESS=Nativity Hall 1704 NE 43rd Ave Portland OR 97213 United States;X-APPLE-RADIUS=500;X-TITLE=1704 NE 43rd Ave:geo:-95.712891,37.09024
END:VEVENT
BEGIN:VEVENT
DTSTART;TZID=America/Los_Angeles:20250306T183000
DTEND;TZID=America/Los_Angeles:20250306T200000
DTSTAMP:20260424T042257
CREATED:20220307T201122Z
LAST-MODIFIED:20240201T200052Z
UID:10012476-1741285800-1741291200@stmaa.org
SUMMARY:AA meeting
DESCRIPTION:
URL:https://stmaa.org/event/aa-meeting/2025-03-06/
LOCATION:Nativity Hall\, 1704 NE 43rd Ave\, Portland\, OR\, 97213\, United States
CATEGORIES:Recovery meetings
GEO:37.09024;-95.712891
X-APPLE-STRUCTURED-LOCATION;VALUE=URI;X-ADDRESS=Nativity Hall 1704 NE 43rd Ave Portland OR 97213 United States;X-APPLE-RADIUS=500;X-TITLE=1704 NE 43rd Ave:geo:-95.712891,37.09024
END:VEVENT
BEGIN:VEVENT
DTSTART;TZID=America/Los_Angeles:20250306T170000
DTEND;TZID=America/Los_Angeles:20250306T183000
DTSTAMP:20260424T042257
CREATED:20240201T195611Z
LAST-MODIFIED:20240201T195719Z
UID:10012210-1741280400-1741285800@stmaa.org
SUMMARY:Women Celebrating in Recovery group
DESCRIPTION:
URL:https://stmaa.org/event/women-celebrating-in-recovery-group-2/2025-03-06/
LOCATION:Nativity Hall\, 1704 NE 43rd Ave\, Portland\, OR\, 97213\, United States
CATEGORIES:Recovery meetings
GEO:37.09024;-95.712891
X-APPLE-STRUCTURED-LOCATION;VALUE=URI;X-ADDRESS=Nativity Hall 1704 NE 43rd Ave Portland OR 97213 United States;X-APPLE-RADIUS=500;X-TITLE=1704 NE 43rd Ave:geo:-95.712891,37.09024
END:VEVENT
BEGIN:VEVENT
DTSTART;TZID=America/Los_Angeles:20250306T120000
DTEND;TZID=America/Los_Angeles:20250306T130000
DTSTAMP:20260424T042257
CREATED:20240113T201546Z
LAST-MODIFIED:20240113T201720Z
UID:10011882-1741262400-1741266000@stmaa.org
SUMMARY:It's in the Bag sack lunch offering
DESCRIPTION:
URL:https://stmaa.org/event/its-in-the-bag-sack-lunch-offering-2/2025-03-06/
LOCATION:Courtyard\, 1704 NE 43rd Ave\, Portland\, OR\, 97213\, United States
CATEGORIES:Outreach & Justice regular
END:VEVENT
BEGIN:VEVENT
DTSTART;TZID=America/Los_Angeles:20250302T183000
DTEND;TZID=America/Los_Angeles:20250302T203000
DTSTAMP:20260424T042257
CREATED:20230107T205128Z
LAST-MODIFIED:20240201T205234Z
UID:10012990-1740940200-1740947400@stmaa.org
SUMMARY:CA meeting
DESCRIPTION:
URL:https://stmaa.org/event/ca-meeting-3/2025-03-02/
LOCATION:Nativity Hall\, 1704 NE 43rd Ave\, Portland\, OR\, 97213\, United States
CATEGORIES:Recovery meetings
GEO:37.09024;-95.712891
X-APPLE-STRUCTURED-LOCATION;VALUE=URI;X-ADDRESS=Nativity Hall 1704 NE 43rd Ave Portland OR 97213 United States;X-APPLE-RADIUS=500;X-TITLE=1704 NE 43rd Ave:geo:-95.712891,37.09024
END:VEVENT
BEGIN:VEVENT
DTSTART;TZID=America/Los_Angeles:20250227T183000
DTEND;TZID=America/Los_Angeles:20250227T200000
DTSTAMP:20260424T042257
CREATED:20220307T201122Z
LAST-MODIFIED:20240201T200052Z
UID:10012475-1740681000-1740686400@stmaa.org
SUMMARY:AA meeting
DESCRIPTION:
URL:https://stmaa.org/event/aa-meeting/2025-02-27/
LOCATION:Nativity Hall\, 1704 NE 43rd Ave\, Portland\, OR\, 97213\, United States
CATEGORIES:Recovery meetings
GEO:37.09024;-95.712891
X-APPLE-STRUCTURED-LOCATION;VALUE=URI;X-ADDRESS=Nativity Hall 1704 NE 43rd Ave Portland OR 97213 United States;X-APPLE-RADIUS=500;X-TITLE=1704 NE 43rd Ave:geo:-95.712891,37.09024
END:VEVENT
BEGIN:VEVENT
DTSTART;TZID=America/Los_Angeles:20250227T170000
DTEND;TZID=America/Los_Angeles:20250227T183000
DTSTAMP:20260424T042257
CREATED:20240201T195611Z
LAST-MODIFIED:20240201T195719Z
UID:10012209-1740675600-1740681000@stmaa.org
SUMMARY:Women Celebrating in Recovery group
DESCRIPTION:
URL:https://stmaa.org/event/women-celebrating-in-recovery-group-2/2025-02-27/
LOCATION:Nativity Hall\, 1704 NE 43rd Ave\, Portland\, OR\, 97213\, United States
CATEGORIES:Recovery meetings
GEO:37.09024;-95.712891
X-APPLE-STRUCTURED-LOCATION;VALUE=URI;X-ADDRESS=Nativity Hall 1704 NE 43rd Ave Portland OR 97213 United States;X-APPLE-RADIUS=500;X-TITLE=1704 NE 43rd Ave:geo:-95.712891,37.09024
END:VEVENT
BEGIN:VEVENT
DTSTART;TZID=America/Los_Angeles:20250227T120000
DTEND;TZID=America/Los_Angeles:20250227T130000
DTSTAMP:20260424T042257
CREATED:20240113T201546Z
LAST-MODIFIED:20240113T201720Z
UID:10011881-1740657600-1740661200@stmaa.org
SUMMARY:It's in the Bag sack lunch offering
DESCRIPTION:
URL:https://stmaa.org/event/its-in-the-bag-sack-lunch-offering-2/2025-02-27/
LOCATION:Courtyard\, 1704 NE 43rd Ave\, Portland\, OR\, 97213\, United States
CATEGORIES:Outreach & Justice regular
END:VEVENT
BEGIN:VEVENT
DTSTART;TZID=America/Los_Angeles:20250223T183000
DTEND;TZID=America/Los_Angeles:20250223T203000
DTSTAMP:20260424T042257
CREATED:20230107T205128Z
LAST-MODIFIED:20240201T205234Z
UID:10012989-1740335400-1740342600@stmaa.org
SUMMARY:CA meeting
DESCRIPTION:
URL:https://stmaa.org/event/ca-meeting-3/2025-02-23/
LOCATION:Nativity Hall\, 1704 NE 43rd Ave\, Portland\, OR\, 97213\, United States
CATEGORIES:Recovery meetings
GEO:37.09024;-95.712891
X-APPLE-STRUCTURED-LOCATION;VALUE=URI;X-ADDRESS=Nativity Hall 1704 NE 43rd Ave Portland OR 97213 United States;X-APPLE-RADIUS=500;X-TITLE=1704 NE 43rd Ave:geo:-95.712891,37.09024
END:VEVENT
BEGIN:VEVENT
DTSTART;TZID=America/Los_Angeles:20250220T183000
DTEND;TZID=America/Los_Angeles:20250220T200000
DTSTAMP:20260424T042257
CREATED:20220307T201122Z
LAST-MODIFIED:20240201T200052Z
UID:10012474-1740076200-1740081600@stmaa.org
SUMMARY:AA meeting
DESCRIPTION:
URL:https://stmaa.org/event/aa-meeting/2025-02-20/
LOCATION:Nativity Hall\, 1704 NE 43rd Ave\, Portland\, OR\, 97213\, United States
CATEGORIES:Recovery meetings
GEO:37.09024;-95.712891
X-APPLE-STRUCTURED-LOCATION;VALUE=URI;X-ADDRESS=Nativity Hall 1704 NE 43rd Ave Portland OR 97213 United States;X-APPLE-RADIUS=500;X-TITLE=1704 NE 43rd Ave:geo:-95.712891,37.09024
END:VEVENT
BEGIN:VEVENT
DTSTART;TZID=America/Los_Angeles:20250220T170000
DTEND;TZID=America/Los_Angeles:20250220T183000
DTSTAMP:20260424T042257
CREATED:20240201T195611Z
LAST-MODIFIED:20240201T195719Z
UID:10012208-1740070800-1740076200@stmaa.org
SUMMARY:Women Celebrating in Recovery group
DESCRIPTION:
URL:https://stmaa.org/event/women-celebrating-in-recovery-group-2/2025-02-20/
LOCATION:Nativity Hall\, 1704 NE 43rd Ave\, Portland\, OR\, 97213\, United States
CATEGORIES:Recovery meetings
GEO:37.09024;-95.712891
X-APPLE-STRUCTURED-LOCATION;VALUE=URI;X-ADDRESS=Nativity Hall 1704 NE 43rd Ave Portland OR 97213 United States;X-APPLE-RADIUS=500;X-TITLE=1704 NE 43rd Ave:geo:-95.712891,37.09024
END:VEVENT
BEGIN:VEVENT
DTSTART;TZID=America/Los_Angeles:20250220T120000
DTEND;TZID=America/Los_Angeles:20250220T130000
DTSTAMP:20260424T042257
CREATED:20240113T201546Z
LAST-MODIFIED:20240113T201720Z
UID:10011880-1740052800-1740056400@stmaa.org
SUMMARY:It's in the Bag sack lunch offering
DESCRIPTION:
URL:https://stmaa.org/event/its-in-the-bag-sack-lunch-offering-2/2025-02-20/
LOCATION:Courtyard\, 1704 NE 43rd Ave\, Portland\, OR\, 97213\, United States
CATEGORIES:Outreach & Justice regular
END:VEVENT
BEGIN:VEVENT
DTSTART;TZID=America/Los_Angeles:20250216T183000
DTEND;TZID=America/Los_Angeles:20250216T203000
DTSTAMP:20260424T042257
CREATED:20230107T205128Z
LAST-MODIFIED:20240201T205234Z
UID:10012988-1739730600-1739737800@stmaa.org
SUMMARY:CA meeting
DESCRIPTION:
URL:https://stmaa.org/event/ca-meeting-3/2025-02-16/
LOCATION:Nativity Hall\, 1704 NE 43rd Ave\, Portland\, OR\, 97213\, United States
CATEGORIES:Recovery meetings
GEO:37.09024;-95.712891
X-APPLE-STRUCTURED-LOCATION;VALUE=URI;X-ADDRESS=Nativity Hall 1704 NE 43rd Ave Portland OR 97213 United States;X-APPLE-RADIUS=500;X-TITLE=1704 NE 43rd Ave:geo:-95.712891,37.09024
END:VEVENT
BEGIN:VEVENT
DTSTART;TZID=America/Los_Angeles:20250213T183000
DTEND;TZID=America/Los_Angeles:20250213T200000
DTSTAMP:20260424T042257
CREATED:20220307T201122Z
LAST-MODIFIED:20240201T200052Z
UID:10012473-1739471400-1739476800@stmaa.org
SUMMARY:AA meeting
DESCRIPTION:
URL:https://stmaa.org/event/aa-meeting/2025-02-13/
LOCATION:Nativity Hall\, 1704 NE 43rd Ave\, Portland\, OR\, 97213\, United States
CATEGORIES:Recovery meetings
GEO:37.09024;-95.712891
X-APPLE-STRUCTURED-LOCATION;VALUE=URI;X-ADDRESS=Nativity Hall 1704 NE 43rd Ave Portland OR 97213 United States;X-APPLE-RADIUS=500;X-TITLE=1704 NE 43rd Ave:geo:-95.712891,37.09024
END:VEVENT
BEGIN:VEVENT
DTSTART;TZID=America/Los_Angeles:20250213T170000
DTEND;TZID=America/Los_Angeles:20250213T183000
DTSTAMP:20260424T042257
CREATED:20240201T195611Z
LAST-MODIFIED:20240201T195719Z
UID:10012207-1739466000-1739471400@stmaa.org
SUMMARY:Women Celebrating in Recovery group
DESCRIPTION:
URL:https://stmaa.org/event/women-celebrating-in-recovery-group-2/2025-02-13/
LOCATION:Nativity Hall\, 1704 NE 43rd Ave\, Portland\, OR\, 97213\, United States
CATEGORIES:Recovery meetings
GEO:37.09024;-95.712891
X-APPLE-STRUCTURED-LOCATION;VALUE=URI;X-ADDRESS=Nativity Hall 1704 NE 43rd Ave Portland OR 97213 United States;X-APPLE-RADIUS=500;X-TITLE=1704 NE 43rd Ave:geo:-95.712891,37.09024
END:VEVENT
BEGIN:VEVENT
DTSTART;TZID=America/Los_Angeles:20250213T120000
DTEND;TZID=America/Los_Angeles:20250213T130000
DTSTAMP:20260424T042257
CREATED:20240113T201546Z
LAST-MODIFIED:20240113T201720Z
UID:10011879-1739448000-1739451600@stmaa.org
SUMMARY:It's in the Bag sack lunch offering
DESCRIPTION:
URL:https://stmaa.org/event/its-in-the-bag-sack-lunch-offering-2/2025-02-13/
LOCATION:Courtyard\, 1704 NE 43rd Ave\, Portland\, OR\, 97213\, United States
CATEGORIES:Outreach & Justice regular
END:VEVENT
BEGIN:VEVENT
DTSTART;TZID=America/Los_Angeles:20250209T183000
DTEND;TZID=America/Los_Angeles:20250209T203000
DTSTAMP:20260424T042257
CREATED:20230107T205128Z
LAST-MODIFIED:20240201T205234Z
UID:10012987-1739125800-1739133000@stmaa.org
SUMMARY:CA meeting
DESCRIPTION:
URL:https://stmaa.org/event/ca-meeting-3/2025-02-09/
LOCATION:Nativity Hall\, 1704 NE 43rd Ave\, Portland\, OR\, 97213\, United States
CATEGORIES:Recovery meetings
GEO:37.09024;-95.712891
X-APPLE-STRUCTURED-LOCATION;VALUE=URI;X-ADDRESS=Nativity Hall 1704 NE 43rd Ave Portland OR 97213 United States;X-APPLE-RADIUS=500;X-TITLE=1704 NE 43rd Ave:geo:-95.712891,37.09024
END:VEVENT
BEGIN:VEVENT
DTSTART;TZID=America/Los_Angeles:20250206T183000
DTEND;TZID=America/Los_Angeles:20250206T200000
DTSTAMP:20260424T042257
CREATED:20220307T201122Z
LAST-MODIFIED:20240201T200052Z
UID:10012472-1738866600-1738872000@stmaa.org
SUMMARY:AA meeting
DESCRIPTION:
URL:https://stmaa.org/event/aa-meeting/2025-02-06/
LOCATION:Nativity Hall\, 1704 NE 43rd Ave\, Portland\, OR\, 97213\, United States
CATEGORIES:Recovery meetings
GEO:37.09024;-95.712891
X-APPLE-STRUCTURED-LOCATION;VALUE=URI;X-ADDRESS=Nativity Hall 1704 NE 43rd Ave Portland OR 97213 United States;X-APPLE-RADIUS=500;X-TITLE=1704 NE 43rd Ave:geo:-95.712891,37.09024
END:VEVENT
BEGIN:VEVENT
DTSTART;TZID=America/Los_Angeles:20250206T170000
DTEND;TZID=America/Los_Angeles:20250206T183000
DTSTAMP:20260424T042257
CREATED:20240201T195611Z
LAST-MODIFIED:20240201T195719Z
UID:10012206-1738861200-1738866600@stmaa.org
SUMMARY:Women Celebrating in Recovery group
DESCRIPTION:
URL:https://stmaa.org/event/women-celebrating-in-recovery-group-2/2025-02-06/
LOCATION:Nativity Hall\, 1704 NE 43rd Ave\, Portland\, OR\, 97213\, United States
CATEGORIES:Recovery meetings
GEO:37.09024;-95.712891
X-APPLE-STRUCTURED-LOCATION;VALUE=URI;X-ADDRESS=Nativity Hall 1704 NE 43rd Ave Portland OR 97213 United States;X-APPLE-RADIUS=500;X-TITLE=1704 NE 43rd Ave:geo:-95.712891,37.09024
END:VEVENT
BEGIN:VEVENT
DTSTART;TZID=America/Los_Angeles:20250206T120000
DTEND;TZID=America/Los_Angeles:20250206T130000
DTSTAMP:20260424T042257
CREATED:20240113T201546Z
LAST-MODIFIED:20240113T201720Z
UID:10011878-1738843200-1738846800@stmaa.org
SUMMARY:It's in the Bag sack lunch offering
DESCRIPTION:
URL:https://stmaa.org/event/its-in-the-bag-sack-lunch-offering-2/2025-02-06/
LOCATION:Courtyard\, 1704 NE 43rd Ave\, Portland\, OR\, 97213\, United States
CATEGORIES:Outreach & Justice regular
END:VEVENT
BEGIN:VEVENT
DTSTART;TZID=America/Los_Angeles:20250202T183000
DTEND;TZID=America/Los_Angeles:20250202T203000
DTSTAMP:20260424T042257
CREATED:20230107T205128Z
LAST-MODIFIED:20240201T205234Z
UID:10012986-1738521000-1738528200@stmaa.org
SUMMARY:CA meeting
DESCRIPTION:
URL:https://stmaa.org/event/ca-meeting-3/2025-02-02/
LOCATION:Nativity Hall\, 1704 NE 43rd Ave\, Portland\, OR\, 97213\, United States
CATEGORIES:Recovery meetings
GEO:37.09024;-95.712891
X-APPLE-STRUCTURED-LOCATION;VALUE=URI;X-ADDRESS=Nativity Hall 1704 NE 43rd Ave Portland OR 97213 United States;X-APPLE-RADIUS=500;X-TITLE=1704 NE 43rd Ave:geo:-95.712891,37.09024
END:VEVENT
BEGIN:VEVENT
DTSTART;TZID=America/Los_Angeles:20250130T183000
DTEND;TZID=America/Los_Angeles:20250130T200000
DTSTAMP:20260424T042257
CREATED:20220307T201122Z
LAST-MODIFIED:20240201T200052Z
UID:10012471-1738261800-1738267200@stmaa.org
SUMMARY:AA meeting
DESCRIPTION:
URL:https://stmaa.org/event/aa-meeting/2025-01-30/
LOCATION:Nativity Hall\, 1704 NE 43rd Ave\, Portland\, OR\, 97213\, United States
CATEGORIES:Recovery meetings
GEO:37.09024;-95.712891
X-APPLE-STRUCTURED-LOCATION;VALUE=URI;X-ADDRESS=Nativity Hall 1704 NE 43rd Ave Portland OR 97213 United States;X-APPLE-RADIUS=500;X-TITLE=1704 NE 43rd Ave:geo:-95.712891,37.09024
END:VEVENT
BEGIN:VEVENT
DTSTART;TZID=America/Los_Angeles:20250130T170000
DTEND;TZID=America/Los_Angeles:20250130T183000
DTSTAMP:20260424T042257
CREATED:20240201T195611Z
LAST-MODIFIED:20240201T195719Z
UID:10012205-1738256400-1738261800@stmaa.org
SUMMARY:Women Celebrating in Recovery group
DESCRIPTION:
URL:https://stmaa.org/event/women-celebrating-in-recovery-group-2/2025-01-30/
LOCATION:Nativity Hall\, 1704 NE 43rd Ave\, Portland\, OR\, 97213\, United States
CATEGORIES:Recovery meetings
GEO:37.09024;-95.712891
X-APPLE-STRUCTURED-LOCATION;VALUE=URI;X-ADDRESS=Nativity Hall 1704 NE 43rd Ave Portland OR 97213 United States;X-APPLE-RADIUS=500;X-TITLE=1704 NE 43rd Ave:geo:-95.712891,37.09024
END:VEVENT
BEGIN:VEVENT
DTSTART;TZID=America/Los_Angeles:20250130T120000
DTEND;TZID=America/Los_Angeles:20250130T130000
DTSTAMP:20260424T042257
CREATED:20240113T201546Z
LAST-MODIFIED:20240113T201720Z
UID:10011877-1738238400-1738242000@stmaa.org
SUMMARY:It's in the Bag sack lunch offering
DESCRIPTION:
URL:https://stmaa.org/event/its-in-the-bag-sack-lunch-offering-2/2025-01-30/
LOCATION:Courtyard\, 1704 NE 43rd Ave\, Portland\, OR\, 97213\, United States
CATEGORIES:Outreach & Justice regular
END:VEVENT
BEGIN:VEVENT
DTSTART;TZID=America/Los_Angeles:20250126T183000
DTEND;TZID=America/Los_Angeles:20250126T203000
DTSTAMP:20260424T042257
CREATED:20230107T205128Z
LAST-MODIFIED:20240201T205234Z
UID:10012985-1737916200-1737923400@stmaa.org
SUMMARY:CA meeting
DESCRIPTION:
URL:https://stmaa.org/event/ca-meeting-3/2025-01-26/
LOCATION:Nativity Hall\, 1704 NE 43rd Ave\, Portland\, OR\, 97213\, United States
CATEGORIES:Recovery meetings
GEO:37.09024;-95.712891
X-APPLE-STRUCTURED-LOCATION;VALUE=URI;X-ADDRESS=Nativity Hall 1704 NE 43rd Ave Portland OR 97213 United States;X-APPLE-RADIUS=500;X-TITLE=1704 NE 43rd Ave:geo:-95.712891,37.09024
END:VEVENT
BEGIN:VEVENT
DTSTART;TZID=America/Los_Angeles:20250123T183000
DTEND;TZID=America/Los_Angeles:20250123T200000
DTSTAMP:20260424T042257
CREATED:20220307T201122Z
LAST-MODIFIED:20240201T200052Z
UID:10012470-1737657000-1737662400@stmaa.org
SUMMARY:AA meeting
DESCRIPTION:
URL:https://stmaa.org/event/aa-meeting/2025-01-23/
LOCATION:Nativity Hall\, 1704 NE 43rd Ave\, Portland\, OR\, 97213\, United States
CATEGORIES:Recovery meetings
GEO:37.09024;-95.712891
X-APPLE-STRUCTURED-LOCATION;VALUE=URI;X-ADDRESS=Nativity Hall 1704 NE 43rd Ave Portland OR 97213 United States;X-APPLE-RADIUS=500;X-TITLE=1704 NE 43rd Ave:geo:-95.712891,37.09024
END:VEVENT
BEGIN:VEVENT
DTSTART;TZID=America/Los_Angeles:20250123T170000
DTEND;TZID=America/Los_Angeles:20250123T183000
DTSTAMP:20260424T042257
CREATED:20240201T195611Z
LAST-MODIFIED:20240201T195719Z
UID:10012204-1737651600-1737657000@stmaa.org
SUMMARY:Women Celebrating in Recovery group
DESCRIPTION:
URL:https://stmaa.org/event/women-celebrating-in-recovery-group-2/2025-01-23/
LOCATION:Nativity Hall\, 1704 NE 43rd Ave\, Portland\, OR\, 97213\, United States
CATEGORIES:Recovery meetings
GEO:37.09024;-95.712891
X-APPLE-STRUCTURED-LOCATION;VALUE=URI;X-ADDRESS=Nativity Hall 1704 NE 43rd Ave Portland OR 97213 United States;X-APPLE-RADIUS=500;X-TITLE=1704 NE 43rd Ave:geo:-95.712891,37.09024
END:VEVENT
END:VCALENDAR