BEGIN:VCALENDAR
VERSION:2.0
PRODID:-//St. Michael &amp; All Angels Episcopal Church - ECPv6.15.18//NONSGML v1.0//EN
CALSCALE:GREGORIAN
METHOD:PUBLISH
X-ORIGINAL-URL:https://stmaa.org
X-WR-CALDESC:Events for St. Michael &amp; All Angels Episcopal Church
REFRESH-INTERVAL;VALUE=DURATION:PT1H
X-Robots-Tag:noindex
X-PUBLISHED-TTL:PT1H
BEGIN:VTIMEZONE
TZID:America/Los_Angeles
BEGIN:DAYLIGHT
TZOFFSETFROM:-0800
TZOFFSETTO:-0700
TZNAME:PDT
DTSTART:20210314T100000
END:DAYLIGHT
BEGIN:STANDARD
TZOFFSETFROM:-0700
TZOFFSETTO:-0800
TZNAME:PST
DTSTART:20211107T090000
END:STANDARD
BEGIN:DAYLIGHT
TZOFFSETFROM:-0800
TZOFFSETTO:-0700
TZNAME:PDT
DTSTART:20220313T100000
END:DAYLIGHT
BEGIN:STANDARD
TZOFFSETFROM:-0700
TZOFFSETTO:-0800
TZNAME:PST
DTSTART:20221106T090000
END:STANDARD
BEGIN:DAYLIGHT
TZOFFSETFROM:-0800
TZOFFSETTO:-0700
TZNAME:PDT
DTSTART:20230312T100000
END:DAYLIGHT
BEGIN:STANDARD
TZOFFSETFROM:-0700
TZOFFSETTO:-0800
TZNAME:PST
DTSTART:20231105T090000
END:STANDARD
BEGIN:DAYLIGHT
TZOFFSETFROM:-0800
TZOFFSETTO:-0700
TZNAME:PDT
DTSTART:20240310T100000
END:DAYLIGHT
BEGIN:STANDARD
TZOFFSETFROM:-0700
TZOFFSETTO:-0800
TZNAME:PST
DTSTART:20241103T090000
END:STANDARD
END:VTIMEZONE
BEGIN:VEVENT
DTSTART;TZID=America/Los_Angeles:20230528T073000
DTEND;TZID=America/Los_Angeles:20230528T150000
DTSTAMP:20260419T111041
CREATED:20230426T000715Z
LAST-MODIFIED:20230426T000715Z
UID:10011054-1685259000-1685286000@stmaa.org
SUMMARY:The Feast of Pentecost
DESCRIPTION:
URL:https://stmaa.org/event/the-feast-of-pentecost/
LOCATION:Entire propery
CATEGORIES:Worship events
END:VEVENT
BEGIN:VEVENT
DTSTART;TZID=America/Los_Angeles:20230524T083000
DTEND;TZID=America/Los_Angeles:20230524T110000
DTSTAMP:20260419T111041
CREATED:20230107T202533Z
LAST-MODIFIED:20240201T210957Z
UID:10010395-1684917000-1684926000@stmaa.org
SUMMARY:MOW/WOWs volunteer gathering
DESCRIPTION:
URL:https://stmaa.org/event/mow-wows-volunteer-gathering/2023-05-24/
LOCATION:Entire propery
CATEGORIES:Administration
END:VEVENT
BEGIN:VEVENT
DTSTART;TZID=America/Los_Angeles:20230521T073000
DTEND;TZID=America/Los_Angeles:20230521T140000
DTSTAMP:20260419T111041
CREATED:20230426T000451Z
LAST-MODIFIED:20230426T000451Z
UID:10011053-1684654200-1684677600@stmaa.org
SUMMARY:The Rev. Scott Painter's first Sunday at St. Michael's
DESCRIPTION:
URL:https://stmaa.org/event/the-rev-scott-painters-first-sunday-at-st-michaels/
LOCATION:Entire propery
CATEGORIES:Worship events
END:VEVENT
BEGIN:VEVENT
DTSTART;TZID=America/Los_Angeles:20230517T083000
DTEND;TZID=America/Los_Angeles:20230517T110000
DTSTAMP:20260419T111041
CREATED:20230107T202533Z
LAST-MODIFIED:20240201T210957Z
UID:10010394-1684312200-1684321200@stmaa.org
SUMMARY:MOW/WOWs volunteer gathering
DESCRIPTION:
URL:https://stmaa.org/event/mow-wows-volunteer-gathering/2023-05-17/
LOCATION:Entire propery
CATEGORIES:Administration
END:VEVENT
BEGIN:VEVENT
DTSTART;TZID=America/Los_Angeles:20230510T083000
DTEND;TZID=America/Los_Angeles:20230510T110000
DTSTAMP:20260419T111041
CREATED:20230107T202533Z
LAST-MODIFIED:20240201T210957Z
UID:10010393-1683707400-1683716400@stmaa.org
SUMMARY:MOW/WOWs volunteer gathering
DESCRIPTION:
URL:https://stmaa.org/event/mow-wows-volunteer-gathering/2023-05-10/
LOCATION:Entire propery
CATEGORIES:Administration
END:VEVENT
BEGIN:VEVENT
DTSTART;TZID=America/Los_Angeles:20230503T083000
DTEND;TZID=America/Los_Angeles:20230503T110000
DTSTAMP:20260419T111041
CREATED:20230107T202533Z
LAST-MODIFIED:20240201T210957Z
UID:10010392-1683102600-1683111600@stmaa.org
SUMMARY:MOW/WOWs volunteer gathering
DESCRIPTION:
URL:https://stmaa.org/event/mow-wows-volunteer-gathering/2023-05-03/
LOCATION:Entire propery
CATEGORIES:Administration
END:VEVENT
BEGIN:VEVENT
DTSTART;TZID=America/Los_Angeles:20230426T083000
DTEND;TZID=America/Los_Angeles:20230426T110000
DTSTAMP:20260419T111041
CREATED:20230107T202533Z
LAST-MODIFIED:20240201T210957Z
UID:10010391-1682497800-1682506800@stmaa.org
SUMMARY:MOW/WOWs volunteer gathering
DESCRIPTION:
URL:https://stmaa.org/event/mow-wows-volunteer-gathering/2023-04-26/
LOCATION:Entire propery
CATEGORIES:Administration
END:VEVENT
BEGIN:VEVENT
DTSTART;TZID=America/Los_Angeles:20230419T083000
DTEND;TZID=America/Los_Angeles:20230419T110000
DTSTAMP:20260419T111041
CREATED:20230107T202533Z
LAST-MODIFIED:20240201T210957Z
UID:10010390-1681893000-1681902000@stmaa.org
SUMMARY:MOW/WOWs volunteer gathering
DESCRIPTION:
URL:https://stmaa.org/event/mow-wows-volunteer-gathering/2023-04-19/
LOCATION:Entire propery
CATEGORIES:Administration
END:VEVENT
BEGIN:VEVENT
DTSTART;TZID=America/Los_Angeles:20230412T083000
DTEND;TZID=America/Los_Angeles:20230412T110000
DTSTAMP:20260419T111041
CREATED:20230107T202533Z
LAST-MODIFIED:20240201T210957Z
UID:10010389-1681288200-1681297200@stmaa.org
SUMMARY:MOW/WOWs volunteer gathering
DESCRIPTION:
URL:https://stmaa.org/event/mow-wows-volunteer-gathering/2023-04-12/
LOCATION:Entire propery
CATEGORIES:Administration
END:VEVENT
BEGIN:VEVENT
DTSTART;TZID=America/Los_Angeles:20230405T083000
DTEND;TZID=America/Los_Angeles:20230405T110000
DTSTAMP:20260419T111041
CREATED:20230107T202533Z
LAST-MODIFIED:20240201T210957Z
UID:10010388-1680683400-1680692400@stmaa.org
SUMMARY:MOW/WOWs volunteer gathering
DESCRIPTION:
URL:https://stmaa.org/event/mow-wows-volunteer-gathering/2023-04-05/
LOCATION:Entire propery
CATEGORIES:Administration
END:VEVENT
BEGIN:VEVENT
DTSTART;TZID=America/Los_Angeles:20230329T083000
DTEND;TZID=America/Los_Angeles:20230329T110000
DTSTAMP:20260419T111041
CREATED:20230107T202533Z
LAST-MODIFIED:20240201T210957Z
UID:10010387-1680078600-1680087600@stmaa.org
SUMMARY:MOW/WOWs volunteer gathering
DESCRIPTION:
URL:https://stmaa.org/event/mow-wows-volunteer-gathering/2023-03-29/
LOCATION:Entire propery
CATEGORIES:Administration
END:VEVENT
BEGIN:VEVENT
DTSTART;TZID=America/Los_Angeles:20230322T083000
DTEND;TZID=America/Los_Angeles:20230322T110000
DTSTAMP:20260419T111041
CREATED:20230107T202533Z
LAST-MODIFIED:20240201T210957Z
UID:10010386-1679473800-1679482800@stmaa.org
SUMMARY:MOW/WOWs volunteer gathering
DESCRIPTION:
URL:https://stmaa.org/event/mow-wows-volunteer-gathering/2023-03-22/
LOCATION:Entire propery
CATEGORIES:Administration
END:VEVENT
BEGIN:VEVENT
DTSTART;TZID=America/Los_Angeles:20230315T083000
DTEND;TZID=America/Los_Angeles:20230315T110000
DTSTAMP:20260419T111041
CREATED:20230107T202533Z
LAST-MODIFIED:20240201T210957Z
UID:10010385-1678869000-1678878000@stmaa.org
SUMMARY:MOW/WOWs volunteer gathering
DESCRIPTION:
URL:https://stmaa.org/event/mow-wows-volunteer-gathering/2023-03-15/
LOCATION:Entire propery
CATEGORIES:Administration
END:VEVENT
BEGIN:VEVENT
DTSTART;TZID=America/Los_Angeles:20230308T083000
DTEND;TZID=America/Los_Angeles:20230308T110000
DTSTAMP:20260419T111041
CREATED:20230107T202533Z
LAST-MODIFIED:20240201T210957Z
UID:10010384-1678264200-1678273200@stmaa.org
SUMMARY:MOW/WOWs volunteer gathering
DESCRIPTION:
URL:https://stmaa.org/event/mow-wows-volunteer-gathering/2023-03-08/
LOCATION:Entire propery
CATEGORIES:Administration
END:VEVENT
BEGIN:VEVENT
DTSTART;TZID=America/Los_Angeles:20230301T083000
DTEND;TZID=America/Los_Angeles:20230301T110000
DTSTAMP:20260419T111041
CREATED:20230107T202533Z
LAST-MODIFIED:20240201T210957Z
UID:10010383-1677659400-1677668400@stmaa.org
SUMMARY:MOW/WOWs volunteer gathering
DESCRIPTION:
URL:https://stmaa.org/event/mow-wows-volunteer-gathering/2023-03-01/
LOCATION:Entire propery
CATEGORIES:Administration
END:VEVENT
BEGIN:VEVENT
DTSTART;TZID=America/Los_Angeles:20230222T083000
DTEND;TZID=America/Los_Angeles:20230222T110000
DTSTAMP:20260419T111041
CREATED:20230107T202533Z
LAST-MODIFIED:20240201T210957Z
UID:10010382-1677054600-1677063600@stmaa.org
SUMMARY:MOW/WOWs volunteer gathering
DESCRIPTION:
URL:https://stmaa.org/event/mow-wows-volunteer-gathering/2023-02-22/
LOCATION:Entire propery
CATEGORIES:Administration
END:VEVENT
BEGIN:VEVENT
DTSTART;TZID=America/Los_Angeles:20230215T083000
DTEND;TZID=America/Los_Angeles:20230215T110000
DTSTAMP:20260419T111041
CREATED:20230107T202533Z
LAST-MODIFIED:20240201T210957Z
UID:10010381-1676449800-1676458800@stmaa.org
SUMMARY:MOW/WOWs volunteer gathering
DESCRIPTION:
URL:https://stmaa.org/event/mow-wows-volunteer-gathering/2023-02-15/
LOCATION:Entire propery
CATEGORIES:Administration
END:VEVENT
BEGIN:VEVENT
DTSTART;TZID=America/Los_Angeles:20230208T083000
DTEND;TZID=America/Los_Angeles:20230208T110000
DTSTAMP:20260419T111041
CREATED:20230107T202533Z
LAST-MODIFIED:20240201T210957Z
UID:10010380-1675845000-1675854000@stmaa.org
SUMMARY:MOW/WOWs volunteer gathering
DESCRIPTION:
URL:https://stmaa.org/event/mow-wows-volunteer-gathering/2023-02-08/
LOCATION:Entire propery
CATEGORIES:Administration
END:VEVENT
BEGIN:VEVENT
DTSTART;TZID=America/Los_Angeles:20230201T083000
DTEND;TZID=America/Los_Angeles:20230201T110000
DTSTAMP:20260419T111041
CREATED:20230107T202533Z
LAST-MODIFIED:20240201T210957Z
UID:10010379-1675240200-1675249200@stmaa.org
SUMMARY:MOW/WOWs volunteer gathering
DESCRIPTION:
URL:https://stmaa.org/event/mow-wows-volunteer-gathering/2023-02-01/
LOCATION:Entire propery
CATEGORIES:Administration
END:VEVENT
BEGIN:VEVENT
DTSTART;TZID=America/Los_Angeles:20230125T083000
DTEND;TZID=America/Los_Angeles:20230125T110000
DTSTAMP:20260419T111041
CREATED:20230107T202533Z
LAST-MODIFIED:20240201T210957Z
UID:10010378-1674635400-1674644400@stmaa.org
SUMMARY:MOW/WOWs volunteer gathering
DESCRIPTION:
URL:https://stmaa.org/event/mow-wows-volunteer-gathering/2023-01-25/
LOCATION:Entire propery
CATEGORIES:Administration
END:VEVENT
BEGIN:VEVENT
DTSTART;TZID=America/Los_Angeles:20230118T083000
DTEND;TZID=America/Los_Angeles:20230118T110000
DTSTAMP:20260419T111041
CREATED:20230107T202533Z
LAST-MODIFIED:20240201T210957Z
UID:10010377-1674030600-1674039600@stmaa.org
SUMMARY:MOW/WOWs volunteer gathering
DESCRIPTION:
URL:https://stmaa.org/event/mow-wows-volunteer-gathering/2023-01-18/
LOCATION:Entire propery
CATEGORIES:Administration
END:VEVENT
BEGIN:VEVENT
DTSTART;TZID=America/Los_Angeles:20230111T083000
DTEND;TZID=America/Los_Angeles:20230111T110000
DTSTAMP:20260419T111041
CREATED:20230107T202533Z
LAST-MODIFIED:20240201T210957Z
UID:10010376-1673425800-1673434800@stmaa.org
SUMMARY:MOW/WOWs volunteer gathering
DESCRIPTION:
URL:https://stmaa.org/event/mow-wows-volunteer-gathering/2023-01-11/
LOCATION:Entire propery
CATEGORIES:Administration
END:VEVENT
BEGIN:VEVENT
DTSTART;TZID=America/Los_Angeles:20230104T083000
DTEND;TZID=America/Los_Angeles:20230104T110000
DTSTAMP:20260419T111041
CREATED:20230107T202533Z
LAST-MODIFIED:20240201T210957Z
UID:10010375-1672821000-1672830000@stmaa.org
SUMMARY:MOW/WOWs volunteer gathering
DESCRIPTION:
URL:https://stmaa.org/event/mow-wows-volunteer-gathering/2023-01-04/
LOCATION:Entire propery
CATEGORIES:Administration
END:VEVENT
BEGIN:VEVENT
DTSTART;TZID=America/Los_Angeles:20221228T083000
DTEND;TZID=America/Los_Angeles:20221228T110000
DTSTAMP:20260419T111041
CREATED:20220320T012715Z
LAST-MODIFIED:20220320T012715Z
UID:10008644-1672216200-1672225200@stmaa.org
SUMMARY:MOW/WOWs
DESCRIPTION:Men and Women on Wednesday facilities volunteers
URL:https://stmaa.org/event/mow-wows-2/2022-12-28/
LOCATION:Entire propery
CATEGORIES:Administration
END:VEVENT
BEGIN:VEVENT
DTSTART;TZID=America/Los_Angeles:20221221T083000
DTEND;TZID=America/Los_Angeles:20221221T110000
DTSTAMP:20260419T111041
CREATED:20220320T012715Z
LAST-MODIFIED:20220320T012715Z
UID:10008643-1671611400-1671620400@stmaa.org
SUMMARY:MOW/WOWs
DESCRIPTION:Men and Women on Wednesday facilities volunteers
URL:https://stmaa.org/event/mow-wows-2/2022-12-21/
LOCATION:Entire propery
CATEGORIES:Administration
END:VEVENT
BEGIN:VEVENT
DTSTART;TZID=America/Los_Angeles:20221214T083000
DTEND;TZID=America/Los_Angeles:20221214T110000
DTSTAMP:20260419T111041
CREATED:20220320T012715Z
LAST-MODIFIED:20220320T012715Z
UID:10008642-1671006600-1671015600@stmaa.org
SUMMARY:MOW/WOWs
DESCRIPTION:Men and Women on Wednesday facilities volunteers
URL:https://stmaa.org/event/mow-wows-2/2022-12-14/
LOCATION:Entire propery
CATEGORIES:Administration
END:VEVENT
BEGIN:VEVENT
DTSTART;TZID=America/Los_Angeles:20221207T083000
DTEND;TZID=America/Los_Angeles:20221207T110000
DTSTAMP:20260419T111041
CREATED:20220320T012715Z
LAST-MODIFIED:20220320T012715Z
UID:10008641-1670401800-1670410800@stmaa.org
SUMMARY:MOW/WOWs
DESCRIPTION:Men and Women on Wednesday facilities volunteers
URL:https://stmaa.org/event/mow-wows-2/2022-12-07/
LOCATION:Entire propery
CATEGORIES:Administration
END:VEVENT
BEGIN:VEVENT
DTSTART;TZID=America/Los_Angeles:20221130T083000
DTEND;TZID=America/Los_Angeles:20221130T110000
DTSTAMP:20260419T111041
CREATED:20220320T012715Z
LAST-MODIFIED:20220320T012715Z
UID:10008640-1669797000-1669806000@stmaa.org
SUMMARY:MOW/WOWs
DESCRIPTION:Men and Women on Wednesday facilities volunteers
URL:https://stmaa.org/event/mow-wows-2/2022-11-30/
LOCATION:Entire propery
CATEGORIES:Administration
END:VEVENT
BEGIN:VEVENT
DTSTART;VALUE=DATE:20221125
DTEND;VALUE=DATE:20221126
DTSTAMP:20260419T111041
CREATED:20221101T194612Z
LAST-MODIFIED:20221101T194612Z
UID:10010350-1669334400-1669420799@stmaa.org
SUMMARY:Office closed for Thanksgiving holiday
DESCRIPTION:
URL:https://stmaa.org/event/office-closed-for-thanksgiving-holiday/2022-11-25/
LOCATION:Entire propery
CATEGORIES:Administration
END:VEVENT
BEGIN:VEVENT
DTSTART;TZID=America/Los_Angeles:20221123T083000
DTEND;TZID=America/Los_Angeles:20221123T110000
DTSTAMP:20260419T111041
CREATED:20220320T012715Z
LAST-MODIFIED:20220320T012715Z
UID:10008639-1669192200-1669201200@stmaa.org
SUMMARY:MOW/WOWs
DESCRIPTION:Men and Women on Wednesday facilities volunteers
URL:https://stmaa.org/event/mow-wows-2/2022-11-23/
LOCATION:Entire propery
CATEGORIES:Administration
END:VEVENT
END:VCALENDAR