BEGIN:VCALENDAR
VERSION:2.0
PRODID:-//St. Michael &amp; All Angels Episcopal Church - ECPv6.15.18//NONSGML v1.0//EN
CALSCALE:GREGORIAN
METHOD:PUBLISH
X-ORIGINAL-URL:https://stmaa.org
X-WR-CALDESC:Events for St. Michael &amp; All Angels Episcopal Church
REFRESH-INTERVAL;VALUE=DURATION:PT1H
X-Robots-Tag:noindex
X-PUBLISHED-TTL:PT1H
BEGIN:VTIMEZONE
TZID:America/Los_Angeles
BEGIN:DAYLIGHT
TZOFFSETFROM:-0800
TZOFFSETTO:-0700
TZNAME:PDT
DTSTART:20210314T100000
END:DAYLIGHT
BEGIN:STANDARD
TZOFFSETFROM:-0700
TZOFFSETTO:-0800
TZNAME:PST
DTSTART:20211107T090000
END:STANDARD
BEGIN:DAYLIGHT
TZOFFSETFROM:-0800
TZOFFSETTO:-0700
TZNAME:PDT
DTSTART:20220313T100000
END:DAYLIGHT
BEGIN:STANDARD
TZOFFSETFROM:-0700
TZOFFSETTO:-0800
TZNAME:PST
DTSTART:20221106T090000
END:STANDARD
BEGIN:DAYLIGHT
TZOFFSETFROM:-0800
TZOFFSETTO:-0700
TZNAME:PDT
DTSTART:20230312T100000
END:DAYLIGHT
BEGIN:STANDARD
TZOFFSETFROM:-0700
TZOFFSETTO:-0800
TZNAME:PST
DTSTART:20231105T090000
END:STANDARD
END:VTIMEZONE
BEGIN:VEVENT
DTSTART;TZID=America/Los_Angeles:20220921T083000
DTEND;TZID=America/Los_Angeles:20220921T110000
DTSTAMP:20260422T231844
CREATED:20220320T012715Z
LAST-MODIFIED:20220320T012715Z
UID:10008630-1663749000-1663758000@stmaa.org
SUMMARY:MOW/WOWs
DESCRIPTION:Men and Women on Wednesday facilities volunteers
URL:https://stmaa.org/event/mow-wows-2/2022-09-21/
LOCATION:Entire propery
CATEGORIES:Administration
END:VEVENT
BEGIN:VEVENT
DTSTART;TZID=America/Los_Angeles:20220914T083000
DTEND;TZID=America/Los_Angeles:20220914T110000
DTSTAMP:20260422T231844
CREATED:20220320T012715Z
LAST-MODIFIED:20220320T012715Z
UID:10008629-1663144200-1663153200@stmaa.org
SUMMARY:MOW/WOWs
DESCRIPTION:Men and Women on Wednesday facilities volunteers
URL:https://stmaa.org/event/mow-wows-2/2022-09-14/
LOCATION:Entire propery
CATEGORIES:Administration
END:VEVENT
BEGIN:VEVENT
DTSTART;TZID=America/Los_Angeles:20220907T083000
DTEND;TZID=America/Los_Angeles:20220907T110000
DTSTAMP:20260422T231844
CREATED:20220320T012715Z
LAST-MODIFIED:20220320T012715Z
UID:10008628-1662539400-1662548400@stmaa.org
SUMMARY:MOW/WOWs
DESCRIPTION:Men and Women on Wednesday facilities volunteers
URL:https://stmaa.org/event/mow-wows-2/2022-09-07/
LOCATION:Entire propery
CATEGORIES:Administration
END:VEVENT
BEGIN:VEVENT
DTSTART;TZID=America/Los_Angeles:20220831T083000
DTEND;TZID=America/Los_Angeles:20220831T110000
DTSTAMP:20260422T231844
CREATED:20220320T012715Z
LAST-MODIFIED:20220320T012715Z
UID:10008627-1661934600-1661943600@stmaa.org
SUMMARY:MOW/WOWs
DESCRIPTION:Men and Women on Wednesday facilities volunteers
URL:https://stmaa.org/event/mow-wows-2/2022-08-31/
LOCATION:Entire propery
CATEGORIES:Administration
END:VEVENT
BEGIN:VEVENT
DTSTART;TZID=America/Los_Angeles:20220824T083000
DTEND;TZID=America/Los_Angeles:20220824T110000
DTSTAMP:20260422T231844
CREATED:20220320T012715Z
LAST-MODIFIED:20220320T012715Z
UID:10008626-1661329800-1661338800@stmaa.org
SUMMARY:MOW/WOWs
DESCRIPTION:Men and Women on Wednesday facilities volunteers
URL:https://stmaa.org/event/mow-wows-2/2022-08-24/
LOCATION:Entire propery
CATEGORIES:Administration
END:VEVENT
BEGIN:VEVENT
DTSTART;TZID=America/Los_Angeles:20220817T083000
DTEND;TZID=America/Los_Angeles:20220817T110000
DTSTAMP:20260422T231844
CREATED:20220320T012715Z
LAST-MODIFIED:20220320T012715Z
UID:10008625-1660725000-1660734000@stmaa.org
SUMMARY:MOW/WOWs
DESCRIPTION:Men and Women on Wednesday facilities volunteers
URL:https://stmaa.org/event/mow-wows-2/2022-08-17/
LOCATION:Entire propery
CATEGORIES:Administration
END:VEVENT
BEGIN:VEVENT
DTSTART;TZID=America/Los_Angeles:20220810T083000
DTEND;TZID=America/Los_Angeles:20220810T110000
DTSTAMP:20260422T231844
CREATED:20220320T012715Z
LAST-MODIFIED:20220320T012715Z
UID:10008624-1660120200-1660129200@stmaa.org
SUMMARY:MOW/WOWs
DESCRIPTION:Men and Women on Wednesday facilities volunteers
URL:https://stmaa.org/event/mow-wows-2/2022-08-10/
LOCATION:Entire propery
CATEGORIES:Administration
END:VEVENT
BEGIN:VEVENT
DTSTART;TZID=America/Los_Angeles:20220803T083000
DTEND;TZID=America/Los_Angeles:20220803T110000
DTSTAMP:20260422T231844
CREATED:20220320T012715Z
LAST-MODIFIED:20220320T012715Z
UID:10008623-1659515400-1659524400@stmaa.org
SUMMARY:MOW/WOWs
DESCRIPTION:Men and Women on Wednesday facilities volunteers
URL:https://stmaa.org/event/mow-wows-2/2022-08-03/
LOCATION:Entire propery
CATEGORIES:Administration
END:VEVENT
BEGIN:VEVENT
DTSTART;TZID=America/Los_Angeles:20220727T083000
DTEND;TZID=America/Los_Angeles:20220727T110000
DTSTAMP:20260422T231844
CREATED:20220320T012715Z
LAST-MODIFIED:20220320T012715Z
UID:10008622-1658910600-1658919600@stmaa.org
SUMMARY:MOW/WOWs
DESCRIPTION:Men and Women on Wednesday facilities volunteers
URL:https://stmaa.org/event/mow-wows-2/2022-07-27/
LOCATION:Entire propery
CATEGORIES:Administration
END:VEVENT
BEGIN:VEVENT
DTSTART;TZID=America/Los_Angeles:20220720T083000
DTEND;TZID=America/Los_Angeles:20220720T110000
DTSTAMP:20260422T231844
CREATED:20220320T012715Z
LAST-MODIFIED:20220320T012715Z
UID:10008621-1658305800-1658314800@stmaa.org
SUMMARY:MOW/WOWs
DESCRIPTION:Men and Women on Wednesday facilities volunteers
URL:https://stmaa.org/event/mow-wows-2/2022-07-20/
LOCATION:Entire propery
CATEGORIES:Administration
END:VEVENT
BEGIN:VEVENT
DTSTART;TZID=America/Los_Angeles:20220713T083000
DTEND;TZID=America/Los_Angeles:20220713T110000
DTSTAMP:20260422T231844
CREATED:20220320T012715Z
LAST-MODIFIED:20220320T012715Z
UID:10008620-1657701000-1657710000@stmaa.org
SUMMARY:MOW/WOWs
DESCRIPTION:Men and Women on Wednesday facilities volunteers
URL:https://stmaa.org/event/mow-wows-2/2022-07-13/
LOCATION:Entire propery
CATEGORIES:Administration
END:VEVENT
BEGIN:VEVENT
DTSTART;TZID=America/Los_Angeles:20220706T083000
DTEND;TZID=America/Los_Angeles:20220706T110000
DTSTAMP:20260422T231844
CREATED:20220320T012715Z
LAST-MODIFIED:20220320T012715Z
UID:10008619-1657096200-1657105200@stmaa.org
SUMMARY:MOW/WOWs
DESCRIPTION:Men and Women on Wednesday facilities volunteers
URL:https://stmaa.org/event/mow-wows-2/2022-07-06/
LOCATION:Entire propery
CATEGORIES:Administration
END:VEVENT
BEGIN:VEVENT
DTSTART;TZID=America/Los_Angeles:20220629T083000
DTEND;TZID=America/Los_Angeles:20220629T110000
DTSTAMP:20260422T231844
CREATED:20220320T012715Z
LAST-MODIFIED:20220320T012715Z
UID:10008618-1656491400-1656500400@stmaa.org
SUMMARY:MOW/WOWs
DESCRIPTION:Men and Women on Wednesday facilities volunteers
URL:https://stmaa.org/event/mow-wows-2/2022-06-29/
LOCATION:Entire propery
CATEGORIES:Administration
END:VEVENT
BEGIN:VEVENT
DTSTART;TZID=America/Los_Angeles:20220622T083000
DTEND;TZID=America/Los_Angeles:20220622T110000
DTSTAMP:20260422T231844
CREATED:20220320T012715Z
LAST-MODIFIED:20220320T012715Z
UID:10008617-1655886600-1655895600@stmaa.org
SUMMARY:MOW/WOWs
DESCRIPTION:Men and Women on Wednesday facilities volunteers
URL:https://stmaa.org/event/mow-wows-2/2022-06-22/
LOCATION:Entire propery
CATEGORIES:Administration
END:VEVENT
BEGIN:VEVENT
DTSTART;TZID=America/Los_Angeles:20220615T083000
DTEND;TZID=America/Los_Angeles:20220615T110000
DTSTAMP:20260422T231844
CREATED:20220320T012715Z
LAST-MODIFIED:20220320T012715Z
UID:10008616-1655281800-1655290800@stmaa.org
SUMMARY:MOW/WOWs
DESCRIPTION:Men and Women on Wednesday facilities volunteers
URL:https://stmaa.org/event/mow-wows-2/2022-06-15/
LOCATION:Entire propery
CATEGORIES:Administration
END:VEVENT
BEGIN:VEVENT
DTSTART;TZID=America/Los_Angeles:20220608T083000
DTEND;TZID=America/Los_Angeles:20220608T110000
DTSTAMP:20260422T231844
CREATED:20220320T012715Z
LAST-MODIFIED:20220320T012715Z
UID:10008615-1654677000-1654686000@stmaa.org
SUMMARY:MOW/WOWs
DESCRIPTION:Men and Women on Wednesday facilities volunteers
URL:https://stmaa.org/event/mow-wows-2/2022-06-08/
LOCATION:Entire propery
CATEGORIES:Administration
END:VEVENT
BEGIN:VEVENT
DTSTART;VALUE=DATE:20220604
DTEND;VALUE=DATE:20220605
DTSTAMP:20260422T231844
CREATED:20220524T194704Z
LAST-MODIFIED:20220524T194732Z
UID:10010254-1654300800-1654387199@stmaa.org
SUMMARY:Broadway Night rehearsal & show
DESCRIPTION:Various spaces will be used during the day and evening.
URL:https://stmaa.org/event/broadway-night-rehearsal-show/2022-06-04/
LOCATION:Entire propery
CATEGORIES:Music events,Music rehearsals
END:VEVENT
BEGIN:VEVENT
DTSTART;VALUE=DATE:20220603
DTEND;VALUE=DATE:20220604
DTSTAMP:20260422T231844
CREATED:20220524T194704Z
LAST-MODIFIED:20220524T194732Z
UID:10010253-1654214400-1654300799@stmaa.org
SUMMARY:Broadway Night rehearsal & show
DESCRIPTION:Various spaces will be used during the day and evening.
URL:https://stmaa.org/event/broadway-night-rehearsal-show/2022-06-03/
LOCATION:Entire propery
CATEGORIES:Music events,Music rehearsals
END:VEVENT
BEGIN:VEVENT
DTSTART;TZID=America/Los_Angeles:20220601T083000
DTEND;TZID=America/Los_Angeles:20220601T110000
DTSTAMP:20260422T231844
CREATED:20220320T012715Z
LAST-MODIFIED:20220320T012715Z
UID:10008614-1654072200-1654081200@stmaa.org
SUMMARY:MOW/WOWs
DESCRIPTION:Men and Women on Wednesday facilities volunteers
URL:https://stmaa.org/event/mow-wows-2/2022-06-01/
LOCATION:Entire propery
CATEGORIES:Administration
END:VEVENT
BEGIN:VEVENT
DTSTART;TZID=America/Los_Angeles:20220525T083000
DTEND;TZID=America/Los_Angeles:20220525T110000
DTSTAMP:20260422T231844
CREATED:20220320T012715Z
LAST-MODIFIED:20220320T012715Z
UID:10008613-1653467400-1653476400@stmaa.org
SUMMARY:MOW/WOWs
DESCRIPTION:Men and Women on Wednesday facilities volunteers
URL:https://stmaa.org/event/mow-wows-2/2022-05-25/
LOCATION:Entire propery
CATEGORIES:Administration
END:VEVENT
BEGIN:VEVENT
DTSTART;TZID=America/Los_Angeles:20220518T083000
DTEND;TZID=America/Los_Angeles:20220518T110000
DTSTAMP:20260422T231844
CREATED:20220320T012715Z
LAST-MODIFIED:20220320T012715Z
UID:10008612-1652862600-1652871600@stmaa.org
SUMMARY:MOW/WOWs
DESCRIPTION:Men and Women on Wednesday facilities volunteers
URL:https://stmaa.org/event/mow-wows-2/2022-05-18/
LOCATION:Entire propery
CATEGORIES:Administration
END:VEVENT
BEGIN:VEVENT
DTSTART;TZID=America/Los_Angeles:20220511T083000
DTEND;TZID=America/Los_Angeles:20220511T110000
DTSTAMP:20260422T231844
CREATED:20220320T012715Z
LAST-MODIFIED:20220320T012715Z
UID:10008611-1652257800-1652266800@stmaa.org
SUMMARY:MOW/WOWs
DESCRIPTION:Men and Women on Wednesday facilities volunteers
URL:https://stmaa.org/event/mow-wows-2/2022-05-11/
LOCATION:Entire propery
CATEGORIES:Administration
END:VEVENT
BEGIN:VEVENT
DTSTART;TZID=America/Los_Angeles:20220504T083000
DTEND;TZID=America/Los_Angeles:20220504T110000
DTSTAMP:20260422T231844
CREATED:20220320T012715Z
LAST-MODIFIED:20220320T012715Z
UID:10008610-1651653000-1651662000@stmaa.org
SUMMARY:MOW/WOWs
DESCRIPTION:Men and Women on Wednesday facilities volunteers
URL:https://stmaa.org/event/mow-wows-2/2022-05-04/
LOCATION:Entire propery
CATEGORIES:Administration
END:VEVENT
BEGIN:VEVENT
DTSTART;TZID=America/Los_Angeles:20220427T083000
DTEND;TZID=America/Los_Angeles:20220427T110000
DTSTAMP:20260422T231844
CREATED:20220320T012715Z
LAST-MODIFIED:20220320T012715Z
UID:10008609-1651048200-1651057200@stmaa.org
SUMMARY:MOW/WOWs
DESCRIPTION:Men and Women on Wednesday facilities volunteers
URL:https://stmaa.org/event/mow-wows-2/2022-04-27/
LOCATION:Entire propery
CATEGORIES:Administration
END:VEVENT
BEGIN:VEVENT
DTSTART;TZID=America/Los_Angeles:20220420T083000
DTEND;TZID=America/Los_Angeles:20220420T110000
DTSTAMP:20260422T231844
CREATED:20220320T012715Z
LAST-MODIFIED:20220320T012715Z
UID:10008608-1650443400-1650452400@stmaa.org
SUMMARY:MOW/WOWs
DESCRIPTION:Men and Women on Wednesday facilities volunteers
URL:https://stmaa.org/event/mow-wows-2/2022-04-20/
LOCATION:Entire propery
CATEGORIES:Administration
END:VEVENT
BEGIN:VEVENT
DTSTART;TZID=America/Los_Angeles:20220413T083000
DTEND;TZID=America/Los_Angeles:20220413T110000
DTSTAMP:20260422T231844
CREATED:20220320T012715Z
LAST-MODIFIED:20220320T012715Z
UID:10008607-1649838600-1649847600@stmaa.org
SUMMARY:MOW/WOWs
DESCRIPTION:Men and Women on Wednesday facilities volunteers
URL:https://stmaa.org/event/mow-wows-2/2022-04-13/
LOCATION:Entire propery
CATEGORIES:Administration
END:VEVENT
BEGIN:VEVENT
DTSTART;TZID=America/Los_Angeles:20220406T083000
DTEND;TZID=America/Los_Angeles:20220406T110000
DTSTAMP:20260422T231844
CREATED:20220320T012715Z
LAST-MODIFIED:20220320T012715Z
UID:10008606-1649233800-1649242800@stmaa.org
SUMMARY:MOW/WOWs
DESCRIPTION:Men and Women on Wednesday facilities volunteers
URL:https://stmaa.org/event/mow-wows-2/2022-04-06/
LOCATION:Entire propery
CATEGORIES:Administration
END:VEVENT
BEGIN:VEVENT
DTSTART;TZID=America/Los_Angeles:20220330T083000
DTEND;TZID=America/Los_Angeles:20220330T110000
DTSTAMP:20260422T231844
CREATED:20220320T012715Z
LAST-MODIFIED:20220320T012715Z
UID:10008605-1648629000-1648638000@stmaa.org
SUMMARY:MOW/WOWs
DESCRIPTION:Men and Women on Wednesday facilities volunteers
URL:https://stmaa.org/event/mow-wows-2/2022-03-30/
LOCATION:Entire propery
CATEGORIES:Administration
END:VEVENT
BEGIN:VEVENT
DTSTART;TZID=America/Los_Angeles:20220323T083000
DTEND;TZID=America/Los_Angeles:20220323T110000
DTSTAMP:20260422T231844
CREATED:20220320T012715Z
LAST-MODIFIED:20220320T012715Z
UID:10008604-1648024200-1648033200@stmaa.org
SUMMARY:MOW/WOWs
DESCRIPTION:Men and Women on Wednesday facilities volunteers
URL:https://stmaa.org/event/mow-wows-2/2022-03-23/
LOCATION:Entire propery
CATEGORIES:Administration
END:VEVENT
BEGIN:VEVENT
DTSTART;TZID=America/Los_Angeles:20220316T083000
DTEND;TZID=America/Los_Angeles:20220316T110000
DTSTAMP:20260422T231844
CREATED:20220320T012715Z
LAST-MODIFIED:20220320T012715Z
UID:10008603-1647419400-1647428400@stmaa.org
SUMMARY:MOW/WOWs
DESCRIPTION:Men and Women on Wednesday facilities volunteers
URL:https://stmaa.org/event/mow-wows-2/2022-03-16/
LOCATION:Entire propery
CATEGORIES:Administration
END:VEVENT
END:VCALENDAR