BEGIN:VCALENDAR
VERSION:2.0
PRODID:-//St. Michael &amp; All Angels Episcopal Church - ECPv6.15.18//NONSGML v1.0//EN
CALSCALE:GREGORIAN
METHOD:PUBLISH
X-WR-CALNAME:St. Michael &amp; All Angels Episcopal Church
X-ORIGINAL-URL:https://stmaa.org
X-WR-CALDESC:Events for St. Michael &amp; All Angels Episcopal Church
REFRESH-INTERVAL;VALUE=DURATION:PT1H
X-Robots-Tag:noindex
X-PUBLISHED-TTL:PT1H
BEGIN:VTIMEZONE
TZID:America/Los_Angeles
BEGIN:DAYLIGHT
TZOFFSETFROM:-0800
TZOFFSETTO:-0700
TZNAME:PDT
DTSTART:20200308T100000
END:DAYLIGHT
BEGIN:STANDARD
TZOFFSETFROM:-0700
TZOFFSETTO:-0800
TZNAME:PST
DTSTART:20201101T090000
END:STANDARD
BEGIN:DAYLIGHT
TZOFFSETFROM:-0800
TZOFFSETTO:-0700
TZNAME:PDT
DTSTART:20210314T100000
END:DAYLIGHT
BEGIN:STANDARD
TZOFFSETFROM:-0700
TZOFFSETTO:-0800
TZNAME:PST
DTSTART:20211107T090000
END:STANDARD
BEGIN:DAYLIGHT
TZOFFSETFROM:-0800
TZOFFSETTO:-0700
TZNAME:PDT
DTSTART:20220313T100000
END:DAYLIGHT
BEGIN:STANDARD
TZOFFSETFROM:-0700
TZOFFSETTO:-0800
TZNAME:PST
DTSTART:20221106T090000
END:STANDARD
BEGIN:DAYLIGHT
TZOFFSETFROM:-0800
TZOFFSETTO:-0700
TZNAME:PDT
DTSTART:20230312T100000
END:DAYLIGHT
BEGIN:STANDARD
TZOFFSETFROM:-0700
TZOFFSETTO:-0800
TZNAME:PST
DTSTART:20231105T090000
END:STANDARD
END:VTIMEZONE
BEGIN:VEVENT
DTSTART;TZID=America/Los_Angeles:20220825T110000
DTEND;TZID=America/Los_Angeles:20220825T130000
DTSTAMP:20260419T054115
CREATED:20220822T195127Z
LAST-MODIFIED:20220822T195127Z
UID:10008925-1661425200-1661432400@stmaa.org
SUMMARY:Sack Lunch Outreach
DESCRIPTION:Prep for the lunch is in St. Michael’s House from 11:00 – 12:00 noon\, and the lunches are handed out in the courtyard from noon to 1:00 pm.
URL:https://stmaa.org/event/sack-lunch-outreach/2022-08-25/
LOCATION:Courtyard\, 1704 NE 43rd Ave\, Portland\, OR\, 97213\, United States
CATEGORIES:Outreach & Justice regular
END:VEVENT
BEGIN:VEVENT
DTSTART;TZID=America/Los_Angeles:20220818T110000
DTEND;TZID=America/Los_Angeles:20220818T130000
DTSTAMP:20260419T054115
CREATED:20220822T195127Z
LAST-MODIFIED:20220822T195127Z
UID:10008924-1660820400-1660827600@stmaa.org
SUMMARY:Sack Lunch Outreach
DESCRIPTION:Prep for the lunch is in St. Michael’s House from 11:00 – 12:00 noon\, and the lunches are handed out in the courtyard from noon to 1:00 pm.
URL:https://stmaa.org/event/sack-lunch-outreach/2022-08-18/
LOCATION:Courtyard\, 1704 NE 43rd Ave\, Portland\, OR\, 97213\, United States
CATEGORIES:Outreach & Justice regular
END:VEVENT
BEGIN:VEVENT
DTSTART;TZID=America/Los_Angeles:20210829T110000
DTEND;TZID=America/Los_Angeles:20210829T120000
DTSTAMP:20260419T054115
CREATED:20210520T234004Z
LAST-MODIFIED:20210520T234004Z
UID:10007526-1630234800-1630238400@stmaa.org
SUMMARY:Sunday Worship in-person & outside
DESCRIPTION:This service will be held in the courtyard. It will be a more relaxed\, conversational type service.
URL:https://stmaa.org/event/sunday-worship-in-person-outside/2021-08-29/
LOCATION:Courtyard\, 1704 NE 43rd Ave\, Portland\, OR\, 97213\, United States
CATEGORIES:Worship regular
END:VEVENT
BEGIN:VEVENT
DTSTART;TZID=America/Los_Angeles:20210822T110000
DTEND;TZID=America/Los_Angeles:20210822T120000
DTSTAMP:20260419T054115
CREATED:20210520T234004Z
LAST-MODIFIED:20210520T234004Z
UID:10007525-1629630000-1629633600@stmaa.org
SUMMARY:Sunday Worship in-person & outside
DESCRIPTION:This service will be held in the courtyard. It will be a more relaxed\, conversational type service.
URL:https://stmaa.org/event/sunday-worship-in-person-outside/2021-08-22/
LOCATION:Courtyard\, 1704 NE 43rd Ave\, Portland\, OR\, 97213\, United States
CATEGORIES:Worship regular
END:VEVENT
BEGIN:VEVENT
DTSTART;TZID=America/Los_Angeles:20210815T110000
DTEND;TZID=America/Los_Angeles:20210815T120000
DTSTAMP:20260419T054115
CREATED:20210520T234004Z
LAST-MODIFIED:20210520T234004Z
UID:10007524-1629025200-1629028800@stmaa.org
SUMMARY:Sunday Worship in-person & outside
DESCRIPTION:This service will be held in the courtyard. It will be a more relaxed\, conversational type service.
URL:https://stmaa.org/event/sunday-worship-in-person-outside/2021-08-15/
LOCATION:Courtyard\, 1704 NE 43rd Ave\, Portland\, OR\, 97213\, United States
CATEGORIES:Worship regular
END:VEVENT
BEGIN:VEVENT
DTSTART;TZID=America/Los_Angeles:20210808T110000
DTEND;TZID=America/Los_Angeles:20210808T120000
DTSTAMP:20260419T054115
CREATED:20210520T234004Z
LAST-MODIFIED:20210520T234004Z
UID:10007523-1628420400-1628424000@stmaa.org
SUMMARY:Sunday Worship in-person & outside
DESCRIPTION:This service will be held in the courtyard. It will be a more relaxed\, conversational type service.
URL:https://stmaa.org/event/sunday-worship-in-person-outside/2021-08-08/
LOCATION:Courtyard\, 1704 NE 43rd Ave\, Portland\, OR\, 97213\, United States
CATEGORIES:Worship regular
END:VEVENT
BEGIN:VEVENT
DTSTART;TZID=America/Los_Angeles:20210801T110000
DTEND;TZID=America/Los_Angeles:20210801T120000
DTSTAMP:20260419T054115
CREATED:20210520T234004Z
LAST-MODIFIED:20210520T234004Z
UID:10007522-1627815600-1627819200@stmaa.org
SUMMARY:Sunday Worship in-person & outside
DESCRIPTION:This service will be held in the courtyard. It will be a more relaxed\, conversational type service.
URL:https://stmaa.org/event/sunday-worship-in-person-outside/2021-08-01/
LOCATION:Courtyard\, 1704 NE 43rd Ave\, Portland\, OR\, 97213\, United States
CATEGORIES:Worship regular
END:VEVENT
BEGIN:VEVENT
DTSTART;TZID=America/Los_Angeles:20210725T110000
DTEND;TZID=America/Los_Angeles:20210725T120000
DTSTAMP:20260419T054115
CREATED:20210520T234004Z
LAST-MODIFIED:20210520T234004Z
UID:10007521-1627210800-1627214400@stmaa.org
SUMMARY:Sunday Worship in-person & outside
DESCRIPTION:This service will be held in the courtyard. It will be a more relaxed\, conversational type service.
URL:https://stmaa.org/event/sunday-worship-in-person-outside/2021-07-25/
LOCATION:Courtyard\, 1704 NE 43rd Ave\, Portland\, OR\, 97213\, United States
CATEGORIES:Worship regular
END:VEVENT
BEGIN:VEVENT
DTSTART;TZID=America/Los_Angeles:20210718T110000
DTEND;TZID=America/Los_Angeles:20210718T120000
DTSTAMP:20260419T054115
CREATED:20210520T234004Z
LAST-MODIFIED:20210520T234004Z
UID:10007520-1626606000-1626609600@stmaa.org
SUMMARY:Sunday Worship in-person & outside
DESCRIPTION:This service will be held in the courtyard. It will be a more relaxed\, conversational type service.
URL:https://stmaa.org/event/sunday-worship-in-person-outside/2021-07-18/
LOCATION:Courtyard\, 1704 NE 43rd Ave\, Portland\, OR\, 97213\, United States
CATEGORIES:Worship regular
END:VEVENT
BEGIN:VEVENT
DTSTART;TZID=America/Los_Angeles:20210711T110000
DTEND;TZID=America/Los_Angeles:20210711T120000
DTSTAMP:20260419T054115
CREATED:20210520T234004Z
LAST-MODIFIED:20210520T234004Z
UID:10007519-1626001200-1626004800@stmaa.org
SUMMARY:Sunday Worship in-person & outside
DESCRIPTION:This service will be held in the courtyard. It will be a more relaxed\, conversational type service.
URL:https://stmaa.org/event/sunday-worship-in-person-outside/2021-07-11/
LOCATION:Courtyard\, 1704 NE 43rd Ave\, Portland\, OR\, 97213\, United States
CATEGORIES:Worship regular
END:VEVENT
BEGIN:VEVENT
DTSTART;TZID=America/Los_Angeles:20210704T110000
DTEND;TZID=America/Los_Angeles:20210704T120000
DTSTAMP:20260419T054115
CREATED:20210520T234004Z
LAST-MODIFIED:20210520T234004Z
UID:10007518-1625396400-1625400000@stmaa.org
SUMMARY:Sunday Worship in-person & outside
DESCRIPTION:This service will be held in the courtyard. It will be a more relaxed\, conversational type service.
URL:https://stmaa.org/event/sunday-worship-in-person-outside/2021-07-04/
LOCATION:Courtyard\, 1704 NE 43rd Ave\, Portland\, OR\, 97213\, United States
CATEGORIES:Worship regular
END:VEVENT
BEGIN:VEVENT
DTSTART;TZID=America/Los_Angeles:20210627T110000
DTEND;TZID=America/Los_Angeles:20210627T120000
DTSTAMP:20260419T054115
CREATED:20210520T234004Z
LAST-MODIFIED:20210520T234004Z
UID:10007517-1624791600-1624795200@stmaa.org
SUMMARY:Sunday Worship in-person & outside
DESCRIPTION:This service will be held in the courtyard. It will be a more relaxed\, conversational type service.
URL:https://stmaa.org/event/sunday-worship-in-person-outside/2021-06-27/
LOCATION:Courtyard\, 1704 NE 43rd Ave\, Portland\, OR\, 97213\, United States
CATEGORIES:Worship regular
END:VEVENT
BEGIN:VEVENT
DTSTART;TZID=America/Los_Angeles:20210620T110000
DTEND;TZID=America/Los_Angeles:20210620T120000
DTSTAMP:20260419T054115
CREATED:20210520T234004Z
LAST-MODIFIED:20210520T234004Z
UID:10007516-1624186800-1624190400@stmaa.org
SUMMARY:Sunday Worship in-person & outside
DESCRIPTION:This service will be held in the courtyard. It will be a more relaxed\, conversational type service.
URL:https://stmaa.org/event/sunday-worship-in-person-outside/2021-06-20/
LOCATION:Courtyard\, 1704 NE 43rd Ave\, Portland\, OR\, 97213\, United States
CATEGORIES:Worship regular
END:VEVENT
BEGIN:VEVENT
DTSTART;TZID=America/Los_Angeles:20210613T110000
DTEND;TZID=America/Los_Angeles:20210613T120000
DTSTAMP:20260419T054115
CREATED:20210520T234004Z
LAST-MODIFIED:20210520T234004Z
UID:10007515-1623582000-1623585600@stmaa.org
SUMMARY:Sunday Worship in-person & outside
DESCRIPTION:This service will be held in the courtyard. It will be a more relaxed\, conversational type service.
URL:https://stmaa.org/event/sunday-worship-in-person-outside/2021-06-13/
LOCATION:Courtyard\, 1704 NE 43rd Ave\, Portland\, OR\, 97213\, United States
CATEGORIES:Worship regular
END:VEVENT
BEGIN:VEVENT
DTSTART;TZID=America/Los_Angeles:20210606T110000
DTEND;TZID=America/Los_Angeles:20210606T120000
DTSTAMP:20260419T054115
CREATED:20210520T234004Z
LAST-MODIFIED:20210520T234004Z
UID:10007514-1622977200-1622980800@stmaa.org
SUMMARY:Sunday Worship in-person & outside
DESCRIPTION:This service will be held in the courtyard. It will be a more relaxed\, conversational type service.
URL:https://stmaa.org/event/sunday-worship-in-person-outside/2021-06-06/
LOCATION:Courtyard\, 1704 NE 43rd Ave\, Portland\, OR\, 97213\, United States
CATEGORIES:Worship regular
END:VEVENT
BEGIN:VEVENT
DTSTART;TZID=America/Los_Angeles:20210530T110000
DTEND;TZID=America/Los_Angeles:20210530T120000
DTSTAMP:20260419T054115
CREATED:20210520T234004Z
LAST-MODIFIED:20210520T234004Z
UID:10007513-1622372400-1622376000@stmaa.org
SUMMARY:Sunday Worship in-person & outside
DESCRIPTION:This service will be held in the courtyard. It will be a more relaxed\, conversational type service.
URL:https://stmaa.org/event/sunday-worship-in-person-outside/2021-05-30/
LOCATION:Courtyard\, 1704 NE 43rd Ave\, Portland\, OR\, 97213\, United States
CATEGORIES:Worship regular
END:VEVENT
BEGIN:VEVENT
DTSTART;TZID=America/Los_Angeles:20210523T110000
DTEND;TZID=America/Los_Angeles:20210523T120000
DTSTAMP:20260419T054115
CREATED:20210520T234004Z
LAST-MODIFIED:20210520T234004Z
UID:10007512-1621767600-1621771200@stmaa.org
SUMMARY:Sunday Worship in-person & outside
DESCRIPTION:This service will be held in the courtyard. It will be a more relaxed\, conversational type service.
URL:https://stmaa.org/event/sunday-worship-in-person-outside/2021-05-23/
LOCATION:Courtyard\, 1704 NE 43rd Ave\, Portland\, OR\, 97213\, United States
CATEGORIES:Worship regular
END:VEVENT
BEGIN:VEVENT
DTSTART;TZID=America/Los_Angeles:20210402T180000
DTEND;TZID=America/Los_Angeles:20210402T190000
DTSTAMP:20260419T054115
CREATED:20210325T220139Z
LAST-MODIFIED:20210325T220139Z
UID:10007493-1617386400-1617390000@stmaa.org
SUMMARY:Good Friday service (bilingual)
DESCRIPTION:
URL:https://stmaa.org/event/good-friday-service-bilingual/
LOCATION:Courtyard\, 1704 NE 43rd Ave\, Portland\, OR\, 97213\, United States
CATEGORIES:Worship events
END:VEVENT
END:VCALENDAR