BEGIN:VCALENDAR
VERSION:2.0
PRODID:-//St. Michael &amp; All Angels Episcopal Church - ECPv6.15.18//NONSGML v1.0//EN
CALSCALE:GREGORIAN
METHOD:PUBLISH
X-WR-CALNAME:St. Michael &amp; All Angels Episcopal Church
X-ORIGINAL-URL:https://stmaa.org
X-WR-CALDESC:Events for St. Michael &amp; All Angels Episcopal Church
REFRESH-INTERVAL;VALUE=DURATION:PT1H
X-Robots-Tag:noindex
X-PUBLISHED-TTL:PT1H
BEGIN:VTIMEZONE
TZID:America/Los_Angeles
BEGIN:DAYLIGHT
TZOFFSETFROM:-0800
TZOFFSETTO:-0700
TZNAME:PDT
DTSTART:20240310T100000
END:DAYLIGHT
BEGIN:STANDARD
TZOFFSETFROM:-0700
TZOFFSETTO:-0800
TZNAME:PST
DTSTART:20241103T090000
END:STANDARD
BEGIN:DAYLIGHT
TZOFFSETFROM:-0800
TZOFFSETTO:-0700
TZNAME:PDT
DTSTART:20250309T100000
END:DAYLIGHT
BEGIN:STANDARD
TZOFFSETFROM:-0700
TZOFFSETTO:-0800
TZNAME:PST
DTSTART:20251102T090000
END:STANDARD
BEGIN:DAYLIGHT
TZOFFSETFROM:-0800
TZOFFSETTO:-0700
TZNAME:PDT
DTSTART:20260308T100000
END:DAYLIGHT
BEGIN:STANDARD
TZOFFSETFROM:-0700
TZOFFSETTO:-0800
TZNAME:PST
DTSTART:20261101T090000
END:STANDARD
END:VTIMEZONE
BEGIN:VEVENT
DTSTART;TZID=America/Los_Angeles:20250426T190000
DTEND;TZID=America/Los_Angeles:20250426T203000
DTSTAMP:20260425T084817
CREATED:20230107T211234Z
LAST-MODIFIED:20240201T201151Z
UID:10012768-1745694000-1745699400@stmaa.org
SUMMARY:Al-Anon meeting
DESCRIPTION:
URL:https://stmaa.org/event/al-anon-meeting-2/2025-04-26/
LOCATION:Raphael Room\, 1704 NE 43rd Ave\, Portland\, OR\, 97213\, United States
CATEGORIES:Recovery meetings
GEO:37.09024;-95.712891
X-APPLE-STRUCTURED-LOCATION;VALUE=URI;X-ADDRESS=Raphael Room 1704 NE 43rd Ave Portland OR 97213 United States;X-APPLE-RADIUS=500;X-TITLE=1704 NE 43rd Ave:geo:-95.712891,37.09024
END:VEVENT
BEGIN:VEVENT
DTSTART;TZID=America/Los_Angeles:20250426T190000
DTEND;TZID=America/Los_Angeles:20250426T203000
DTSTAMP:20260425T084817
CREATED:20230107T211234Z
LAST-MODIFIED:20230107T211234Z
UID:10013862-1745694000-1745699400@stmaa.org
SUMMARY:Al-Anon meeting
DESCRIPTION:
URL:https://stmaa.org/event/al-anon-meeting-2/2025-04-26/
LOCATION:Raphael Room\, 1704 NE 43rd Ave\, Portland\, OR\, 97213\, United States
CATEGORIES:Recovery meetings
GEO:37.09024;-95.712891
X-APPLE-STRUCTURED-LOCATION;VALUE=URI;X-ADDRESS=Raphael Room 1704 NE 43rd Ave Portland OR 97213 United States;X-APPLE-RADIUS=500;X-TITLE=1704 NE 43rd Ave:geo:-95.712891,37.09024
END:VEVENT
BEGIN:VEVENT
DTSTART;TZID=America/Los_Angeles:20250426T190000
DTEND;TZID=America/Los_Angeles:20250426T203000
DTSTAMP:20260425T084817
CREATED:20230107T211234Z
LAST-MODIFIED:20230107T211234Z
UID:10013976-1745694000-1745699400@stmaa.org
SUMMARY:Al-Anon meeting
DESCRIPTION:
URL:https://stmaa.org/event/al-anon-meeting-2/2025-04-26/
LOCATION:Raphael Room\, 1704 NE 43rd Ave\, Portland\, OR\, 97213\, United States
CATEGORIES:Recovery meetings
GEO:37.09024;-95.712891
X-APPLE-STRUCTURED-LOCATION;VALUE=URI;X-ADDRESS=Raphael Room 1704 NE 43rd Ave Portland OR 97213 United States;X-APPLE-RADIUS=500;X-TITLE=1704 NE 43rd Ave:geo:-95.712891,37.09024
END:VEVENT
BEGIN:VEVENT
DTSTART;TZID=America/Los_Angeles:20250426T190000
DTEND;TZID=America/Los_Angeles:20250426T203000
DTSTAMP:20260425T084817
CREATED:20230107T211234Z
LAST-MODIFIED:20230107T211234Z
UID:10014089-1745694000-1745699400@stmaa.org
SUMMARY:Al-Anon meeting
DESCRIPTION:
URL:https://stmaa.org/event/al-anon-meeting-2/2025-04-26/
LOCATION:Raphael Room\, 1704 NE 43rd Ave\, Portland\, OR\, 97213\, United States
CATEGORIES:Recovery meetings
GEO:37.09024;-95.712891
X-APPLE-STRUCTURED-LOCATION;VALUE=URI;X-ADDRESS=Raphael Room 1704 NE 43rd Ave Portland OR 97213 United States;X-APPLE-RADIUS=500;X-TITLE=1704 NE 43rd Ave:geo:-95.712891,37.09024
END:VEVENT
BEGIN:VEVENT
DTSTART;TZID=America/Los_Angeles:20250426T190000
DTEND;TZID=America/Los_Angeles:20250426T203000
DTSTAMP:20260425T084817
CREATED:20230107T211234Z
LAST-MODIFIED:20230107T211234Z
UID:10014201-1745694000-1745699400@stmaa.org
SUMMARY:Al-Anon meeting
DESCRIPTION:
URL:https://stmaa.org/event/al-anon-meeting-2/2025-04-26/
LOCATION:Raphael Room\, 1704 NE 43rd Ave\, Portland\, OR\, 97213\, United States
CATEGORIES:Recovery meetings
GEO:37.09024;-95.712891
X-APPLE-STRUCTURED-LOCATION;VALUE=URI;X-ADDRESS=Raphael Room 1704 NE 43rd Ave Portland OR 97213 United States;X-APPLE-RADIUS=500;X-TITLE=1704 NE 43rd Ave:geo:-95.712891,37.09024
END:VEVENT
BEGIN:VEVENT
DTSTART;TZID=America/Los_Angeles:20250426T190000
DTEND;TZID=America/Los_Angeles:20250426T203000
DTSTAMP:20260425T084817
CREATED:20230107T211234Z
LAST-MODIFIED:20230107T211234Z
UID:10014312-1745694000-1745699400@stmaa.org
SUMMARY:Al-Anon meeting
DESCRIPTION:
URL:https://stmaa.org/event/al-anon-meeting-2/2025-04-26/
LOCATION:Raphael Room\, 1704 NE 43rd Ave\, Portland\, OR\, 97213\, United States
CATEGORIES:Recovery meetings
GEO:37.09024;-95.712891
X-APPLE-STRUCTURED-LOCATION;VALUE=URI;X-ADDRESS=Raphael Room 1704 NE 43rd Ave Portland OR 97213 United States;X-APPLE-RADIUS=500;X-TITLE=1704 NE 43rd Ave:geo:-95.712891,37.09024
END:VEVENT
BEGIN:VEVENT
DTSTART;TZID=America/Los_Angeles:20250426T190000
DTEND;TZID=America/Los_Angeles:20250426T203000
DTSTAMP:20260425T084817
CREATED:20230107T211234Z
LAST-MODIFIED:20230107T211234Z
UID:10014422-1745694000-1745699400@stmaa.org
SUMMARY:Al-Anon meeting
DESCRIPTION:
URL:https://stmaa.org/event/al-anon-meeting-2/2025-04-26/
LOCATION:Raphael Room\, 1704 NE 43rd Ave\, Portland\, OR\, 97213\, United States
CATEGORIES:Recovery meetings
GEO:37.09024;-95.712891
X-APPLE-STRUCTURED-LOCATION;VALUE=URI;X-ADDRESS=Raphael Room 1704 NE 43rd Ave Portland OR 97213 United States;X-APPLE-RADIUS=500;X-TITLE=1704 NE 43rd Ave:geo:-95.712891,37.09024
END:VEVENT
BEGIN:VEVENT
DTSTART;TZID=America/Los_Angeles:20250426T190000
DTEND;TZID=America/Los_Angeles:20250426T203000
DTSTAMP:20260425T084817
CREATED:20230107T211234Z
LAST-MODIFIED:20230107T211234Z
UID:10014531-1745694000-1745699400@stmaa.org
SUMMARY:Al-Anon meeting
DESCRIPTION:
URL:https://stmaa.org/event/al-anon-meeting-2/2025-04-26/
LOCATION:Raphael Room\, 1704 NE 43rd Ave\, Portland\, OR\, 97213\, United States
CATEGORIES:Recovery meetings
GEO:37.09024;-95.712891
X-APPLE-STRUCTURED-LOCATION;VALUE=URI;X-ADDRESS=Raphael Room 1704 NE 43rd Ave Portland OR 97213 United States;X-APPLE-RADIUS=500;X-TITLE=1704 NE 43rd Ave:geo:-95.712891,37.09024
END:VEVENT
BEGIN:VEVENT
DTSTART;TZID=America/Los_Angeles:20250426T190000
DTEND;TZID=America/Los_Angeles:20250426T203000
DTSTAMP:20260425T084817
CREATED:20230107T211234Z
LAST-MODIFIED:20230107T211234Z
UID:10014639-1745694000-1745699400@stmaa.org
SUMMARY:Al-Anon meeting
DESCRIPTION:
URL:https://stmaa.org/event/al-anon-meeting-2/2025-04-26/
LOCATION:Raphael Room\, 1704 NE 43rd Ave\, Portland\, OR\, 97213\, United States
CATEGORIES:Recovery meetings
GEO:37.09024;-95.712891
X-APPLE-STRUCTURED-LOCATION;VALUE=URI;X-ADDRESS=Raphael Room 1704 NE 43rd Ave Portland OR 97213 United States;X-APPLE-RADIUS=500;X-TITLE=1704 NE 43rd Ave:geo:-95.712891,37.09024
END:VEVENT
BEGIN:VEVENT
DTSTART;TZID=America/Los_Angeles:20250426T190000
DTEND;TZID=America/Los_Angeles:20250426T203000
DTSTAMP:20260425T084817
CREATED:20230107T211234Z
LAST-MODIFIED:20230107T211234Z
UID:10014746-1745694000-1745699400@stmaa.org
SUMMARY:Al-Anon meeting
DESCRIPTION:
URL:https://stmaa.org/event/al-anon-meeting-2/2025-04-26/
LOCATION:Raphael Room\, 1704 NE 43rd Ave\, Portland\, OR\, 97213\, United States
CATEGORIES:Recovery meetings
GEO:37.09024;-95.712891
X-APPLE-STRUCTURED-LOCATION;VALUE=URI;X-ADDRESS=Raphael Room 1704 NE 43rd Ave Portland OR 97213 United States;X-APPLE-RADIUS=500;X-TITLE=1704 NE 43rd Ave:geo:-95.712891,37.09024
END:VEVENT
BEGIN:VEVENT
DTSTART;TZID=America/Los_Angeles:20250426T190000
DTEND;TZID=America/Los_Angeles:20250426T203000
DTSTAMP:20260425T084817
CREATED:20230107T211234Z
LAST-MODIFIED:20230107T211234Z
UID:10014852-1745694000-1745699400@stmaa.org
SUMMARY:Al-Anon meeting
DESCRIPTION:
URL:https://stmaa.org/event/al-anon-meeting-2/2025-04-26/
LOCATION:Raphael Room\, 1704 NE 43rd Ave\, Portland\, OR\, 97213\, United States
CATEGORIES:Recovery meetings
GEO:37.09024;-95.712891
X-APPLE-STRUCTURED-LOCATION;VALUE=URI;X-ADDRESS=Raphael Room 1704 NE 43rd Ave Portland OR 97213 United States;X-APPLE-RADIUS=500;X-TITLE=1704 NE 43rd Ave:geo:-95.712891,37.09024
END:VEVENT
BEGIN:VEVENT
DTSTART;TZID=America/Los_Angeles:20250426T190000
DTEND;TZID=America/Los_Angeles:20250426T203000
DTSTAMP:20260425T084817
CREATED:20230107T211234Z
LAST-MODIFIED:20230107T211234Z
UID:10014957-1745694000-1745699400@stmaa.org
SUMMARY:Al-Anon meeting
DESCRIPTION:
URL:https://stmaa.org/event/al-anon-meeting-2/2025-04-26/
LOCATION:Raphael Room\, 1704 NE 43rd Ave\, Portland\, OR\, 97213\, United States
CATEGORIES:Recovery meetings
GEO:37.09024;-95.712891
X-APPLE-STRUCTURED-LOCATION;VALUE=URI;X-ADDRESS=Raphael Room 1704 NE 43rd Ave Portland OR 97213 United States;X-APPLE-RADIUS=500;X-TITLE=1704 NE 43rd Ave:geo:-95.712891,37.09024
END:VEVENT
BEGIN:VEVENT
DTSTART;TZID=America/Los_Angeles:20250419T190000
DTEND;TZID=America/Los_Angeles:20250419T203000
DTSTAMP:20260425T084817
CREATED:20230107T211234Z
LAST-MODIFIED:20240201T201151Z
UID:10012767-1745089200-1745094600@stmaa.org
SUMMARY:Al-Anon meeting
DESCRIPTION:
URL:https://stmaa.org/event/al-anon-meeting-2/2025-04-19/
LOCATION:Raphael Room\, 1704 NE 43rd Ave\, Portland\, OR\, 97213\, United States
CATEGORIES:Recovery meetings
GEO:37.09024;-95.712891
X-APPLE-STRUCTURED-LOCATION;VALUE=URI;X-ADDRESS=Raphael Room 1704 NE 43rd Ave Portland OR 97213 United States;X-APPLE-RADIUS=500;X-TITLE=1704 NE 43rd Ave:geo:-95.712891,37.09024
END:VEVENT
BEGIN:VEVENT
DTSTART;TZID=America/Los_Angeles:20250419T190000
DTEND;TZID=America/Los_Angeles:20250419T203000
DTSTAMP:20260425T084817
CREATED:20230107T211234Z
LAST-MODIFIED:20230107T211234Z
UID:10013861-1745089200-1745094600@stmaa.org
SUMMARY:Al-Anon meeting
DESCRIPTION:
URL:https://stmaa.org/event/al-anon-meeting-2/2025-04-19/
LOCATION:Raphael Room\, 1704 NE 43rd Ave\, Portland\, OR\, 97213\, United States
CATEGORIES:Recovery meetings
GEO:37.09024;-95.712891
X-APPLE-STRUCTURED-LOCATION;VALUE=URI;X-ADDRESS=Raphael Room 1704 NE 43rd Ave Portland OR 97213 United States;X-APPLE-RADIUS=500;X-TITLE=1704 NE 43rd Ave:geo:-95.712891,37.09024
END:VEVENT
BEGIN:VEVENT
DTSTART;TZID=America/Los_Angeles:20250419T190000
DTEND;TZID=America/Los_Angeles:20250419T203000
DTSTAMP:20260425T084817
CREATED:20230107T211234Z
LAST-MODIFIED:20230107T211234Z
UID:10013975-1745089200-1745094600@stmaa.org
SUMMARY:Al-Anon meeting
DESCRIPTION:
URL:https://stmaa.org/event/al-anon-meeting-2/2025-04-19/
LOCATION:Raphael Room\, 1704 NE 43rd Ave\, Portland\, OR\, 97213\, United States
CATEGORIES:Recovery meetings
GEO:37.09024;-95.712891
X-APPLE-STRUCTURED-LOCATION;VALUE=URI;X-ADDRESS=Raphael Room 1704 NE 43rd Ave Portland OR 97213 United States;X-APPLE-RADIUS=500;X-TITLE=1704 NE 43rd Ave:geo:-95.712891,37.09024
END:VEVENT
BEGIN:VEVENT
DTSTART;TZID=America/Los_Angeles:20250419T190000
DTEND;TZID=America/Los_Angeles:20250419T203000
DTSTAMP:20260425T084817
CREATED:20230107T211234Z
LAST-MODIFIED:20230107T211234Z
UID:10014088-1745089200-1745094600@stmaa.org
SUMMARY:Al-Anon meeting
DESCRIPTION:
URL:https://stmaa.org/event/al-anon-meeting-2/2025-04-19/
LOCATION:Raphael Room\, 1704 NE 43rd Ave\, Portland\, OR\, 97213\, United States
CATEGORIES:Recovery meetings
GEO:37.09024;-95.712891
X-APPLE-STRUCTURED-LOCATION;VALUE=URI;X-ADDRESS=Raphael Room 1704 NE 43rd Ave Portland OR 97213 United States;X-APPLE-RADIUS=500;X-TITLE=1704 NE 43rd Ave:geo:-95.712891,37.09024
END:VEVENT
BEGIN:VEVENT
DTSTART;TZID=America/Los_Angeles:20250419T190000
DTEND;TZID=America/Los_Angeles:20250419T203000
DTSTAMP:20260425T084817
CREATED:20230107T211234Z
LAST-MODIFIED:20230107T211234Z
UID:10014200-1745089200-1745094600@stmaa.org
SUMMARY:Al-Anon meeting
DESCRIPTION:
URL:https://stmaa.org/event/al-anon-meeting-2/2025-04-19/
LOCATION:Raphael Room\, 1704 NE 43rd Ave\, Portland\, OR\, 97213\, United States
CATEGORIES:Recovery meetings
GEO:37.09024;-95.712891
X-APPLE-STRUCTURED-LOCATION;VALUE=URI;X-ADDRESS=Raphael Room 1704 NE 43rd Ave Portland OR 97213 United States;X-APPLE-RADIUS=500;X-TITLE=1704 NE 43rd Ave:geo:-95.712891,37.09024
END:VEVENT
BEGIN:VEVENT
DTSTART;TZID=America/Los_Angeles:20250419T190000
DTEND;TZID=America/Los_Angeles:20250419T203000
DTSTAMP:20260425T084817
CREATED:20230107T211234Z
LAST-MODIFIED:20230107T211234Z
UID:10014311-1745089200-1745094600@stmaa.org
SUMMARY:Al-Anon meeting
DESCRIPTION:
URL:https://stmaa.org/event/al-anon-meeting-2/2025-04-19/
LOCATION:Raphael Room\, 1704 NE 43rd Ave\, Portland\, OR\, 97213\, United States
CATEGORIES:Recovery meetings
GEO:37.09024;-95.712891
X-APPLE-STRUCTURED-LOCATION;VALUE=URI;X-ADDRESS=Raphael Room 1704 NE 43rd Ave Portland OR 97213 United States;X-APPLE-RADIUS=500;X-TITLE=1704 NE 43rd Ave:geo:-95.712891,37.09024
END:VEVENT
BEGIN:VEVENT
DTSTART;TZID=America/Los_Angeles:20250419T190000
DTEND;TZID=America/Los_Angeles:20250419T203000
DTSTAMP:20260425T084817
CREATED:20230107T211234Z
LAST-MODIFIED:20230107T211234Z
UID:10014421-1745089200-1745094600@stmaa.org
SUMMARY:Al-Anon meeting
DESCRIPTION:
URL:https://stmaa.org/event/al-anon-meeting-2/2025-04-19/
LOCATION:Raphael Room\, 1704 NE 43rd Ave\, Portland\, OR\, 97213\, United States
CATEGORIES:Recovery meetings
GEO:37.09024;-95.712891
X-APPLE-STRUCTURED-LOCATION;VALUE=URI;X-ADDRESS=Raphael Room 1704 NE 43rd Ave Portland OR 97213 United States;X-APPLE-RADIUS=500;X-TITLE=1704 NE 43rd Ave:geo:-95.712891,37.09024
END:VEVENT
BEGIN:VEVENT
DTSTART;TZID=America/Los_Angeles:20250419T190000
DTEND;TZID=America/Los_Angeles:20250419T203000
DTSTAMP:20260425T084817
CREATED:20230107T211234Z
LAST-MODIFIED:20230107T211234Z
UID:10014530-1745089200-1745094600@stmaa.org
SUMMARY:Al-Anon meeting
DESCRIPTION:
URL:https://stmaa.org/event/al-anon-meeting-2/2025-04-19/
LOCATION:Raphael Room\, 1704 NE 43rd Ave\, Portland\, OR\, 97213\, United States
CATEGORIES:Recovery meetings
GEO:37.09024;-95.712891
X-APPLE-STRUCTURED-LOCATION;VALUE=URI;X-ADDRESS=Raphael Room 1704 NE 43rd Ave Portland OR 97213 United States;X-APPLE-RADIUS=500;X-TITLE=1704 NE 43rd Ave:geo:-95.712891,37.09024
END:VEVENT
BEGIN:VEVENT
DTSTART;TZID=America/Los_Angeles:20250419T190000
DTEND;TZID=America/Los_Angeles:20250419T203000
DTSTAMP:20260425T084817
CREATED:20230107T211234Z
LAST-MODIFIED:20230107T211234Z
UID:10014638-1745089200-1745094600@stmaa.org
SUMMARY:Al-Anon meeting
DESCRIPTION:
URL:https://stmaa.org/event/al-anon-meeting-2/2025-04-19/
LOCATION:Raphael Room\, 1704 NE 43rd Ave\, Portland\, OR\, 97213\, United States
CATEGORIES:Recovery meetings
GEO:37.09024;-95.712891
X-APPLE-STRUCTURED-LOCATION;VALUE=URI;X-ADDRESS=Raphael Room 1704 NE 43rd Ave Portland OR 97213 United States;X-APPLE-RADIUS=500;X-TITLE=1704 NE 43rd Ave:geo:-95.712891,37.09024
END:VEVENT
BEGIN:VEVENT
DTSTART;TZID=America/Los_Angeles:20250419T190000
DTEND;TZID=America/Los_Angeles:20250419T203000
DTSTAMP:20260425T084817
CREATED:20230107T211234Z
LAST-MODIFIED:20230107T211234Z
UID:10014745-1745089200-1745094600@stmaa.org
SUMMARY:Al-Anon meeting
DESCRIPTION:
URL:https://stmaa.org/event/al-anon-meeting-2/2025-04-19/
LOCATION:Raphael Room\, 1704 NE 43rd Ave\, Portland\, OR\, 97213\, United States
CATEGORIES:Recovery meetings
GEO:37.09024;-95.712891
X-APPLE-STRUCTURED-LOCATION;VALUE=URI;X-ADDRESS=Raphael Room 1704 NE 43rd Ave Portland OR 97213 United States;X-APPLE-RADIUS=500;X-TITLE=1704 NE 43rd Ave:geo:-95.712891,37.09024
END:VEVENT
BEGIN:VEVENT
DTSTART;TZID=America/Los_Angeles:20250419T190000
DTEND;TZID=America/Los_Angeles:20250419T203000
DTSTAMP:20260425T084817
CREATED:20230107T211234Z
LAST-MODIFIED:20230107T211234Z
UID:10014851-1745089200-1745094600@stmaa.org
SUMMARY:Al-Anon meeting
DESCRIPTION:
URL:https://stmaa.org/event/al-anon-meeting-2/2025-04-19/
LOCATION:Raphael Room\, 1704 NE 43rd Ave\, Portland\, OR\, 97213\, United States
CATEGORIES:Recovery meetings
GEO:37.09024;-95.712891
X-APPLE-STRUCTURED-LOCATION;VALUE=URI;X-ADDRESS=Raphael Room 1704 NE 43rd Ave Portland OR 97213 United States;X-APPLE-RADIUS=500;X-TITLE=1704 NE 43rd Ave:geo:-95.712891,37.09024
END:VEVENT
BEGIN:VEVENT
DTSTART;TZID=America/Los_Angeles:20250419T190000
DTEND;TZID=America/Los_Angeles:20250419T203000
DTSTAMP:20260425T084817
CREATED:20230107T211234Z
LAST-MODIFIED:20230107T211234Z
UID:10014956-1745089200-1745094600@stmaa.org
SUMMARY:Al-Anon meeting
DESCRIPTION:
URL:https://stmaa.org/event/al-anon-meeting-2/2025-04-19/
LOCATION:Raphael Room\, 1704 NE 43rd Ave\, Portland\, OR\, 97213\, United States
CATEGORIES:Recovery meetings
GEO:37.09024;-95.712891
X-APPLE-STRUCTURED-LOCATION;VALUE=URI;X-ADDRESS=Raphael Room 1704 NE 43rd Ave Portland OR 97213 United States;X-APPLE-RADIUS=500;X-TITLE=1704 NE 43rd Ave:geo:-95.712891,37.09024
END:VEVENT
BEGIN:VEVENT
DTSTART;TZID=America/Los_Angeles:20250412T190000
DTEND;TZID=America/Los_Angeles:20250412T203000
DTSTAMP:20260425T084817
CREATED:20230107T211234Z
LAST-MODIFIED:20240201T201151Z
UID:10012766-1744484400-1744489800@stmaa.org
SUMMARY:Al-Anon meeting
DESCRIPTION:
URL:https://stmaa.org/event/al-anon-meeting-2/2025-04-12/
LOCATION:Raphael Room\, 1704 NE 43rd Ave\, Portland\, OR\, 97213\, United States
CATEGORIES:Recovery meetings
GEO:37.09024;-95.712891
X-APPLE-STRUCTURED-LOCATION;VALUE=URI;X-ADDRESS=Raphael Room 1704 NE 43rd Ave Portland OR 97213 United States;X-APPLE-RADIUS=500;X-TITLE=1704 NE 43rd Ave:geo:-95.712891,37.09024
END:VEVENT
BEGIN:VEVENT
DTSTART;TZID=America/Los_Angeles:20250412T190000
DTEND;TZID=America/Los_Angeles:20250412T203000
DTSTAMP:20260425T084817
CREATED:20230107T211234Z
LAST-MODIFIED:20230107T211234Z
UID:10013860-1744484400-1744489800@stmaa.org
SUMMARY:Al-Anon meeting
DESCRIPTION:
URL:https://stmaa.org/event/al-anon-meeting-2/2025-04-12/
LOCATION:Raphael Room\, 1704 NE 43rd Ave\, Portland\, OR\, 97213\, United States
CATEGORIES:Recovery meetings
GEO:37.09024;-95.712891
X-APPLE-STRUCTURED-LOCATION;VALUE=URI;X-ADDRESS=Raphael Room 1704 NE 43rd Ave Portland OR 97213 United States;X-APPLE-RADIUS=500;X-TITLE=1704 NE 43rd Ave:geo:-95.712891,37.09024
END:VEVENT
BEGIN:VEVENT
DTSTART;TZID=America/Los_Angeles:20250412T190000
DTEND;TZID=America/Los_Angeles:20250412T203000
DTSTAMP:20260425T084817
CREATED:20230107T211234Z
LAST-MODIFIED:20230107T211234Z
UID:10013974-1744484400-1744489800@stmaa.org
SUMMARY:Al-Anon meeting
DESCRIPTION:
URL:https://stmaa.org/event/al-anon-meeting-2/2025-04-12/
LOCATION:Raphael Room\, 1704 NE 43rd Ave\, Portland\, OR\, 97213\, United States
CATEGORIES:Recovery meetings
GEO:37.09024;-95.712891
X-APPLE-STRUCTURED-LOCATION;VALUE=URI;X-ADDRESS=Raphael Room 1704 NE 43rd Ave Portland OR 97213 United States;X-APPLE-RADIUS=500;X-TITLE=1704 NE 43rd Ave:geo:-95.712891,37.09024
END:VEVENT
BEGIN:VEVENT
DTSTART;TZID=America/Los_Angeles:20250412T190000
DTEND;TZID=America/Los_Angeles:20250412T203000
DTSTAMP:20260425T084817
CREATED:20230107T211234Z
LAST-MODIFIED:20230107T211234Z
UID:10014087-1744484400-1744489800@stmaa.org
SUMMARY:Al-Anon meeting
DESCRIPTION:
URL:https://stmaa.org/event/al-anon-meeting-2/2025-04-12/
LOCATION:Raphael Room\, 1704 NE 43rd Ave\, Portland\, OR\, 97213\, United States
CATEGORIES:Recovery meetings
GEO:37.09024;-95.712891
X-APPLE-STRUCTURED-LOCATION;VALUE=URI;X-ADDRESS=Raphael Room 1704 NE 43rd Ave Portland OR 97213 United States;X-APPLE-RADIUS=500;X-TITLE=1704 NE 43rd Ave:geo:-95.712891,37.09024
END:VEVENT
BEGIN:VEVENT
DTSTART;TZID=America/Los_Angeles:20250412T190000
DTEND;TZID=America/Los_Angeles:20250412T203000
DTSTAMP:20260425T084817
CREATED:20230107T211234Z
LAST-MODIFIED:20230107T211234Z
UID:10014199-1744484400-1744489800@stmaa.org
SUMMARY:Al-Anon meeting
DESCRIPTION:
URL:https://stmaa.org/event/al-anon-meeting-2/2025-04-12/
LOCATION:Raphael Room\, 1704 NE 43rd Ave\, Portland\, OR\, 97213\, United States
CATEGORIES:Recovery meetings
GEO:37.09024;-95.712891
X-APPLE-STRUCTURED-LOCATION;VALUE=URI;X-ADDRESS=Raphael Room 1704 NE 43rd Ave Portland OR 97213 United States;X-APPLE-RADIUS=500;X-TITLE=1704 NE 43rd Ave:geo:-95.712891,37.09024
END:VEVENT
BEGIN:VEVENT
DTSTART;TZID=America/Los_Angeles:20250412T190000
DTEND;TZID=America/Los_Angeles:20250412T203000
DTSTAMP:20260425T084817
CREATED:20230107T211234Z
LAST-MODIFIED:20230107T211234Z
UID:10014310-1744484400-1744489800@stmaa.org
SUMMARY:Al-Anon meeting
DESCRIPTION:
URL:https://stmaa.org/event/al-anon-meeting-2/2025-04-12/
LOCATION:Raphael Room\, 1704 NE 43rd Ave\, Portland\, OR\, 97213\, United States
CATEGORIES:Recovery meetings
GEO:37.09024;-95.712891
X-APPLE-STRUCTURED-LOCATION;VALUE=URI;X-ADDRESS=Raphael Room 1704 NE 43rd Ave Portland OR 97213 United States;X-APPLE-RADIUS=500;X-TITLE=1704 NE 43rd Ave:geo:-95.712891,37.09024
END:VEVENT
END:VCALENDAR