BEGIN:VCALENDAR
VERSION:2.0
PRODID:-//St. Michael &amp; All Angels Episcopal Church - ECPv6.15.18//NONSGML v1.0//EN
CALSCALE:GREGORIAN
METHOD:PUBLISH
X-WR-CALNAME:St. Michael &amp; All Angels Episcopal Church
X-ORIGINAL-URL:https://stmaa.org
X-WR-CALDESC:Events for St. Michael &amp; All Angels Episcopal Church
REFRESH-INTERVAL;VALUE=DURATION:PT1H
X-Robots-Tag:noindex
X-PUBLISHED-TTL:PT1H
BEGIN:VTIMEZONE
TZID:America/Los_Angeles
BEGIN:DAYLIGHT
TZOFFSETFROM:-0800
TZOFFSETTO:-0700
TZNAME:PDT
DTSTART:20240310T100000
END:DAYLIGHT
BEGIN:STANDARD
TZOFFSETFROM:-0700
TZOFFSETTO:-0800
TZNAME:PST
DTSTART:20241103T090000
END:STANDARD
BEGIN:DAYLIGHT
TZOFFSETFROM:-0800
TZOFFSETTO:-0700
TZNAME:PDT
DTSTART:20250309T100000
END:DAYLIGHT
BEGIN:STANDARD
TZOFFSETFROM:-0700
TZOFFSETTO:-0800
TZNAME:PST
DTSTART:20251102T090000
END:STANDARD
BEGIN:DAYLIGHT
TZOFFSETFROM:-0800
TZOFFSETTO:-0700
TZNAME:PDT
DTSTART:20260308T100000
END:DAYLIGHT
BEGIN:STANDARD
TZOFFSETFROM:-0700
TZOFFSETTO:-0800
TZNAME:PST
DTSTART:20261101T090000
END:STANDARD
END:VTIMEZONE
BEGIN:VEVENT
DTSTART;TZID=America/Los_Angeles:20250531T190000
DTEND;TZID=America/Los_Angeles:20250531T203000
DTSTAMP:20260421T161736
CREATED:20230107T211234Z
LAST-MODIFIED:20240201T201151Z
UID:10012773-1748718000-1748723400@stmaa.org
SUMMARY:Al-Anon meeting
DESCRIPTION:
URL:https://stmaa.org/event/al-anon-meeting-2/2025-05-31/
LOCATION:Raphael Room\, 1704 NE 43rd Ave\, Portland\, OR\, 97213\, United States
CATEGORIES:Recovery meetings
GEO:37.09024;-95.712891
X-APPLE-STRUCTURED-LOCATION;VALUE=URI;X-ADDRESS=Raphael Room 1704 NE 43rd Ave Portland OR 97213 United States;X-APPLE-RADIUS=500;X-TITLE=1704 NE 43rd Ave:geo:-95.712891,37.09024
END:VEVENT
BEGIN:VEVENT
DTSTART;TZID=America/Los_Angeles:20250531T190000
DTEND;TZID=America/Los_Angeles:20250531T203000
DTSTAMP:20260421T161736
CREATED:20230107T211234Z
LAST-MODIFIED:20230107T211234Z
UID:10013867-1748718000-1748723400@stmaa.org
SUMMARY:Al-Anon meeting
DESCRIPTION:
URL:https://stmaa.org/event/al-anon-meeting-2/2025-05-31/
LOCATION:Raphael Room\, 1704 NE 43rd Ave\, Portland\, OR\, 97213\, United States
CATEGORIES:Recovery meetings
GEO:37.09024;-95.712891
X-APPLE-STRUCTURED-LOCATION;VALUE=URI;X-ADDRESS=Raphael Room 1704 NE 43rd Ave Portland OR 97213 United States;X-APPLE-RADIUS=500;X-TITLE=1704 NE 43rd Ave:geo:-95.712891,37.09024
END:VEVENT
BEGIN:VEVENT
DTSTART;TZID=America/Los_Angeles:20250531T190000
DTEND;TZID=America/Los_Angeles:20250531T203000
DTSTAMP:20260421T161736
CREATED:20230107T211234Z
LAST-MODIFIED:20230107T211234Z
UID:10013981-1748718000-1748723400@stmaa.org
SUMMARY:Al-Anon meeting
DESCRIPTION:
URL:https://stmaa.org/event/al-anon-meeting-2/2025-05-31/
LOCATION:Raphael Room\, 1704 NE 43rd Ave\, Portland\, OR\, 97213\, United States
CATEGORIES:Recovery meetings
GEO:37.09024;-95.712891
X-APPLE-STRUCTURED-LOCATION;VALUE=URI;X-ADDRESS=Raphael Room 1704 NE 43rd Ave Portland OR 97213 United States;X-APPLE-RADIUS=500;X-TITLE=1704 NE 43rd Ave:geo:-95.712891,37.09024
END:VEVENT
BEGIN:VEVENT
DTSTART;TZID=America/Los_Angeles:20250531T190000
DTEND;TZID=America/Los_Angeles:20250531T203000
DTSTAMP:20260421T161736
CREATED:20230107T211234Z
LAST-MODIFIED:20230107T211234Z
UID:10014094-1748718000-1748723400@stmaa.org
SUMMARY:Al-Anon meeting
DESCRIPTION:
URL:https://stmaa.org/event/al-anon-meeting-2/2025-05-31/
LOCATION:Raphael Room\, 1704 NE 43rd Ave\, Portland\, OR\, 97213\, United States
CATEGORIES:Recovery meetings
GEO:37.09024;-95.712891
X-APPLE-STRUCTURED-LOCATION;VALUE=URI;X-ADDRESS=Raphael Room 1704 NE 43rd Ave Portland OR 97213 United States;X-APPLE-RADIUS=500;X-TITLE=1704 NE 43rd Ave:geo:-95.712891,37.09024
END:VEVENT
BEGIN:VEVENT
DTSTART;TZID=America/Los_Angeles:20250531T190000
DTEND;TZID=America/Los_Angeles:20250531T203000
DTSTAMP:20260421T161736
CREATED:20230107T211234Z
LAST-MODIFIED:20230107T211234Z
UID:10014206-1748718000-1748723400@stmaa.org
SUMMARY:Al-Anon meeting
DESCRIPTION:
URL:https://stmaa.org/event/al-anon-meeting-2/2025-05-31/
LOCATION:Raphael Room\, 1704 NE 43rd Ave\, Portland\, OR\, 97213\, United States
CATEGORIES:Recovery meetings
GEO:37.09024;-95.712891
X-APPLE-STRUCTURED-LOCATION;VALUE=URI;X-ADDRESS=Raphael Room 1704 NE 43rd Ave Portland OR 97213 United States;X-APPLE-RADIUS=500;X-TITLE=1704 NE 43rd Ave:geo:-95.712891,37.09024
END:VEVENT
BEGIN:VEVENT
DTSTART;TZID=America/Los_Angeles:20250531T190000
DTEND;TZID=America/Los_Angeles:20250531T203000
DTSTAMP:20260421T161736
CREATED:20230107T211234Z
LAST-MODIFIED:20230107T211234Z
UID:10014317-1748718000-1748723400@stmaa.org
SUMMARY:Al-Anon meeting
DESCRIPTION:
URL:https://stmaa.org/event/al-anon-meeting-2/2025-05-31/
LOCATION:Raphael Room\, 1704 NE 43rd Ave\, Portland\, OR\, 97213\, United States
CATEGORIES:Recovery meetings
GEO:37.09024;-95.712891
X-APPLE-STRUCTURED-LOCATION;VALUE=URI;X-ADDRESS=Raphael Room 1704 NE 43rd Ave Portland OR 97213 United States;X-APPLE-RADIUS=500;X-TITLE=1704 NE 43rd Ave:geo:-95.712891,37.09024
END:VEVENT
BEGIN:VEVENT
DTSTART;TZID=America/Los_Angeles:20250531T190000
DTEND;TZID=America/Los_Angeles:20250531T203000
DTSTAMP:20260421T161736
CREATED:20230107T211234Z
LAST-MODIFIED:20230107T211234Z
UID:10014427-1748718000-1748723400@stmaa.org
SUMMARY:Al-Anon meeting
DESCRIPTION:
URL:https://stmaa.org/event/al-anon-meeting-2/2025-05-31/
LOCATION:Raphael Room\, 1704 NE 43rd Ave\, Portland\, OR\, 97213\, United States
CATEGORIES:Recovery meetings
GEO:37.09024;-95.712891
X-APPLE-STRUCTURED-LOCATION;VALUE=URI;X-ADDRESS=Raphael Room 1704 NE 43rd Ave Portland OR 97213 United States;X-APPLE-RADIUS=500;X-TITLE=1704 NE 43rd Ave:geo:-95.712891,37.09024
END:VEVENT
BEGIN:VEVENT
DTSTART;TZID=America/Los_Angeles:20250531T190000
DTEND;TZID=America/Los_Angeles:20250531T203000
DTSTAMP:20260421T161736
CREATED:20230107T211234Z
LAST-MODIFIED:20230107T211234Z
UID:10014536-1748718000-1748723400@stmaa.org
SUMMARY:Al-Anon meeting
DESCRIPTION:
URL:https://stmaa.org/event/al-anon-meeting-2/2025-05-31/
LOCATION:Raphael Room\, 1704 NE 43rd Ave\, Portland\, OR\, 97213\, United States
CATEGORIES:Recovery meetings
GEO:37.09024;-95.712891
X-APPLE-STRUCTURED-LOCATION;VALUE=URI;X-ADDRESS=Raphael Room 1704 NE 43rd Ave Portland OR 97213 United States;X-APPLE-RADIUS=500;X-TITLE=1704 NE 43rd Ave:geo:-95.712891,37.09024
END:VEVENT
BEGIN:VEVENT
DTSTART;TZID=America/Los_Angeles:20250531T190000
DTEND;TZID=America/Los_Angeles:20250531T203000
DTSTAMP:20260421T161736
CREATED:20230107T211234Z
LAST-MODIFIED:20230107T211234Z
UID:10014644-1748718000-1748723400@stmaa.org
SUMMARY:Al-Anon meeting
DESCRIPTION:
URL:https://stmaa.org/event/al-anon-meeting-2/2025-05-31/
LOCATION:Raphael Room\, 1704 NE 43rd Ave\, Portland\, OR\, 97213\, United States
CATEGORIES:Recovery meetings
GEO:37.09024;-95.712891
X-APPLE-STRUCTURED-LOCATION;VALUE=URI;X-ADDRESS=Raphael Room 1704 NE 43rd Ave Portland OR 97213 United States;X-APPLE-RADIUS=500;X-TITLE=1704 NE 43rd Ave:geo:-95.712891,37.09024
END:VEVENT
BEGIN:VEVENT
DTSTART;TZID=America/Los_Angeles:20250531T190000
DTEND;TZID=America/Los_Angeles:20250531T203000
DTSTAMP:20260421T161736
CREATED:20230107T211234Z
LAST-MODIFIED:20230107T211234Z
UID:10014751-1748718000-1748723400@stmaa.org
SUMMARY:Al-Anon meeting
DESCRIPTION:
URL:https://stmaa.org/event/al-anon-meeting-2/2025-05-31/
LOCATION:Raphael Room\, 1704 NE 43rd Ave\, Portland\, OR\, 97213\, United States
CATEGORIES:Recovery meetings
GEO:37.09024;-95.712891
X-APPLE-STRUCTURED-LOCATION;VALUE=URI;X-ADDRESS=Raphael Room 1704 NE 43rd Ave Portland OR 97213 United States;X-APPLE-RADIUS=500;X-TITLE=1704 NE 43rd Ave:geo:-95.712891,37.09024
END:VEVENT
BEGIN:VEVENT
DTSTART;TZID=America/Los_Angeles:20250531T190000
DTEND;TZID=America/Los_Angeles:20250531T203000
DTSTAMP:20260421T161736
CREATED:20230107T211234Z
LAST-MODIFIED:20230107T211234Z
UID:10014857-1748718000-1748723400@stmaa.org
SUMMARY:Al-Anon meeting
DESCRIPTION:
URL:https://stmaa.org/event/al-anon-meeting-2/2025-05-31/
LOCATION:Raphael Room\, 1704 NE 43rd Ave\, Portland\, OR\, 97213\, United States
CATEGORIES:Recovery meetings
GEO:37.09024;-95.712891
X-APPLE-STRUCTURED-LOCATION;VALUE=URI;X-ADDRESS=Raphael Room 1704 NE 43rd Ave Portland OR 97213 United States;X-APPLE-RADIUS=500;X-TITLE=1704 NE 43rd Ave:geo:-95.712891,37.09024
END:VEVENT
BEGIN:VEVENT
DTSTART;TZID=America/Los_Angeles:20250531T190000
DTEND;TZID=America/Los_Angeles:20250531T203000
DTSTAMP:20260421T161736
CREATED:20230107T211234Z
LAST-MODIFIED:20230107T211234Z
UID:10014962-1748718000-1748723400@stmaa.org
SUMMARY:Al-Anon meeting
DESCRIPTION:
URL:https://stmaa.org/event/al-anon-meeting-2/2025-05-31/
LOCATION:Raphael Room\, 1704 NE 43rd Ave\, Portland\, OR\, 97213\, United States
CATEGORIES:Recovery meetings
GEO:37.09024;-95.712891
X-APPLE-STRUCTURED-LOCATION;VALUE=URI;X-ADDRESS=Raphael Room 1704 NE 43rd Ave Portland OR 97213 United States;X-APPLE-RADIUS=500;X-TITLE=1704 NE 43rd Ave:geo:-95.712891,37.09024
END:VEVENT
BEGIN:VEVENT
DTSTART;TZID=America/Los_Angeles:20250524T190000
DTEND;TZID=America/Los_Angeles:20250524T203000
DTSTAMP:20260421T161736
CREATED:20230107T211234Z
LAST-MODIFIED:20240201T201151Z
UID:10012772-1748113200-1748118600@stmaa.org
SUMMARY:Al-Anon meeting
DESCRIPTION:
URL:https://stmaa.org/event/al-anon-meeting-2/2025-05-24/
LOCATION:Raphael Room\, 1704 NE 43rd Ave\, Portland\, OR\, 97213\, United States
CATEGORIES:Recovery meetings
GEO:37.09024;-95.712891
X-APPLE-STRUCTURED-LOCATION;VALUE=URI;X-ADDRESS=Raphael Room 1704 NE 43rd Ave Portland OR 97213 United States;X-APPLE-RADIUS=500;X-TITLE=1704 NE 43rd Ave:geo:-95.712891,37.09024
END:VEVENT
BEGIN:VEVENT
DTSTART;TZID=America/Los_Angeles:20250524T190000
DTEND;TZID=America/Los_Angeles:20250524T203000
DTSTAMP:20260421T161736
CREATED:20230107T211234Z
LAST-MODIFIED:20230107T211234Z
UID:10013866-1748113200-1748118600@stmaa.org
SUMMARY:Al-Anon meeting
DESCRIPTION:
URL:https://stmaa.org/event/al-anon-meeting-2/2025-05-24/
LOCATION:Raphael Room\, 1704 NE 43rd Ave\, Portland\, OR\, 97213\, United States
CATEGORIES:Recovery meetings
GEO:37.09024;-95.712891
X-APPLE-STRUCTURED-LOCATION;VALUE=URI;X-ADDRESS=Raphael Room 1704 NE 43rd Ave Portland OR 97213 United States;X-APPLE-RADIUS=500;X-TITLE=1704 NE 43rd Ave:geo:-95.712891,37.09024
END:VEVENT
BEGIN:VEVENT
DTSTART;TZID=America/Los_Angeles:20250524T190000
DTEND;TZID=America/Los_Angeles:20250524T203000
DTSTAMP:20260421T161736
CREATED:20230107T211234Z
LAST-MODIFIED:20230107T211234Z
UID:10013980-1748113200-1748118600@stmaa.org
SUMMARY:Al-Anon meeting
DESCRIPTION:
URL:https://stmaa.org/event/al-anon-meeting-2/2025-05-24/
LOCATION:Raphael Room\, 1704 NE 43rd Ave\, Portland\, OR\, 97213\, United States
CATEGORIES:Recovery meetings
GEO:37.09024;-95.712891
X-APPLE-STRUCTURED-LOCATION;VALUE=URI;X-ADDRESS=Raphael Room 1704 NE 43rd Ave Portland OR 97213 United States;X-APPLE-RADIUS=500;X-TITLE=1704 NE 43rd Ave:geo:-95.712891,37.09024
END:VEVENT
BEGIN:VEVENT
DTSTART;TZID=America/Los_Angeles:20250524T190000
DTEND;TZID=America/Los_Angeles:20250524T203000
DTSTAMP:20260421T161736
CREATED:20230107T211234Z
LAST-MODIFIED:20230107T211234Z
UID:10014093-1748113200-1748118600@stmaa.org
SUMMARY:Al-Anon meeting
DESCRIPTION:
URL:https://stmaa.org/event/al-anon-meeting-2/2025-05-24/
LOCATION:Raphael Room\, 1704 NE 43rd Ave\, Portland\, OR\, 97213\, United States
CATEGORIES:Recovery meetings
GEO:37.09024;-95.712891
X-APPLE-STRUCTURED-LOCATION;VALUE=URI;X-ADDRESS=Raphael Room 1704 NE 43rd Ave Portland OR 97213 United States;X-APPLE-RADIUS=500;X-TITLE=1704 NE 43rd Ave:geo:-95.712891,37.09024
END:VEVENT
BEGIN:VEVENT
DTSTART;TZID=America/Los_Angeles:20250524T190000
DTEND;TZID=America/Los_Angeles:20250524T203000
DTSTAMP:20260421T161736
CREATED:20230107T211234Z
LAST-MODIFIED:20230107T211234Z
UID:10014205-1748113200-1748118600@stmaa.org
SUMMARY:Al-Anon meeting
DESCRIPTION:
URL:https://stmaa.org/event/al-anon-meeting-2/2025-05-24/
LOCATION:Raphael Room\, 1704 NE 43rd Ave\, Portland\, OR\, 97213\, United States
CATEGORIES:Recovery meetings
GEO:37.09024;-95.712891
X-APPLE-STRUCTURED-LOCATION;VALUE=URI;X-ADDRESS=Raphael Room 1704 NE 43rd Ave Portland OR 97213 United States;X-APPLE-RADIUS=500;X-TITLE=1704 NE 43rd Ave:geo:-95.712891,37.09024
END:VEVENT
BEGIN:VEVENT
DTSTART;TZID=America/Los_Angeles:20250524T190000
DTEND;TZID=America/Los_Angeles:20250524T203000
DTSTAMP:20260421T161736
CREATED:20230107T211234Z
LAST-MODIFIED:20230107T211234Z
UID:10014316-1748113200-1748118600@stmaa.org
SUMMARY:Al-Anon meeting
DESCRIPTION:
URL:https://stmaa.org/event/al-anon-meeting-2/2025-05-24/
LOCATION:Raphael Room\, 1704 NE 43rd Ave\, Portland\, OR\, 97213\, United States
CATEGORIES:Recovery meetings
GEO:37.09024;-95.712891
X-APPLE-STRUCTURED-LOCATION;VALUE=URI;X-ADDRESS=Raphael Room 1704 NE 43rd Ave Portland OR 97213 United States;X-APPLE-RADIUS=500;X-TITLE=1704 NE 43rd Ave:geo:-95.712891,37.09024
END:VEVENT
BEGIN:VEVENT
DTSTART;TZID=America/Los_Angeles:20250524T190000
DTEND;TZID=America/Los_Angeles:20250524T203000
DTSTAMP:20260421T161736
CREATED:20230107T211234Z
LAST-MODIFIED:20230107T211234Z
UID:10014426-1748113200-1748118600@stmaa.org
SUMMARY:Al-Anon meeting
DESCRIPTION:
URL:https://stmaa.org/event/al-anon-meeting-2/2025-05-24/
LOCATION:Raphael Room\, 1704 NE 43rd Ave\, Portland\, OR\, 97213\, United States
CATEGORIES:Recovery meetings
GEO:37.09024;-95.712891
X-APPLE-STRUCTURED-LOCATION;VALUE=URI;X-ADDRESS=Raphael Room 1704 NE 43rd Ave Portland OR 97213 United States;X-APPLE-RADIUS=500;X-TITLE=1704 NE 43rd Ave:geo:-95.712891,37.09024
END:VEVENT
BEGIN:VEVENT
DTSTART;TZID=America/Los_Angeles:20250524T190000
DTEND;TZID=America/Los_Angeles:20250524T203000
DTSTAMP:20260421T161736
CREATED:20230107T211234Z
LAST-MODIFIED:20230107T211234Z
UID:10014535-1748113200-1748118600@stmaa.org
SUMMARY:Al-Anon meeting
DESCRIPTION:
URL:https://stmaa.org/event/al-anon-meeting-2/2025-05-24/
LOCATION:Raphael Room\, 1704 NE 43rd Ave\, Portland\, OR\, 97213\, United States
CATEGORIES:Recovery meetings
GEO:37.09024;-95.712891
X-APPLE-STRUCTURED-LOCATION;VALUE=URI;X-ADDRESS=Raphael Room 1704 NE 43rd Ave Portland OR 97213 United States;X-APPLE-RADIUS=500;X-TITLE=1704 NE 43rd Ave:geo:-95.712891,37.09024
END:VEVENT
BEGIN:VEVENT
DTSTART;TZID=America/Los_Angeles:20250524T190000
DTEND;TZID=America/Los_Angeles:20250524T203000
DTSTAMP:20260421T161736
CREATED:20230107T211234Z
LAST-MODIFIED:20230107T211234Z
UID:10014643-1748113200-1748118600@stmaa.org
SUMMARY:Al-Anon meeting
DESCRIPTION:
URL:https://stmaa.org/event/al-anon-meeting-2/2025-05-24/
LOCATION:Raphael Room\, 1704 NE 43rd Ave\, Portland\, OR\, 97213\, United States
CATEGORIES:Recovery meetings
GEO:37.09024;-95.712891
X-APPLE-STRUCTURED-LOCATION;VALUE=URI;X-ADDRESS=Raphael Room 1704 NE 43rd Ave Portland OR 97213 United States;X-APPLE-RADIUS=500;X-TITLE=1704 NE 43rd Ave:geo:-95.712891,37.09024
END:VEVENT
BEGIN:VEVENT
DTSTART;TZID=America/Los_Angeles:20250524T190000
DTEND;TZID=America/Los_Angeles:20250524T203000
DTSTAMP:20260421T161736
CREATED:20230107T211234Z
LAST-MODIFIED:20230107T211234Z
UID:10014750-1748113200-1748118600@stmaa.org
SUMMARY:Al-Anon meeting
DESCRIPTION:
URL:https://stmaa.org/event/al-anon-meeting-2/2025-05-24/
LOCATION:Raphael Room\, 1704 NE 43rd Ave\, Portland\, OR\, 97213\, United States
CATEGORIES:Recovery meetings
GEO:37.09024;-95.712891
X-APPLE-STRUCTURED-LOCATION;VALUE=URI;X-ADDRESS=Raphael Room 1704 NE 43rd Ave Portland OR 97213 United States;X-APPLE-RADIUS=500;X-TITLE=1704 NE 43rd Ave:geo:-95.712891,37.09024
END:VEVENT
BEGIN:VEVENT
DTSTART;TZID=America/Los_Angeles:20250524T190000
DTEND;TZID=America/Los_Angeles:20250524T203000
DTSTAMP:20260421T161736
CREATED:20230107T211234Z
LAST-MODIFIED:20230107T211234Z
UID:10014856-1748113200-1748118600@stmaa.org
SUMMARY:Al-Anon meeting
DESCRIPTION:
URL:https://stmaa.org/event/al-anon-meeting-2/2025-05-24/
LOCATION:Raphael Room\, 1704 NE 43rd Ave\, Portland\, OR\, 97213\, United States
CATEGORIES:Recovery meetings
GEO:37.09024;-95.712891
X-APPLE-STRUCTURED-LOCATION;VALUE=URI;X-ADDRESS=Raphael Room 1704 NE 43rd Ave Portland OR 97213 United States;X-APPLE-RADIUS=500;X-TITLE=1704 NE 43rd Ave:geo:-95.712891,37.09024
END:VEVENT
BEGIN:VEVENT
DTSTART;TZID=America/Los_Angeles:20250524T190000
DTEND;TZID=America/Los_Angeles:20250524T203000
DTSTAMP:20260421T161736
CREATED:20230107T211234Z
LAST-MODIFIED:20230107T211234Z
UID:10014961-1748113200-1748118600@stmaa.org
SUMMARY:Al-Anon meeting
DESCRIPTION:
URL:https://stmaa.org/event/al-anon-meeting-2/2025-05-24/
LOCATION:Raphael Room\, 1704 NE 43rd Ave\, Portland\, OR\, 97213\, United States
CATEGORIES:Recovery meetings
GEO:37.09024;-95.712891
X-APPLE-STRUCTURED-LOCATION;VALUE=URI;X-ADDRESS=Raphael Room 1704 NE 43rd Ave Portland OR 97213 United States;X-APPLE-RADIUS=500;X-TITLE=1704 NE 43rd Ave:geo:-95.712891,37.09024
END:VEVENT
BEGIN:VEVENT
DTSTART;TZID=America/Los_Angeles:20250517T190000
DTEND;TZID=America/Los_Angeles:20250517T203000
DTSTAMP:20260421T161736
CREATED:20230107T211234Z
LAST-MODIFIED:20240201T201151Z
UID:10012771-1747508400-1747513800@stmaa.org
SUMMARY:Al-Anon meeting
DESCRIPTION:
URL:https://stmaa.org/event/al-anon-meeting-2/2025-05-17/
LOCATION:Raphael Room\, 1704 NE 43rd Ave\, Portland\, OR\, 97213\, United States
CATEGORIES:Recovery meetings
GEO:37.09024;-95.712891
X-APPLE-STRUCTURED-LOCATION;VALUE=URI;X-ADDRESS=Raphael Room 1704 NE 43rd Ave Portland OR 97213 United States;X-APPLE-RADIUS=500;X-TITLE=1704 NE 43rd Ave:geo:-95.712891,37.09024
END:VEVENT
BEGIN:VEVENT
DTSTART;TZID=America/Los_Angeles:20250517T190000
DTEND;TZID=America/Los_Angeles:20250517T203000
DTSTAMP:20260421T161736
CREATED:20230107T211234Z
LAST-MODIFIED:20230107T211234Z
UID:10013865-1747508400-1747513800@stmaa.org
SUMMARY:Al-Anon meeting
DESCRIPTION:
URL:https://stmaa.org/event/al-anon-meeting-2/2025-05-17/
LOCATION:Raphael Room\, 1704 NE 43rd Ave\, Portland\, OR\, 97213\, United States
CATEGORIES:Recovery meetings
GEO:37.09024;-95.712891
X-APPLE-STRUCTURED-LOCATION;VALUE=URI;X-ADDRESS=Raphael Room 1704 NE 43rd Ave Portland OR 97213 United States;X-APPLE-RADIUS=500;X-TITLE=1704 NE 43rd Ave:geo:-95.712891,37.09024
END:VEVENT
BEGIN:VEVENT
DTSTART;TZID=America/Los_Angeles:20250517T190000
DTEND;TZID=America/Los_Angeles:20250517T203000
DTSTAMP:20260421T161736
CREATED:20230107T211234Z
LAST-MODIFIED:20230107T211234Z
UID:10013979-1747508400-1747513800@stmaa.org
SUMMARY:Al-Anon meeting
DESCRIPTION:
URL:https://stmaa.org/event/al-anon-meeting-2/2025-05-17/
LOCATION:Raphael Room\, 1704 NE 43rd Ave\, Portland\, OR\, 97213\, United States
CATEGORIES:Recovery meetings
GEO:37.09024;-95.712891
X-APPLE-STRUCTURED-LOCATION;VALUE=URI;X-ADDRESS=Raphael Room 1704 NE 43rd Ave Portland OR 97213 United States;X-APPLE-RADIUS=500;X-TITLE=1704 NE 43rd Ave:geo:-95.712891,37.09024
END:VEVENT
BEGIN:VEVENT
DTSTART;TZID=America/Los_Angeles:20250517T190000
DTEND;TZID=America/Los_Angeles:20250517T203000
DTSTAMP:20260421T161736
CREATED:20230107T211234Z
LAST-MODIFIED:20230107T211234Z
UID:10014092-1747508400-1747513800@stmaa.org
SUMMARY:Al-Anon meeting
DESCRIPTION:
URL:https://stmaa.org/event/al-anon-meeting-2/2025-05-17/
LOCATION:Raphael Room\, 1704 NE 43rd Ave\, Portland\, OR\, 97213\, United States
CATEGORIES:Recovery meetings
GEO:37.09024;-95.712891
X-APPLE-STRUCTURED-LOCATION;VALUE=URI;X-ADDRESS=Raphael Room 1704 NE 43rd Ave Portland OR 97213 United States;X-APPLE-RADIUS=500;X-TITLE=1704 NE 43rd Ave:geo:-95.712891,37.09024
END:VEVENT
BEGIN:VEVENT
DTSTART;TZID=America/Los_Angeles:20250517T190000
DTEND;TZID=America/Los_Angeles:20250517T203000
DTSTAMP:20260421T161736
CREATED:20230107T211234Z
LAST-MODIFIED:20230107T211234Z
UID:10014204-1747508400-1747513800@stmaa.org
SUMMARY:Al-Anon meeting
DESCRIPTION:
URL:https://stmaa.org/event/al-anon-meeting-2/2025-05-17/
LOCATION:Raphael Room\, 1704 NE 43rd Ave\, Portland\, OR\, 97213\, United States
CATEGORIES:Recovery meetings
GEO:37.09024;-95.712891
X-APPLE-STRUCTURED-LOCATION;VALUE=URI;X-ADDRESS=Raphael Room 1704 NE 43rd Ave Portland OR 97213 United States;X-APPLE-RADIUS=500;X-TITLE=1704 NE 43rd Ave:geo:-95.712891,37.09024
END:VEVENT
BEGIN:VEVENT
DTSTART;TZID=America/Los_Angeles:20250517T190000
DTEND;TZID=America/Los_Angeles:20250517T203000
DTSTAMP:20260421T161736
CREATED:20230107T211234Z
LAST-MODIFIED:20230107T211234Z
UID:10014315-1747508400-1747513800@stmaa.org
SUMMARY:Al-Anon meeting
DESCRIPTION:
URL:https://stmaa.org/event/al-anon-meeting-2/2025-05-17/
LOCATION:Raphael Room\, 1704 NE 43rd Ave\, Portland\, OR\, 97213\, United States
CATEGORIES:Recovery meetings
GEO:37.09024;-95.712891
X-APPLE-STRUCTURED-LOCATION;VALUE=URI;X-ADDRESS=Raphael Room 1704 NE 43rd Ave Portland OR 97213 United States;X-APPLE-RADIUS=500;X-TITLE=1704 NE 43rd Ave:geo:-95.712891,37.09024
END:VEVENT
END:VCALENDAR