BEGIN:VCALENDAR
VERSION:2.0
PRODID:-//St. Michael &amp; All Angels Episcopal Church - ECPv6.15.18//NONSGML v1.0//EN
CALSCALE:GREGORIAN
METHOD:PUBLISH
X-ORIGINAL-URL:https://stmaa.org
X-WR-CALDESC:Events for St. Michael &amp; All Angels Episcopal Church
REFRESH-INTERVAL;VALUE=DURATION:PT1H
X-Robots-Tag:noindex
X-PUBLISHED-TTL:PT1H
BEGIN:VTIMEZONE
TZID:America/Los_Angeles
BEGIN:DAYLIGHT
TZOFFSETFROM:-0800
TZOFFSETTO:-0700
TZNAME:PDT
DTSTART:20200308T100000
END:DAYLIGHT
BEGIN:STANDARD
TZOFFSETFROM:-0700
TZOFFSETTO:-0800
TZNAME:PST
DTSTART:20201101T090000
END:STANDARD
BEGIN:DAYLIGHT
TZOFFSETFROM:-0800
TZOFFSETTO:-0700
TZNAME:PDT
DTSTART:20210314T100000
END:DAYLIGHT
BEGIN:STANDARD
TZOFFSETFROM:-0700
TZOFFSETTO:-0800
TZNAME:PST
DTSTART:20211107T090000
END:STANDARD
BEGIN:DAYLIGHT
TZOFFSETFROM:-0800
TZOFFSETTO:-0700
TZNAME:PDT
DTSTART:20220313T100000
END:DAYLIGHT
BEGIN:STANDARD
TZOFFSETFROM:-0700
TZOFFSETTO:-0800
TZNAME:PST
DTSTART:20221106T090000
END:STANDARD
BEGIN:DAYLIGHT
TZOFFSETFROM:-0800
TZOFFSETTO:-0700
TZNAME:PDT
DTSTART:20230312T100000
END:DAYLIGHT
BEGIN:STANDARD
TZOFFSETFROM:-0700
TZOFFSETTO:-0800
TZNAME:PST
DTSTART:20231105T090000
END:STANDARD
END:VTIMEZONE
BEGIN:VEVENT
DTSTART;TZID=America/Los_Angeles:20221025T110000
DTEND;TZID=America/Los_Angeles:20221025T130000
DTSTAMP:20260419T160141
CREATED:20220822T200659Z
LAST-MODIFIED:20220822T200659Z
UID:10008952-1666695600-1666702800@stmaa.org
SUMMARY:Sack Lunch Outreach
DESCRIPTION:Sack lunches for the community are prepared in St. Michael’s House from 11:00 am to 12:00 noon\, and served in the courtyard from noon to 1:00 pm.
URL:https://stmaa.org/event/sack-lunch-outreach-2/2022-10-25/
LOCATION:Courtyard\, 1704 NE 43rd Ave\, Portland\, OR\, 97213\, United States
CATEGORIES:Outreach & Justice regular
END:VEVENT
BEGIN:VEVENT
DTSTART;TZID=America/Los_Angeles:20221020T110000
DTEND;TZID=America/Los_Angeles:20221020T130000
DTSTAMP:20260419T160141
CREATED:20220822T195127Z
LAST-MODIFIED:20220822T195127Z
UID:10008933-1666263600-1666270800@stmaa.org
SUMMARY:Sack Lunch Outreach
DESCRIPTION:Prep for the lunch is in St. Michael’s House from 11:00 – 12:00 noon\, and the lunches are handed out in the courtyard from noon to 1:00 pm.
URL:https://stmaa.org/event/sack-lunch-outreach/2022-10-20/
LOCATION:Courtyard\, 1704 NE 43rd Ave\, Portland\, OR\, 97213\, United States
CATEGORIES:Outreach & Justice regular
END:VEVENT
BEGIN:VEVENT
DTSTART;TZID=America/Los_Angeles:20221018T110000
DTEND;TZID=America/Los_Angeles:20221018T130000
DTSTAMP:20260419T160141
CREATED:20220822T200659Z
LAST-MODIFIED:20220822T200659Z
UID:10008951-1666090800-1666098000@stmaa.org
SUMMARY:Sack Lunch Outreach
DESCRIPTION:Sack lunches for the community are prepared in St. Michael’s House from 11:00 am to 12:00 noon\, and served in the courtyard from noon to 1:00 pm.
URL:https://stmaa.org/event/sack-lunch-outreach-2/2022-10-18/
LOCATION:Courtyard\, 1704 NE 43rd Ave\, Portland\, OR\, 97213\, United States
CATEGORIES:Outreach & Justice regular
END:VEVENT
BEGIN:VEVENT
DTSTART;TZID=America/Los_Angeles:20221013T110000
DTEND;TZID=America/Los_Angeles:20221013T130000
DTSTAMP:20260419T160141
CREATED:20220822T195127Z
LAST-MODIFIED:20220822T195127Z
UID:10008932-1665658800-1665666000@stmaa.org
SUMMARY:Sack Lunch Outreach
DESCRIPTION:Prep for the lunch is in St. Michael’s House from 11:00 – 12:00 noon\, and the lunches are handed out in the courtyard from noon to 1:00 pm.
URL:https://stmaa.org/event/sack-lunch-outreach/2022-10-13/
LOCATION:Courtyard\, 1704 NE 43rd Ave\, Portland\, OR\, 97213\, United States
CATEGORIES:Outreach & Justice regular
END:VEVENT
BEGIN:VEVENT
DTSTART;TZID=America/Los_Angeles:20221011T110000
DTEND;TZID=America/Los_Angeles:20221011T130000
DTSTAMP:20260419T160141
CREATED:20220822T200659Z
LAST-MODIFIED:20220822T200659Z
UID:10008950-1665486000-1665493200@stmaa.org
SUMMARY:Sack Lunch Outreach
DESCRIPTION:Sack lunches for the community are prepared in St. Michael’s House from 11:00 am to 12:00 noon\, and served in the courtyard from noon to 1:00 pm.
URL:https://stmaa.org/event/sack-lunch-outreach-2/2022-10-11/
LOCATION:Courtyard\, 1704 NE 43rd Ave\, Portland\, OR\, 97213\, United States
CATEGORIES:Outreach & Justice regular
END:VEVENT
BEGIN:VEVENT
DTSTART;TZID=America/Los_Angeles:20221006T110000
DTEND;TZID=America/Los_Angeles:20221006T130000
DTSTAMP:20260419T160141
CREATED:20220822T195127Z
LAST-MODIFIED:20220822T195127Z
UID:10008931-1665054000-1665061200@stmaa.org
SUMMARY:Sack Lunch Outreach
DESCRIPTION:Prep for the lunch is in St. Michael’s House from 11:00 – 12:00 noon\, and the lunches are handed out in the courtyard from noon to 1:00 pm.
URL:https://stmaa.org/event/sack-lunch-outreach/2022-10-06/
LOCATION:Courtyard\, 1704 NE 43rd Ave\, Portland\, OR\, 97213\, United States
CATEGORIES:Outreach & Justice regular
END:VEVENT
BEGIN:VEVENT
DTSTART;TZID=America/Los_Angeles:20221004T110000
DTEND;TZID=America/Los_Angeles:20221004T130000
DTSTAMP:20260419T160141
CREATED:20220822T200659Z
LAST-MODIFIED:20220822T200659Z
UID:10008949-1664881200-1664888400@stmaa.org
SUMMARY:Sack Lunch Outreach
DESCRIPTION:Sack lunches for the community are prepared in St. Michael’s House from 11:00 am to 12:00 noon\, and served in the courtyard from noon to 1:00 pm.
URL:https://stmaa.org/event/sack-lunch-outreach-2/2022-10-04/
LOCATION:Courtyard\, 1704 NE 43rd Ave\, Portland\, OR\, 97213\, United States
CATEGORIES:Outreach & Justice regular
END:VEVENT
BEGIN:VEVENT
DTSTART;TZID=America/Los_Angeles:20220929T110000
DTEND;TZID=America/Los_Angeles:20220929T130000
DTSTAMP:20260419T160141
CREATED:20220822T195127Z
LAST-MODIFIED:20220822T195127Z
UID:10008930-1664449200-1664456400@stmaa.org
SUMMARY:Sack Lunch Outreach
DESCRIPTION:Prep for the lunch is in St. Michael’s House from 11:00 – 12:00 noon\, and the lunches are handed out in the courtyard from noon to 1:00 pm.
URL:https://stmaa.org/event/sack-lunch-outreach/2022-09-29/
LOCATION:Courtyard\, 1704 NE 43rd Ave\, Portland\, OR\, 97213\, United States
CATEGORIES:Outreach & Justice regular
END:VEVENT
BEGIN:VEVENT
DTSTART;TZID=America/Los_Angeles:20220927T110000
DTEND;TZID=America/Los_Angeles:20220927T130000
DTSTAMP:20260419T160141
CREATED:20220822T200659Z
LAST-MODIFIED:20220822T200659Z
UID:10008948-1664276400-1664283600@stmaa.org
SUMMARY:Sack Lunch Outreach
DESCRIPTION:Sack lunches for the community are prepared in St. Michael’s House from 11:00 am to 12:00 noon\, and served in the courtyard from noon to 1:00 pm.
URL:https://stmaa.org/event/sack-lunch-outreach-2/2022-09-27/
LOCATION:Courtyard\, 1704 NE 43rd Ave\, Portland\, OR\, 97213\, United States
CATEGORIES:Outreach & Justice regular
END:VEVENT
BEGIN:VEVENT
DTSTART;TZID=America/Los_Angeles:20220922T110000
DTEND;TZID=America/Los_Angeles:20220922T130000
DTSTAMP:20260419T160141
CREATED:20220822T195127Z
LAST-MODIFIED:20220822T195127Z
UID:10008929-1663844400-1663851600@stmaa.org
SUMMARY:Sack Lunch Outreach
DESCRIPTION:Prep for the lunch is in St. Michael’s House from 11:00 – 12:00 noon\, and the lunches are handed out in the courtyard from noon to 1:00 pm.
URL:https://stmaa.org/event/sack-lunch-outreach/2022-09-22/
LOCATION:Courtyard\, 1704 NE 43rd Ave\, Portland\, OR\, 97213\, United States
CATEGORIES:Outreach & Justice regular
END:VEVENT
BEGIN:VEVENT
DTSTART;TZID=America/Los_Angeles:20220920T110000
DTEND;TZID=America/Los_Angeles:20220920T130000
DTSTAMP:20260419T160141
CREATED:20220822T200659Z
LAST-MODIFIED:20220822T200659Z
UID:10008947-1663671600-1663678800@stmaa.org
SUMMARY:Sack Lunch Outreach
DESCRIPTION:Sack lunches for the community are prepared in St. Michael’s House from 11:00 am to 12:00 noon\, and served in the courtyard from noon to 1:00 pm.
URL:https://stmaa.org/event/sack-lunch-outreach-2/2022-09-20/
LOCATION:Courtyard\, 1704 NE 43rd Ave\, Portland\, OR\, 97213\, United States
CATEGORIES:Outreach & Justice regular
END:VEVENT
BEGIN:VEVENT
DTSTART;TZID=America/Los_Angeles:20220915T110000
DTEND;TZID=America/Los_Angeles:20220915T130000
DTSTAMP:20260419T160141
CREATED:20220822T195127Z
LAST-MODIFIED:20220822T195127Z
UID:10008928-1663239600-1663246800@stmaa.org
SUMMARY:Sack Lunch Outreach
DESCRIPTION:Prep for the lunch is in St. Michael’s House from 11:00 – 12:00 noon\, and the lunches are handed out in the courtyard from noon to 1:00 pm.
URL:https://stmaa.org/event/sack-lunch-outreach/2022-09-15/
LOCATION:Courtyard\, 1704 NE 43rd Ave\, Portland\, OR\, 97213\, United States
CATEGORIES:Outreach & Justice regular
END:VEVENT
BEGIN:VEVENT
DTSTART;TZID=America/Los_Angeles:20220913T110000
DTEND;TZID=America/Los_Angeles:20220913T130000
DTSTAMP:20260419T160141
CREATED:20220822T200659Z
LAST-MODIFIED:20220822T200659Z
UID:10008946-1663066800-1663074000@stmaa.org
SUMMARY:Sack Lunch Outreach
DESCRIPTION:Sack lunches for the community are prepared in St. Michael’s House from 11:00 am to 12:00 noon\, and served in the courtyard from noon to 1:00 pm.
URL:https://stmaa.org/event/sack-lunch-outreach-2/2022-09-13/
LOCATION:Courtyard\, 1704 NE 43rd Ave\, Portland\, OR\, 97213\, United States
CATEGORIES:Outreach & Justice regular
END:VEVENT
BEGIN:VEVENT
DTSTART;TZID=America/Los_Angeles:20220908T110000
DTEND;TZID=America/Los_Angeles:20220908T130000
DTSTAMP:20260419T160141
CREATED:20220822T195127Z
LAST-MODIFIED:20220822T195127Z
UID:10008927-1662634800-1662642000@stmaa.org
SUMMARY:Sack Lunch Outreach
DESCRIPTION:Prep for the lunch is in St. Michael’s House from 11:00 – 12:00 noon\, and the lunches are handed out in the courtyard from noon to 1:00 pm.
URL:https://stmaa.org/event/sack-lunch-outreach/2022-09-08/
LOCATION:Courtyard\, 1704 NE 43rd Ave\, Portland\, OR\, 97213\, United States
CATEGORIES:Outreach & Justice regular
END:VEVENT
BEGIN:VEVENT
DTSTART;TZID=America/Los_Angeles:20220906T110000
DTEND;TZID=America/Los_Angeles:20220906T130000
DTSTAMP:20260419T160141
CREATED:20220822T200659Z
LAST-MODIFIED:20220822T200659Z
UID:10008945-1662462000-1662469200@stmaa.org
SUMMARY:Sack Lunch Outreach
DESCRIPTION:Sack lunches for the community are prepared in St. Michael’s House from 11:00 am to 12:00 noon\, and served in the courtyard from noon to 1:00 pm.
URL:https://stmaa.org/event/sack-lunch-outreach-2/2022-09-06/
LOCATION:Courtyard\, 1704 NE 43rd Ave\, Portland\, OR\, 97213\, United States
CATEGORIES:Outreach & Justice regular
END:VEVENT
BEGIN:VEVENT
DTSTART;TZID=America/Los_Angeles:20220901T110000
DTEND;TZID=America/Los_Angeles:20220901T130000
DTSTAMP:20260419T160141
CREATED:20220822T195127Z
LAST-MODIFIED:20220822T195127Z
UID:10008926-1662030000-1662037200@stmaa.org
SUMMARY:Sack Lunch Outreach
DESCRIPTION:Prep for the lunch is in St. Michael’s House from 11:00 – 12:00 noon\, and the lunches are handed out in the courtyard from noon to 1:00 pm.
URL:https://stmaa.org/event/sack-lunch-outreach/2022-09-01/
LOCATION:Courtyard\, 1704 NE 43rd Ave\, Portland\, OR\, 97213\, United States
CATEGORIES:Outreach & Justice regular
END:VEVENT
BEGIN:VEVENT
DTSTART;TZID=America/Los_Angeles:20220825T110000
DTEND;TZID=America/Los_Angeles:20220825T130000
DTSTAMP:20260419T160141
CREATED:20220822T195127Z
LAST-MODIFIED:20220822T195127Z
UID:10008925-1661425200-1661432400@stmaa.org
SUMMARY:Sack Lunch Outreach
DESCRIPTION:Prep for the lunch is in St. Michael’s House from 11:00 – 12:00 noon\, and the lunches are handed out in the courtyard from noon to 1:00 pm.
URL:https://stmaa.org/event/sack-lunch-outreach/2022-08-25/
LOCATION:Courtyard\, 1704 NE 43rd Ave\, Portland\, OR\, 97213\, United States
CATEGORIES:Outreach & Justice regular
END:VEVENT
BEGIN:VEVENT
DTSTART;TZID=America/Los_Angeles:20220818T110000
DTEND;TZID=America/Los_Angeles:20220818T130000
DTSTAMP:20260419T160141
CREATED:20220822T195127Z
LAST-MODIFIED:20220822T195127Z
UID:10008924-1660820400-1660827600@stmaa.org
SUMMARY:Sack Lunch Outreach
DESCRIPTION:Prep for the lunch is in St. Michael’s House from 11:00 – 12:00 noon\, and the lunches are handed out in the courtyard from noon to 1:00 pm.
URL:https://stmaa.org/event/sack-lunch-outreach/2022-08-18/
LOCATION:Courtyard\, 1704 NE 43rd Ave\, Portland\, OR\, 97213\, United States
CATEGORIES:Outreach & Justice regular
END:VEVENT
BEGIN:VEVENT
DTSTART;TZID=America/Los_Angeles:20211204T090000
DTEND;TZID=America/Los_Angeles:20211204T160000
DTSTAMP:20260419T160141
CREATED:20211116T005931Z
LAST-MODIFIED:20211116T005931Z
UID:10009942-1638608400-1638633600@stmaa.org
SUMMARY:Red Door Artisan Fair
DESCRIPTION:
URL:https://stmaa.org/event/red-door-artisan-fair-2/
LOCATION:Parish Hall\, Nativity Hall\, 1704 NE 43rd Ave\, Portland\, OR\, 97213\, United States
CATEGORIES:Parish Life
END:VEVENT
END:VCALENDAR