BEGIN:VCALENDAR
VERSION:2.0
PRODID:-//St. Michael &amp; All Angels Episcopal Church - ECPv6.15.18//NONSGML v1.0//EN
CALSCALE:GREGORIAN
METHOD:PUBLISH
X-ORIGINAL-URL:https://stmaa.org
X-WR-CALDESC:Events for St. Michael &amp; All Angels Episcopal Church
REFRESH-INTERVAL;VALUE=DURATION:PT1H
X-Robots-Tag:noindex
X-PUBLISHED-TTL:PT1H
BEGIN:VTIMEZONE
TZID:America/Los_Angeles
BEGIN:DAYLIGHT
TZOFFSETFROM:-0800
TZOFFSETTO:-0700
TZNAME:PDT
DTSTART:20170312T100000
END:DAYLIGHT
BEGIN:STANDARD
TZOFFSETFROM:-0700
TZOFFSETTO:-0800
TZNAME:PST
DTSTART:20171105T090000
END:STANDARD
BEGIN:DAYLIGHT
TZOFFSETFROM:-0800
TZOFFSETTO:-0700
TZNAME:PDT
DTSTART:20180311T100000
END:DAYLIGHT
BEGIN:STANDARD
TZOFFSETFROM:-0700
TZOFFSETTO:-0800
TZNAME:PST
DTSTART:20181104T090000
END:STANDARD
BEGIN:DAYLIGHT
TZOFFSETFROM:-0800
TZOFFSETTO:-0700
TZNAME:PDT
DTSTART:20190310T100000
END:DAYLIGHT
BEGIN:STANDARD
TZOFFSETFROM:-0700
TZOFFSETTO:-0800
TZNAME:PST
DTSTART:20191103T090000
END:STANDARD
BEGIN:DAYLIGHT
TZOFFSETFROM:-0800
TZOFFSETTO:-0700
TZNAME:PDT
DTSTART:20200308T100000
END:DAYLIGHT
BEGIN:STANDARD
TZOFFSETFROM:-0700
TZOFFSETTO:-0800
TZNAME:PST
DTSTART:20201101T090000
END:STANDARD
END:VTIMEZONE
BEGIN:VEVENT
DTSTART;TZID=America/Los_Angeles:20190123T083000
DTEND;TZID=America/Los_Angeles:20190123T110000
DTSTAMP:20260422T173949
CREATED:20180606T220238Z
LAST-MODIFIED:20190827T181137Z
UID:10007304-1548232200-1548241200@stmaa.org
SUMMARY:MOW/WOWs
DESCRIPTION:The Men and Women on Wednesday meet weekly to perform maintenance work around the church buildings and enjoy each other’s company and delicious snacks.
URL:https://stmaa.org/event/mow-wows/2019-01-23/
LOCATION:Entire propery
CATEGORIES:Administration
END:VEVENT
BEGIN:VEVENT
DTSTART;TZID=America/Los_Angeles:20190116T083000
DTEND;TZID=America/Los_Angeles:20190116T110000
DTSTAMP:20260422T173949
CREATED:20180606T220238Z
LAST-MODIFIED:20190827T181137Z
UID:10007303-1547627400-1547636400@stmaa.org
SUMMARY:MOW/WOWs
DESCRIPTION:The Men and Women on Wednesday meet weekly to perform maintenance work around the church buildings and enjoy each other’s company and delicious snacks.
URL:https://stmaa.org/event/mow-wows/2019-01-16/
LOCATION:Entire propery
CATEGORIES:Administration
END:VEVENT
BEGIN:VEVENT
DTSTART;TZID=America/Los_Angeles:20190109T083000
DTEND;TZID=America/Los_Angeles:20190109T110000
DTSTAMP:20260422T173949
CREATED:20180606T220238Z
LAST-MODIFIED:20190827T181137Z
UID:10007302-1547022600-1547031600@stmaa.org
SUMMARY:MOW/WOWs
DESCRIPTION:The Men and Women on Wednesday meet weekly to perform maintenance work around the church buildings and enjoy each other’s company and delicious snacks.
URL:https://stmaa.org/event/mow-wows/2019-01-09/
LOCATION:Entire propery
CATEGORIES:Administration
END:VEVENT
BEGIN:VEVENT
DTSTART;TZID=America/Los_Angeles:20190102T083000
DTEND;TZID=America/Los_Angeles:20190102T110000
DTSTAMP:20260422T173949
CREATED:20180606T220238Z
LAST-MODIFIED:20190827T181137Z
UID:10007301-1546417800-1546426800@stmaa.org
SUMMARY:MOW/WOWs
DESCRIPTION:The Men and Women on Wednesday meet weekly to perform maintenance work around the church buildings and enjoy each other’s company and delicious snacks.
URL:https://stmaa.org/event/mow-wows/2019-01-02/
LOCATION:Entire propery
CATEGORIES:Administration
END:VEVENT
BEGIN:VEVENT
DTSTART;TZID=America/Los_Angeles:20181226T083000
DTEND;TZID=America/Los_Angeles:20181226T110000
DTSTAMP:20260422T173949
CREATED:20180606T220238Z
LAST-MODIFIED:20190827T181137Z
UID:10007300-1545813000-1545822000@stmaa.org
SUMMARY:MOW/WOWs
DESCRIPTION:The Men and Women on Wednesday meet weekly to perform maintenance work around the church buildings and enjoy each other’s company and delicious snacks.
URL:https://stmaa.org/event/mow-wows/2018-12-26/
LOCATION:Entire propery
CATEGORIES:Administration
END:VEVENT
BEGIN:VEVENT
DTSTART;TZID=America/Los_Angeles:20181219T083000
DTEND;TZID=America/Los_Angeles:20181219T110000
DTSTAMP:20260422T173949
CREATED:20180606T220238Z
LAST-MODIFIED:20190827T181137Z
UID:10007299-1545208200-1545217200@stmaa.org
SUMMARY:MOW/WOWs
DESCRIPTION:The Men and Women on Wednesday meet weekly to perform maintenance work around the church buildings and enjoy each other’s company and delicious snacks.
URL:https://stmaa.org/event/mow-wows/2018-12-19/
LOCATION:Entire propery
CATEGORIES:Administration
END:VEVENT
BEGIN:VEVENT
DTSTART;TZID=America/Los_Angeles:20181212T083000
DTEND;TZID=America/Los_Angeles:20181212T110000
DTSTAMP:20260422T173949
CREATED:20180606T220238Z
LAST-MODIFIED:20190827T181137Z
UID:10007298-1544603400-1544612400@stmaa.org
SUMMARY:MOW/WOWs
DESCRIPTION:The Men and Women on Wednesday meet weekly to perform maintenance work around the church buildings and enjoy each other’s company and delicious snacks.
URL:https://stmaa.org/event/mow-wows/2018-12-12/
LOCATION:Entire propery
CATEGORIES:Administration
END:VEVENT
BEGIN:VEVENT
DTSTART;TZID=America/Los_Angeles:20181205T083000
DTEND;TZID=America/Los_Angeles:20181205T110000
DTSTAMP:20260422T173949
CREATED:20180606T220238Z
LAST-MODIFIED:20190827T181137Z
UID:10007297-1543998600-1544007600@stmaa.org
SUMMARY:MOW/WOWs
DESCRIPTION:The Men and Women on Wednesday meet weekly to perform maintenance work around the church buildings and enjoy each other’s company and delicious snacks.
URL:https://stmaa.org/event/mow-wows/2018-12-05/
LOCATION:Entire propery
CATEGORIES:Administration
END:VEVENT
BEGIN:VEVENT
DTSTART;TZID=America/Los_Angeles:20181128T083000
DTEND;TZID=America/Los_Angeles:20181128T110000
DTSTAMP:20260422T173949
CREATED:20180606T220238Z
LAST-MODIFIED:20190827T181137Z
UID:10007296-1543393800-1543402800@stmaa.org
SUMMARY:MOW/WOWs
DESCRIPTION:The Men and Women on Wednesday meet weekly to perform maintenance work around the church buildings and enjoy each other’s company and delicious snacks.
URL:https://stmaa.org/event/mow-wows/2018-11-28/
LOCATION:Entire propery
CATEGORIES:Administration
END:VEVENT
BEGIN:VEVENT
DTSTART;TZID=America/Los_Angeles:20181121T083000
DTEND;TZID=America/Los_Angeles:20181121T110000
DTSTAMP:20260422T173949
CREATED:20180606T220238Z
LAST-MODIFIED:20190827T181137Z
UID:10007295-1542789000-1542798000@stmaa.org
SUMMARY:MOW/WOWs
DESCRIPTION:The Men and Women on Wednesday meet weekly to perform maintenance work around the church buildings and enjoy each other’s company and delicious snacks.
URL:https://stmaa.org/event/mow-wows/2018-11-21/
LOCATION:Entire propery
CATEGORIES:Administration
END:VEVENT
BEGIN:VEVENT
DTSTART;TZID=America/Los_Angeles:20181114T083000
DTEND;TZID=America/Los_Angeles:20181114T110000
DTSTAMP:20260422T173949
CREATED:20180606T220238Z
LAST-MODIFIED:20190827T181137Z
UID:10007294-1542184200-1542193200@stmaa.org
SUMMARY:MOW/WOWs
DESCRIPTION:The Men and Women on Wednesday meet weekly to perform maintenance work around the church buildings and enjoy each other’s company and delicious snacks.
URL:https://stmaa.org/event/mow-wows/2018-11-14/
LOCATION:Entire propery
CATEGORIES:Administration
END:VEVENT
BEGIN:VEVENT
DTSTART;TZID=America/Los_Angeles:20181107T083000
DTEND;TZID=America/Los_Angeles:20181107T110000
DTSTAMP:20260422T173949
CREATED:20180606T220238Z
LAST-MODIFIED:20190827T181137Z
UID:10007293-1541579400-1541588400@stmaa.org
SUMMARY:MOW/WOWs
DESCRIPTION:The Men and Women on Wednesday meet weekly to perform maintenance work around the church buildings and enjoy each other’s company and delicious snacks.
URL:https://stmaa.org/event/mow-wows/2018-11-07/
LOCATION:Entire propery
CATEGORIES:Administration
END:VEVENT
BEGIN:VEVENT
DTSTART;TZID=America/Los_Angeles:20181031T083000
DTEND;TZID=America/Los_Angeles:20181031T110000
DTSTAMP:20260422T173949
CREATED:20180606T220238Z
LAST-MODIFIED:20190827T181137Z
UID:10007292-1540974600-1540983600@stmaa.org
SUMMARY:MOW/WOWs
DESCRIPTION:The Men and Women on Wednesday meet weekly to perform maintenance work around the church buildings and enjoy each other’s company and delicious snacks.
URL:https://stmaa.org/event/mow-wows/2018-10-31/
LOCATION:Entire propery
CATEGORIES:Administration
END:VEVENT
BEGIN:VEVENT
DTSTART;TZID=America/Los_Angeles:20181024T083000
DTEND;TZID=America/Los_Angeles:20181024T110000
DTSTAMP:20260422T173949
CREATED:20180606T220238Z
LAST-MODIFIED:20190827T181137Z
UID:10007291-1540369800-1540378800@stmaa.org
SUMMARY:MOW/WOWs
DESCRIPTION:The Men and Women on Wednesday meet weekly to perform maintenance work around the church buildings and enjoy each other’s company and delicious snacks.
URL:https://stmaa.org/event/mow-wows/2018-10-24/
LOCATION:Entire propery
CATEGORIES:Administration
END:VEVENT
BEGIN:VEVENT
DTSTART;TZID=America/Los_Angeles:20181017T083000
DTEND;TZID=America/Los_Angeles:20181017T110000
DTSTAMP:20260422T173949
CREATED:20180606T220238Z
LAST-MODIFIED:20190827T181137Z
UID:10007290-1539765000-1539774000@stmaa.org
SUMMARY:MOW/WOWs
DESCRIPTION:The Men and Women on Wednesday meet weekly to perform maintenance work around the church buildings and enjoy each other’s company and delicious snacks.
URL:https://stmaa.org/event/mow-wows/2018-10-17/
LOCATION:Entire propery
CATEGORIES:Administration
END:VEVENT
BEGIN:VEVENT
DTSTART;TZID=America/Los_Angeles:20181010T083000
DTEND;TZID=America/Los_Angeles:20181010T110000
DTSTAMP:20260422T173949
CREATED:20180606T220238Z
LAST-MODIFIED:20190827T181137Z
UID:10007289-1539160200-1539169200@stmaa.org
SUMMARY:MOW/WOWs
DESCRIPTION:The Men and Women on Wednesday meet weekly to perform maintenance work around the church buildings and enjoy each other’s company and delicious snacks.
URL:https://stmaa.org/event/mow-wows/2018-10-10/
LOCATION:Entire propery
CATEGORIES:Administration
END:VEVENT
BEGIN:VEVENT
DTSTART;TZID=America/Los_Angeles:20181003T083000
DTEND;TZID=America/Los_Angeles:20181003T110000
DTSTAMP:20260422T173949
CREATED:20180606T220238Z
LAST-MODIFIED:20190827T181137Z
UID:10007288-1538555400-1538564400@stmaa.org
SUMMARY:MOW/WOWs
DESCRIPTION:The Men and Women on Wednesday meet weekly to perform maintenance work around the church buildings and enjoy each other’s company and delicious snacks.
URL:https://stmaa.org/event/mow-wows/2018-10-03/
LOCATION:Entire propery
CATEGORIES:Administration
END:VEVENT
BEGIN:VEVENT
DTSTART;TZID=America/Los_Angeles:20180926T083000
DTEND;TZID=America/Los_Angeles:20180926T110000
DTSTAMP:20260422T173949
CREATED:20180606T220238Z
LAST-MODIFIED:20190827T181137Z
UID:10007287-1537950600-1537959600@stmaa.org
SUMMARY:MOW/WOWs
DESCRIPTION:The Men and Women on Wednesday meet weekly to perform maintenance work around the church buildings and enjoy each other’s company and delicious snacks.
URL:https://stmaa.org/event/mow-wows/2018-09-26/
LOCATION:Entire propery
CATEGORIES:Administration
END:VEVENT
BEGIN:VEVENT
DTSTART;TZID=America/Los_Angeles:20180919T083000
DTEND;TZID=America/Los_Angeles:20180919T110000
DTSTAMP:20260422T173949
CREATED:20180606T220238Z
LAST-MODIFIED:20190827T181137Z
UID:10007286-1537345800-1537354800@stmaa.org
SUMMARY:MOW/WOWs
DESCRIPTION:The Men and Women on Wednesday meet weekly to perform maintenance work around the church buildings and enjoy each other’s company and delicious snacks.
URL:https://stmaa.org/event/mow-wows/2018-09-19/
LOCATION:Entire propery
CATEGORIES:Administration
END:VEVENT
BEGIN:VEVENT
DTSTART;TZID=America/Los_Angeles:20180912T083000
DTEND;TZID=America/Los_Angeles:20180912T110000
DTSTAMP:20260422T173949
CREATED:20180606T220238Z
LAST-MODIFIED:20190827T181137Z
UID:10007285-1536741000-1536750000@stmaa.org
SUMMARY:MOW/WOWs
DESCRIPTION:The Men and Women on Wednesday meet weekly to perform maintenance work around the church buildings and enjoy each other’s company and delicious snacks.
URL:https://stmaa.org/event/mow-wows/2018-09-12/
LOCATION:Entire propery
CATEGORIES:Administration
END:VEVENT
BEGIN:VEVENT
DTSTART;TZID=America/Los_Angeles:20180905T083000
DTEND;TZID=America/Los_Angeles:20180905T110000
DTSTAMP:20260422T173949
CREATED:20180606T220238Z
LAST-MODIFIED:20190827T181137Z
UID:10007284-1536136200-1536145200@stmaa.org
SUMMARY:MOW/WOWs
DESCRIPTION:The Men and Women on Wednesday meet weekly to perform maintenance work around the church buildings and enjoy each other’s company and delicious snacks.
URL:https://stmaa.org/event/mow-wows/2018-09-05/
LOCATION:Entire propery
CATEGORIES:Administration
END:VEVENT
BEGIN:VEVENT
DTSTART;TZID=America/Los_Angeles:20180829T083000
DTEND;TZID=America/Los_Angeles:20180829T110000
DTSTAMP:20260422T173949
CREATED:20180606T220238Z
LAST-MODIFIED:20190827T181137Z
UID:10007283-1535531400-1535540400@stmaa.org
SUMMARY:MOW/WOWs
DESCRIPTION:The Men and Women on Wednesday meet weekly to perform maintenance work around the church buildings and enjoy each other’s company and delicious snacks.
URL:https://stmaa.org/event/mow-wows/2018-08-29/
LOCATION:Entire propery
CATEGORIES:Administration
END:VEVENT
BEGIN:VEVENT
DTSTART;TZID=America/Los_Angeles:20180822T083000
DTEND;TZID=America/Los_Angeles:20180822T110000
DTSTAMP:20260422T173949
CREATED:20180606T220238Z
LAST-MODIFIED:20190827T181137Z
UID:10007282-1534926600-1534935600@stmaa.org
SUMMARY:MOW/WOWs
DESCRIPTION:The Men and Women on Wednesday meet weekly to perform maintenance work around the church buildings and enjoy each other’s company and delicious snacks.
URL:https://stmaa.org/event/mow-wows/2018-08-22/
LOCATION:Entire propery
CATEGORIES:Administration
END:VEVENT
BEGIN:VEVENT
DTSTART;TZID=America/Los_Angeles:20180815T083000
DTEND;TZID=America/Los_Angeles:20180815T110000
DTSTAMP:20260422T173949
CREATED:20180606T220238Z
LAST-MODIFIED:20190827T181137Z
UID:10007281-1534321800-1534330800@stmaa.org
SUMMARY:MOW/WOWs
DESCRIPTION:The Men and Women on Wednesday meet weekly to perform maintenance work around the church buildings and enjoy each other’s company and delicious snacks.
URL:https://stmaa.org/event/mow-wows/2018-08-15/
LOCATION:Entire propery
CATEGORIES:Administration
END:VEVENT
BEGIN:VEVENT
DTSTART;TZID=America/Los_Angeles:20180808T083000
DTEND;TZID=America/Los_Angeles:20180808T110000
DTSTAMP:20260422T173949
CREATED:20180606T220238Z
LAST-MODIFIED:20190827T181137Z
UID:10007280-1533717000-1533726000@stmaa.org
SUMMARY:MOW/WOWs
DESCRIPTION:The Men and Women on Wednesday meet weekly to perform maintenance work around the church buildings and enjoy each other’s company and delicious snacks.
URL:https://stmaa.org/event/mow-wows/2018-08-08/
LOCATION:Entire propery
CATEGORIES:Administration
END:VEVENT
BEGIN:VEVENT
DTSTART;TZID=America/Los_Angeles:20180801T083000
DTEND;TZID=America/Los_Angeles:20180801T110000
DTSTAMP:20260422T173949
CREATED:20180606T220238Z
LAST-MODIFIED:20190827T181137Z
UID:10007279-1533112200-1533121200@stmaa.org
SUMMARY:MOW/WOWs
DESCRIPTION:The Men and Women on Wednesday meet weekly to perform maintenance work around the church buildings and enjoy each other’s company and delicious snacks.
URL:https://stmaa.org/event/mow-wows/2018-08-01/
LOCATION:Entire propery
CATEGORIES:Administration
END:VEVENT
END:VCALENDAR