BEGIN:VCALENDAR
VERSION:2.0
PRODID:-//St. Michael &amp; All Angels Episcopal Church - ECPv6.15.18//NONSGML v1.0//EN
CALSCALE:GREGORIAN
METHOD:PUBLISH
X-ORIGINAL-URL:https://stmaa.org
X-WR-CALDESC:Events for St. Michael &amp; All Angels Episcopal Church
REFRESH-INTERVAL;VALUE=DURATION:PT1H
X-Robots-Tag:noindex
X-PUBLISHED-TTL:PT1H
BEGIN:VTIMEZONE
TZID:America/Los_Angeles
BEGIN:DAYLIGHT
TZOFFSETFROM:-0800
TZOFFSETTO:-0700
TZNAME:PDT
DTSTART:20190310T100000
END:DAYLIGHT
BEGIN:STANDARD
TZOFFSETFROM:-0700
TZOFFSETTO:-0800
TZNAME:PST
DTSTART:20191103T090000
END:STANDARD
BEGIN:DAYLIGHT
TZOFFSETFROM:-0800
TZOFFSETTO:-0700
TZNAME:PDT
DTSTART:20200308T100000
END:DAYLIGHT
BEGIN:STANDARD
TZOFFSETFROM:-0700
TZOFFSETTO:-0800
TZNAME:PST
DTSTART:20201101T090000
END:STANDARD
BEGIN:DAYLIGHT
TZOFFSETFROM:-0800
TZOFFSETTO:-0700
TZNAME:PDT
DTSTART:20210314T100000
END:DAYLIGHT
BEGIN:STANDARD
TZOFFSETFROM:-0700
TZOFFSETTO:-0800
TZNAME:PST
DTSTART:20211107T090000
END:STANDARD
END:VTIMEZONE
BEGIN:VEVENT
DTSTART;TZID=America/Los_Angeles:20200413T130000
DTEND;TZID=America/Los_Angeles:20200413T143000
DTSTAMP:20260425T065905
CREATED:20200110T234836Z
LAST-MODIFIED:20200205T224231Z
UID:10009210-1586782800-1586788200@stmaa.org
SUMMARY:Monday Book Group
DESCRIPTION:
URL:https://stmaa.org/event/monday-book-group-2-2020-03-09/2020-04-13/
LOCATION:Raphael Room\, 1704 NE 43rd Ave\, Portland\, OR\, 97213\, United States
CATEGORIES:Adult Education regular
GEO:37.09024;-95.712891
X-APPLE-STRUCTURED-LOCATION;VALUE=URI;X-ADDRESS=Raphael Room 1704 NE 43rd Ave Portland OR 97213 United States;X-APPLE-RADIUS=500;X-TITLE=1704 NE 43rd Ave:geo:-95.712891,37.09024
END:VEVENT
BEGIN:VEVENT
DTSTART;TZID=America/Los_Angeles:20200414T183000
DTEND;TZID=America/Los_Angeles:20200414T203000
DTSTAMP:20260425T065905
CREATED:20200204T005950Z
LAST-MODIFIED:20200204T005950Z
UID:10006702-1586889000-1586896200@stmaa.org
SUMMARY:James Joiner's Lenten group
DESCRIPTION:
URL:https://stmaa.org/event/james-joiners-lenten-group/2020-04-14/
LOCATION:Nativity Hall\, 1704 NE 43rd Ave\, Portland\, OR\, 97213\, United States
CATEGORIES:Adult Education events
GEO:37.09024;-95.712891
X-APPLE-STRUCTURED-LOCATION;VALUE=URI;X-ADDRESS=Nativity Hall 1704 NE 43rd Ave Portland OR 97213 United States;X-APPLE-RADIUS=500;X-TITLE=1704 NE 43rd Ave:geo:-95.712891,37.09024
END:VEVENT
BEGIN:VEVENT
DTSTART;TZID=America/Los_Angeles:20200415T083000
DTEND;TZID=America/Los_Angeles:20200415T110000
DTSTAMP:20260425T065905
CREATED:20180606T220238Z
LAST-MODIFIED:20190827T181137Z
UID:10007366-1586939400-1586948400@stmaa.org
SUMMARY:MOW/WOWs
DESCRIPTION:The Men and Women on Wednesday meet weekly to perform maintenance work around the church buildings and enjoy each other’s company and delicious snacks.
URL:https://stmaa.org/event/mow-wows/2020-04-15/
LOCATION:Entire propery
CATEGORIES:Administration
END:VEVENT
BEGIN:VEVENT
DTSTART;TZID=America/Los_Angeles:20200416T183000
DTEND;TZID=America/Los_Angeles:20200416T203000
DTSTAMP:20260425T065905
CREATED:20200109T202253Z
LAST-MODIFIED:20200109T202253Z
UID:10009143-1587061800-1587069000@stmaa.org
SUMMARY:Vestry meeting
DESCRIPTION:
URL:https://stmaa.org/event/vestry-meeting-5/2020-04-16/
LOCATION:Parish Hall\, 1704 NE 43rd Ave\, Portland\, OR\, 97213\, United States
CATEGORIES:Administration
GEO:37.09024;-95.712891
X-APPLE-STRUCTURED-LOCATION;VALUE=URI;X-ADDRESS=Parish Hall 1704 NE 43rd Ave Portland OR 97213 United States;X-APPLE-RADIUS=500;X-TITLE=1704 NE 43rd Ave:geo:-95.712891,37.09024
END:VEVENT
BEGIN:VEVENT
DTSTART;TZID=America/Los_Angeles:20200418T163000
DTEND;TZID=America/Los_Angeles:20200418T190000
DTSTAMP:20260425T065905
CREATED:20191001T223433Z
LAST-MODIFIED:20191001T223433Z
UID:10008956-1587227400-1587236400@stmaa.org
SUMMARY:Music Makers & Family Worship
DESCRIPTION:Families with young children gather in the Nativity Hall the third Saturday of the month at 4:30 pm for Music Makers & Family Worship Service. After worship a pot-luck dinner is shared with plenty of time to enjoy good food and fellowship! \nMusic Makers is a fun-filled\, interactive class designed for young children and their families to experience the joy of making music together! As families sing\, dance and play music in a variety of styles they not only share the delights of making music\, they also lay the important groundwork for a child’s lifelong appreciation\, enjoyment and connection to music. \nFamily Worship is a liturgy created especially for young children and their families\, keeping in mind the energy\, wiggles\, giggles and attention span of the very young. Family Worship meets in the Nativity Hall which offers plenty of space for little ones and parents to move as needed throughout the liturgy. Music introduced through the Music Makers class is incorporated into worship and Holy Eucharist is celebrated using grape juice and gluten-free crackers. A delicious potluck dinner follows in the Parish Hall.
URL:https://stmaa.org/event/music-makers-family-worship-3/2020-04-18/
LOCATION:Parish Hall\, Nativity Hall\, 1704 NE 43rd Ave\, Portland\, OR\, 97213\, United States
CATEGORIES:Children/Families events
END:VEVENT
END:VCALENDAR