BEGIN:VCALENDAR
VERSION:2.0
PRODID:-//St. Michael &amp; All Angels Episcopal Church - ECPv6.15.18//NONSGML v1.0//EN
CALSCALE:GREGORIAN
METHOD:PUBLISH
X-WR-CALNAME:St. Michael &amp; All Angels Episcopal Church
X-ORIGINAL-URL:https://stmaa.org
X-WR-CALDESC:Events for St. Michael &amp; All Angels Episcopal Church
REFRESH-INTERVAL;VALUE=DURATION:PT1H
X-Robots-Tag:noindex
X-PUBLISHED-TTL:PT1H
BEGIN:VTIMEZONE
TZID:America/Los_Angeles
BEGIN:DAYLIGHT
TZOFFSETFROM:-0800
TZOFFSETTO:-0700
TZNAME:PDT
DTSTART:20190310T100000
END:DAYLIGHT
BEGIN:STANDARD
TZOFFSETFROM:-0700
TZOFFSETTO:-0800
TZNAME:PST
DTSTART:20191103T090000
END:STANDARD
BEGIN:DAYLIGHT
TZOFFSETFROM:-0800
TZOFFSETTO:-0700
TZNAME:PDT
DTSTART:20200308T100000
END:DAYLIGHT
BEGIN:STANDARD
TZOFFSETFROM:-0700
TZOFFSETTO:-0800
TZNAME:PST
DTSTART:20201101T090000
END:STANDARD
BEGIN:DAYLIGHT
TZOFFSETFROM:-0800
TZOFFSETTO:-0700
TZNAME:PDT
DTSTART:20210314T100000
END:DAYLIGHT
BEGIN:STANDARD
TZOFFSETFROM:-0700
TZOFFSETTO:-0800
TZNAME:PST
DTSTART:20211107T090000
END:STANDARD
END:VTIMEZONE
BEGIN:VEVENT
DTSTART;TZID=America/Los_Angeles:20200308T101500
DTEND;TZID=America/Los_Angeles:20200308T110000
DTSTAMP:20260423T161333
CREATED:20200213T221116Z
LAST-MODIFIED:20200213T221116Z
UID:10006741-1583662500-1583665200@stmaa.org
SUMMARY:Lenten Forums
DESCRIPTION:Associate Rector James Joiner will lead the Sunday Forums in Lent\, which will explore the ideas of sin and mercy and how we can use each for self-examination and community accountability. We tend to have a very loaded idea of what constitutes sin in our tradition\, and for good reason! The classification of sins has a notorious history for being used to dominate and manipulate the faithful with misplaced religious authority. Yet we still hold the idea that there is something good that we pursue in our spiritual lives\, and part of that involves discerning which parts of our lives as individuals and communities are worth turning away from. Through a comparison with how other religious traditions approach this phenomenon\, particularly the teachings from Buddhism on the Five Hindrances\, we’ll look at fresh approaches for how to engage Christianity’s use and misuse of sin. In the process\, we’ll develop practices for becoming fountains of God’s mercy in our daily lives. All are welcome in the Nativity Hall each Sunday at 10:15 am from March 1 to March 29 for more.
URL:https://stmaa.org/event/lenten-forums/2020-03-08/
LOCATION:Nativity Hall\, 1704 NE 43rd Ave\, Portland\, OR\, 97213\, United States
CATEGORIES:Adult Education events
GEO:37.09024;-95.712891
X-APPLE-STRUCTURED-LOCATION;VALUE=URI;X-ADDRESS=Nativity Hall 1704 NE 43rd Ave Portland OR 97213 United States;X-APPLE-RADIUS=500;X-TITLE=1704 NE 43rd Ave:geo:-95.712891,37.09024
END:VEVENT
BEGIN:VEVENT
DTSTART;TZID=America/Los_Angeles:20200309T130000
DTEND;TZID=America/Los_Angeles:20200309T143000
DTSTAMP:20260423T161333
CREATED:20200110T234836Z
LAST-MODIFIED:20200205T224231Z
UID:10009209-1583758800-1583764200@stmaa.org
SUMMARY:Monday Book Group
DESCRIPTION:
URL:https://stmaa.org/event/monday-book-group-2-2020-03-09/2020-03-09/
LOCATION:Raphael Room\, 1704 NE 43rd Ave\, Portland\, OR\, 97213\, United States
CATEGORIES:Adult Education regular
GEO:37.09024;-95.712891
X-APPLE-STRUCTURED-LOCATION;VALUE=URI;X-ADDRESS=Raphael Room 1704 NE 43rd Ave Portland OR 97213 United States;X-APPLE-RADIUS=500;X-TITLE=1704 NE 43rd Ave:geo:-95.712891,37.09024
END:VEVENT
BEGIN:VEVENT
DTSTART;TZID=America/Los_Angeles:20200310T183000
DTEND;TZID=America/Los_Angeles:20200310T203000
DTSTAMP:20260423T161333
CREATED:20200204T005950Z
LAST-MODIFIED:20200204T005950Z
UID:10006697-1583865000-1583872200@stmaa.org
SUMMARY:James Joiner's Lenten group
DESCRIPTION:
URL:https://stmaa.org/event/james-joiners-lenten-group/2020-03-10/
LOCATION:Nativity Hall\, 1704 NE 43rd Ave\, Portland\, OR\, 97213\, United States
CATEGORIES:Adult Education events
GEO:37.09024;-95.712891
X-APPLE-STRUCTURED-LOCATION;VALUE=URI;X-ADDRESS=Nativity Hall 1704 NE 43rd Ave Portland OR 97213 United States;X-APPLE-RADIUS=500;X-TITLE=1704 NE 43rd Ave:geo:-95.712891,37.09024
END:VEVENT
BEGIN:VEVENT
DTSTART;TZID=America/Los_Angeles:20200311T083000
DTEND;TZID=America/Los_Angeles:20200311T110000
DTSTAMP:20260423T161333
CREATED:20180606T220238Z
LAST-MODIFIED:20190827T181137Z
UID:10007361-1583915400-1583924400@stmaa.org
SUMMARY:MOW/WOWs
DESCRIPTION:The Men and Women on Wednesday meet weekly to perform maintenance work around the church buildings and enjoy each other’s company and delicious snacks.
URL:https://stmaa.org/event/mow-wows/2020-03-11/
LOCATION:Entire propery
CATEGORIES:Administration
END:VEVENT
BEGIN:VEVENT
DTSTART;TZID=America/Los_Angeles:20200311T120000
DTEND;TZID=America/Los_Angeles:20200311T130000
DTSTAMP:20260423T161333
CREATED:20200204T010106Z
LAST-MODIFIED:20200204T010106Z
UID:10006708-1583928000-1583931600@stmaa.org
SUMMARY:Chris Craun's Lenten book study
DESCRIPTION:
URL:https://stmaa.org/event/chris-crauns-lenten-book-study/2020-03-11/
LOCATION:Parish Hall\, 1704 NE 43rd Ave\, Portland\, OR\, 97213\, United States
CATEGORIES:Adult Education events
GEO:37.09024;-95.712891
X-APPLE-STRUCTURED-LOCATION;VALUE=URI;X-ADDRESS=Parish Hall 1704 NE 43rd Ave Portland OR 97213 United States;X-APPLE-RADIUS=500;X-TITLE=1704 NE 43rd Ave:geo:-95.712891,37.09024
END:VEVENT
BEGIN:VEVENT
DTSTART;TZID=America/Los_Angeles:20200313T130000
DTEND;TZID=America/Los_Angeles:20200313T153000
DTSTAMP:20260423T161333
CREATED:20200204T212032Z
LAST-MODIFIED:20200204T212032Z
UID:10006715-1584104400-1584113400@stmaa.org
SUMMARY:Cascadia Chamber Ensemble rehearsal
DESCRIPTION:
URL:https://stmaa.org/event/cascadia-chamber-ensemble-rehearsal-5/2020-03-13/
LOCATION:Church sanctuary\, 1704 NE 43rd Ave\, Portland\, OR\, 97213\, United States
CATEGORIES:Music rehearsals
GEO:37.09024;-95.712891
X-APPLE-STRUCTURED-LOCATION;VALUE=URI;X-ADDRESS=Church sanctuary 1704 NE 43rd Ave Portland OR 97213 United States;X-APPLE-RADIUS=500;X-TITLE=1704 NE 43rd Ave:geo:-95.712891,37.09024
END:VEVENT
END:VCALENDAR