BEGIN:VCALENDAR
VERSION:2.0
PRODID:-//St. Michael &amp; All Angels Episcopal Church - ECPv6.15.18//NONSGML v1.0//EN
CALSCALE:GREGORIAN
METHOD:PUBLISH
X-ORIGINAL-URL:https://stmaa.org
X-WR-CALDESC:Events for St. Michael &amp; All Angels Episcopal Church
REFRESH-INTERVAL;VALUE=DURATION:PT1H
X-Robots-Tag:noindex
X-PUBLISHED-TTL:PT1H
BEGIN:VTIMEZONE
TZID:America/Los_Angeles
BEGIN:DAYLIGHT
TZOFFSETFROM:-0800
TZOFFSETTO:-0700
TZNAME:PDT
DTSTART:20190310T100000
END:DAYLIGHT
BEGIN:STANDARD
TZOFFSETFROM:-0700
TZOFFSETTO:-0800
TZNAME:PST
DTSTART:20191103T090000
END:STANDARD
BEGIN:DAYLIGHT
TZOFFSETFROM:-0800
TZOFFSETTO:-0700
TZNAME:PDT
DTSTART:20200308T100000
END:DAYLIGHT
BEGIN:STANDARD
TZOFFSETFROM:-0700
TZOFFSETTO:-0800
TZNAME:PST
DTSTART:20201101T090000
END:STANDARD
BEGIN:DAYLIGHT
TZOFFSETFROM:-0800
TZOFFSETTO:-0700
TZNAME:PDT
DTSTART:20210314T100000
END:DAYLIGHT
BEGIN:STANDARD
TZOFFSETFROM:-0700
TZOFFSETTO:-0800
TZNAME:PST
DTSTART:20211107T090000
END:STANDARD
END:VTIMEZONE
BEGIN:VEVENT
DTSTART;TZID=America/Los_Angeles:20200216T180000
DTEND;TZID=America/Los_Angeles:20200216T193000
DTSTAMP:20260421T080551
CREATED:20200204T003414Z
LAST-MODIFIED:20200204T003414Z
UID:10009214-1581876000-1581881400@stmaa.org
SUMMARY:Youth Group
DESCRIPTION:
URL:https://stmaa.org/event/youth-group-7/2020-02-16/
LOCATION:St. Michael’s House\, 1704 NE 43rd Ave\, Portland\, OR\, 97213\, United States
CATEGORIES:Youth regular
END:VEVENT
BEGIN:VEVENT
DTSTART;TZID=America/Los_Angeles:20200219T083000
DTEND;TZID=America/Los_Angeles:20200219T110000
DTSTAMP:20260421T080551
CREATED:20180606T220238Z
LAST-MODIFIED:20190827T181137Z
UID:10007358-1582101000-1582110000@stmaa.org
SUMMARY:MOW/WOWs
DESCRIPTION:The Men and Women on Wednesday meet weekly to perform maintenance work around the church buildings and enjoy each other’s company and delicious snacks.
URL:https://stmaa.org/event/mow-wows/2020-02-19/
LOCATION:Entire propery
CATEGORIES:Administration
END:VEVENT
BEGIN:VEVENT
DTSTART;TZID=America/Los_Angeles:20200220T183000
DTEND;TZID=America/Los_Angeles:20200220T203000
DTSTAMP:20260421T080551
CREATED:20200109T202253Z
LAST-MODIFIED:20200109T202253Z
UID:10009141-1582223400-1582230600@stmaa.org
SUMMARY:Vestry meeting
DESCRIPTION:
URL:https://stmaa.org/event/vestry-meeting-5/2020-02-20/
LOCATION:Parish Hall\, 1704 NE 43rd Ave\, Portland\, OR\, 97213\, United States
CATEGORIES:Administration
GEO:37.09024;-95.712891
X-APPLE-STRUCTURED-LOCATION;VALUE=URI;X-ADDRESS=Parish Hall 1704 NE 43rd Ave Portland OR 97213 United States;X-APPLE-RADIUS=500;X-TITLE=1704 NE 43rd Ave:geo:-95.712891,37.09024
END:VEVENT
BEGIN:VEVENT
DTSTART;TZID=America/Los_Angeles:20200221T180000
DTEND;TZID=America/Los_Angeles:20200221T210000
DTSTAMP:20260421T080551
CREATED:20200110T234542Z
LAST-MODIFIED:20200110T234542Z
UID:10009206-1582308000-1582318800@stmaa.org
SUMMARY:Broadway Night music fundraiser
DESCRIPTION:
URL:https://stmaa.org/event/broadway-night-music-fundraiser/2020-02-21/
LOCATION:Parish Hall\, Nativity Hall\, 1704 NE 43rd Ave\, Portland\, OR\, 97213\, United States
CATEGORIES:Music events
END:VEVENT
BEGIN:VEVENT
DTSTART;TZID=America/Los_Angeles:20200222T180000
DTEND;TZID=America/Los_Angeles:20200222T210000
DTSTAMP:20260421T080551
CREATED:20200110T234542Z
LAST-MODIFIED:20200110T234542Z
UID:10009207-1582394400-1582405200@stmaa.org
SUMMARY:Broadway Night music fundraiser
DESCRIPTION:
URL:https://stmaa.org/event/broadway-night-music-fundraiser/2020-02-22/
LOCATION:Parish Hall\, Nativity Hall\, 1704 NE 43rd Ave\, Portland\, OR\, 97213\, United States
CATEGORIES:Music events
END:VEVENT
END:VCALENDAR