BEGIN:VCALENDAR
VERSION:2.0
PRODID:-//St. Michael &amp; All Angels Episcopal Church - ECPv6.15.18//NONSGML v1.0//EN
CALSCALE:GREGORIAN
METHOD:PUBLISH
X-ORIGINAL-URL:https://stmaa.org
X-WR-CALDESC:Events for St. Michael &amp; All Angels Episcopal Church
REFRESH-INTERVAL;VALUE=DURATION:PT1H
X-Robots-Tag:noindex
X-PUBLISHED-TTL:PT1H
BEGIN:VTIMEZONE
TZID:America/Los_Angeles
BEGIN:DAYLIGHT
TZOFFSETFROM:-0800
TZOFFSETTO:-0700
TZNAME:PDT
DTSTART:20180311T100000
END:DAYLIGHT
BEGIN:STANDARD
TZOFFSETFROM:-0700
TZOFFSETTO:-0800
TZNAME:PST
DTSTART:20181104T090000
END:STANDARD
BEGIN:DAYLIGHT
TZOFFSETFROM:-0800
TZOFFSETTO:-0700
TZNAME:PDT
DTSTART:20190310T100000
END:DAYLIGHT
BEGIN:STANDARD
TZOFFSETFROM:-0700
TZOFFSETTO:-0800
TZNAME:PST
DTSTART:20191103T090000
END:STANDARD
BEGIN:DAYLIGHT
TZOFFSETFROM:-0800
TZOFFSETTO:-0700
TZNAME:PDT
DTSTART:20200308T100000
END:DAYLIGHT
BEGIN:STANDARD
TZOFFSETFROM:-0700
TZOFFSETTO:-0800
TZNAME:PST
DTSTART:20201101T090000
END:STANDARD
END:VTIMEZONE
BEGIN:VEVENT
DTSTART;TZID=America/Los_Angeles:20191222T101000
DTEND;TZID=America/Los_Angeles:20191222T143000
DTSTAMP:20260419T201032
CREATED:20180618T211107Z
LAST-MODIFIED:20180618T211107Z
UID:10007978-1577009400-1577025000@stmaa.org
SUMMARY:Coffee Hour & Convivio
DESCRIPTION:Coffee hour (coffee and treats) and convivio (meal) happen every Sunday following the 9:00 and 11:00 am services and the 1:00 pm Spanish-language Misa.
URL:https://stmaa.org/event/coffee-hour-convivio/2019-12-22/
LOCATION:Parish Hall\, 1704 NE 43rd Ave\, Portland\, OR\, 97213\, United States
CATEGORIES:Hospitality
GEO:37.09024;-95.712891
X-APPLE-STRUCTURED-LOCATION;VALUE=URI;X-ADDRESS=Parish Hall 1704 NE 43rd Ave Portland OR 97213 United States;X-APPLE-RADIUS=500;X-TITLE=1704 NE 43rd Ave:geo:-95.712891,37.09024
END:VEVENT
BEGIN:VEVENT
DTSTART;TZID=America/Los_Angeles:20191222T101500
DTEND;TZID=America/Los_Angeles:20191222T110000
DTSTAMP:20260419T201032
CREATED:20191205T193443Z
LAST-MODIFIED:20191205T193443Z
UID:10009115-1577009700-1577012400@stmaa.org
SUMMARY:Advent Forums
DESCRIPTION:As we shift into the Advent season\, our Forum series will focus on the gift of silence and contemplation in our prayer lives. The Forum happening on Sunday\, December 8\, and continuing on the 15th and 22nd\, will include times of silent practice accompanied by meditations and notes on how silence has been used throughout the Christian tradition. Please join Associate Rector James Joiner at 10:15 am in the Nativity Hall.
URL:https://stmaa.org/event/advent-forums/2019-12-22/
LOCATION:Nativity Hall\, 1704 NE 43rd Ave\, Portland\, OR\, 97213\, United States
CATEGORIES:Adult Education events
GEO:37.09024;-95.712891
X-APPLE-STRUCTURED-LOCATION;VALUE=URI;X-ADDRESS=Nativity Hall 1704 NE 43rd Ave Portland OR 97213 United States;X-APPLE-RADIUS=500;X-TITLE=1704 NE 43rd Ave:geo:-95.712891,37.09024
END:VEVENT
BEGIN:VEVENT
DTSTART;TZID=America/Los_Angeles:20191222T180000
DTEND;TZID=America/Los_Angeles:20191222T200000
DTSTAMP:20260419T201032
CREATED:20191114T002619Z
LAST-MODIFIED:20191114T002619Z
UID:10009107-1577037600-1577044800@stmaa.org
SUMMARY:Las Posadas
DESCRIPTION:Check back for more information. First and last nights take place at St. Michael’s
URL:https://stmaa.org/event/las-posadas-2/2019-12-22/
LOCATION:Offsite location
CATEGORIES:Worship events
END:VEVENT
END:VCALENDAR