BEGIN:VCALENDAR
VERSION:2.0
PRODID:-//St. Michael &amp; All Angels Episcopal Church - ECPv6.15.18//NONSGML v1.0//EN
CALSCALE:GREGORIAN
METHOD:PUBLISH
X-WR-CALNAME:St. Michael &amp; All Angels Episcopal Church
X-ORIGINAL-URL:https://stmaa.org
X-WR-CALDESC:Events for St. Michael &amp; All Angels Episcopal Church
REFRESH-INTERVAL;VALUE=DURATION:PT1H
X-Robots-Tag:noindex
X-PUBLISHED-TTL:PT1H
BEGIN:VTIMEZONE
TZID:America/Los_Angeles
BEGIN:DAYLIGHT
TZOFFSETFROM:-0800
TZOFFSETTO:-0700
TZNAME:PDT
DTSTART:20220313T100000
END:DAYLIGHT
BEGIN:STANDARD
TZOFFSETFROM:-0700
TZOFFSETTO:-0800
TZNAME:PST
DTSTART:20221106T090000
END:STANDARD
BEGIN:DAYLIGHT
TZOFFSETFROM:-0800
TZOFFSETTO:-0700
TZNAME:PDT
DTSTART:20230312T100000
END:DAYLIGHT
BEGIN:STANDARD
TZOFFSETFROM:-0700
TZOFFSETTO:-0800
TZNAME:PST
DTSTART:20231105T090000
END:STANDARD
BEGIN:DAYLIGHT
TZOFFSETFROM:-0800
TZOFFSETTO:-0700
TZNAME:PDT
DTSTART:20240310T100000
END:DAYLIGHT
BEGIN:STANDARD
TZOFFSETFROM:-0700
TZOFFSETTO:-0800
TZNAME:PST
DTSTART:20241103T090000
END:STANDARD
BEGIN:DAYLIGHT
TZOFFSETFROM:-0800
TZOFFSETTO:-0700
TZNAME:PDT
DTSTART:20250309T100000
END:DAYLIGHT
BEGIN:STANDARD
TZOFFSETFROM:-0700
TZOFFSETTO:-0800
TZNAME:PST
DTSTART:20251102T090000
END:STANDARD
END:VTIMEZONE
BEGIN:VEVENT
DTSTART;TZID=America/Los_Angeles:20240210T090000
DTEND;TZID=America/Los_Angeles:20240210T103000
DTSTAMP:20260424T084430
CREATED:20230107T205603Z
LAST-MODIFIED:20240201T200942Z
UID:10012601-1707555600-1707561000@stmaa.org
SUMMARY:Altar Guild
DESCRIPTION:
URL:https://stmaa.org/event/altar-guild-3/2024-02-10/
LOCATION:Sacristy\, sanctuary\, 1704 NE 43rd Ave\, Portland\, OR\, 97213\, United States
CATEGORIES:Administration,Worship regular
END:VEVENT
BEGIN:VEVENT
DTSTART;TZID=America/Los_Angeles:20240207T181500
DTEND;TZID=America/Los_Angeles:20240207T183000
DTSTAMP:20260424T084430
CREATED:20230922T181743Z
LAST-MODIFIED:20240307T193112Z
UID:10011359-1707329700-1707330600@stmaa.org
SUMMARY:Evening Prayer
DESCRIPTION:
URL:https://stmaa.org/event/evening-prayer-7/2024-02-07/
LOCATION:Church sanctuary\, 1704 NE 43rd Ave\, Portland\, OR\, 97213\, United States
CATEGORIES:Worship regular
GEO:37.09024;-95.712891
X-APPLE-STRUCTURED-LOCATION;VALUE=URI;X-ADDRESS=Church sanctuary 1704 NE 43rd Ave Portland OR 97213 United States;X-APPLE-RADIUS=500;X-TITLE=1704 NE 43rd Ave:geo:-95.712891,37.09024
END:VEVENT
BEGIN:VEVENT
DTSTART;TZID=America/Los_Angeles:20240204T130000
DTEND;TZID=America/Los_Angeles:20240204T150000
DTSTAMP:20260424T084430
CREATED:20230922T174809Z
LAST-MODIFIED:20240201T201931Z
UID:10012812-1707051600-1707058800@stmaa.org
SUMMARY:La Misa - worship service in Spanish + convivio
DESCRIPTION:
URL:https://stmaa.org/event/la-misa-worship-service-in-spanish-convivio/2024-02-04/
LOCATION:Church sanctuary\, Parish Hall\, 1704 NE 43rd Ave\, Portland\, OR\, 97213\, United States
CATEGORIES:Parish Life,Worship regular
GEO:37.09024;-95.712891
X-APPLE-STRUCTURED-LOCATION;VALUE=URI;X-ADDRESS=Church sanctuary Parish Hall 1704 NE 43rd Ave Portland OR 97213 United States;X-APPLE-RADIUS=500;X-TITLE=1704 NE 43rd Ave:geo:-95.712891,37.09024
END:VEVENT
BEGIN:VEVENT
DTSTART;TZID=America/Los_Angeles:20240204T073000
DTEND;TZID=America/Los_Angeles:20240204T120000
DTSTAMP:20260424T084430
CREATED:20230922T175809Z
LAST-MODIFIED:20240307T201905Z
UID:10011318-1707031800-1707048000@stmaa.org
SUMMARY:Sunday morning worship in English at 7:30\, 9:00 & 11:00 am
DESCRIPTION:
URL:https://stmaa.org/event/sunday-morning-worship-in-english-at-730-900-1100-am-2/2024-02-04/
LOCATION:Church sanctuary\, 1704 NE 43rd Ave\, Portland\, OR\, 97213\, United States
CATEGORIES:Worship regular
GEO:37.09024;-95.712891
X-APPLE-STRUCTURED-LOCATION;VALUE=URI;X-ADDRESS=Church sanctuary 1704 NE 43rd Ave Portland OR 97213 United States;X-APPLE-RADIUS=500;X-TITLE=1704 NE 43rd Ave:geo:-95.712891,37.09024
END:VEVENT
BEGIN:VEVENT
DTSTART;TZID=America/Los_Angeles:20240203T090000
DTEND;TZID=America/Los_Angeles:20240203T103000
DTSTAMP:20260424T084430
CREATED:20230107T205603Z
LAST-MODIFIED:20240201T200942Z
UID:10012600-1706950800-1706956200@stmaa.org
SUMMARY:Altar Guild
DESCRIPTION:
URL:https://stmaa.org/event/altar-guild-3/2024-02-03/
LOCATION:Sacristy\, sanctuary\, 1704 NE 43rd Ave\, Portland\, OR\, 97213\, United States
CATEGORIES:Administration,Worship regular
END:VEVENT
BEGIN:VEVENT
DTSTART;TZID=America/Los_Angeles:20240131T181500
DTEND;TZID=America/Los_Angeles:20240131T183000
DTSTAMP:20260424T084430
CREATED:20230922T181743Z
LAST-MODIFIED:20240307T193112Z
UID:10011358-1706724900-1706725800@stmaa.org
SUMMARY:Evening Prayer
DESCRIPTION:
URL:https://stmaa.org/event/evening-prayer-7/2024-01-31/
LOCATION:Church sanctuary\, 1704 NE 43rd Ave\, Portland\, OR\, 97213\, United States
CATEGORIES:Worship regular
GEO:37.09024;-95.712891
X-APPLE-STRUCTURED-LOCATION;VALUE=URI;X-ADDRESS=Church sanctuary 1704 NE 43rd Ave Portland OR 97213 United States;X-APPLE-RADIUS=500;X-TITLE=1704 NE 43rd Ave:geo:-95.712891,37.09024
END:VEVENT
BEGIN:VEVENT
DTSTART;TZID=America/Los_Angeles:20240128T130000
DTEND;TZID=America/Los_Angeles:20240128T150000
DTSTAMP:20260424T084430
CREATED:20230922T174809Z
LAST-MODIFIED:20240201T201931Z
UID:10012811-1706446800-1706454000@stmaa.org
SUMMARY:La Misa - worship service in Spanish + convivio
DESCRIPTION:
URL:https://stmaa.org/event/la-misa-worship-service-in-spanish-convivio/2024-01-28/
LOCATION:Church sanctuary\, Parish Hall\, 1704 NE 43rd Ave\, Portland\, OR\, 97213\, United States
CATEGORIES:Parish Life,Worship regular
GEO:37.09024;-95.712891
X-APPLE-STRUCTURED-LOCATION;VALUE=URI;X-ADDRESS=Church sanctuary Parish Hall 1704 NE 43rd Ave Portland OR 97213 United States;X-APPLE-RADIUS=500;X-TITLE=1704 NE 43rd Ave:geo:-95.712891,37.09024
END:VEVENT
BEGIN:VEVENT
DTSTART;TZID=America/Los_Angeles:20240128T073000
DTEND;TZID=America/Los_Angeles:20240128T120000
DTSTAMP:20260424T084430
CREATED:20230922T175809Z
LAST-MODIFIED:20240307T201905Z
UID:10011317-1706427000-1706443200@stmaa.org
SUMMARY:Sunday morning worship in English at 7:30\, 9:00 & 11:00 am
DESCRIPTION:
URL:https://stmaa.org/event/sunday-morning-worship-in-english-at-730-900-1100-am-2/2024-01-28/
LOCATION:Church sanctuary\, 1704 NE 43rd Ave\, Portland\, OR\, 97213\, United States
CATEGORIES:Worship regular
GEO:37.09024;-95.712891
X-APPLE-STRUCTURED-LOCATION;VALUE=URI;X-ADDRESS=Church sanctuary 1704 NE 43rd Ave Portland OR 97213 United States;X-APPLE-RADIUS=500;X-TITLE=1704 NE 43rd Ave:geo:-95.712891,37.09024
END:VEVENT
BEGIN:VEVENT
DTSTART;TZID=America/Los_Angeles:20240127T090000
DTEND;TZID=America/Los_Angeles:20240127T103000
DTSTAMP:20260424T084430
CREATED:20230107T205603Z
LAST-MODIFIED:20240201T200942Z
UID:10012599-1706346000-1706351400@stmaa.org
SUMMARY:Altar Guild
DESCRIPTION:
URL:https://stmaa.org/event/altar-guild-3/2024-01-27/
LOCATION:Sacristy\, sanctuary\, 1704 NE 43rd Ave\, Portland\, OR\, 97213\, United States
CATEGORIES:Administration,Worship regular
END:VEVENT
BEGIN:VEVENT
DTSTART;TZID=America/Los_Angeles:20240124T181500
DTEND;TZID=America/Los_Angeles:20240124T183000
DTSTAMP:20260424T084430
CREATED:20230922T181743Z
LAST-MODIFIED:20240307T193112Z
UID:10011357-1706120100-1706121000@stmaa.org
SUMMARY:Evening Prayer
DESCRIPTION:
URL:https://stmaa.org/event/evening-prayer-7/2024-01-24/
LOCATION:Church sanctuary\, 1704 NE 43rd Ave\, Portland\, OR\, 97213\, United States
CATEGORIES:Worship regular
GEO:37.09024;-95.712891
X-APPLE-STRUCTURED-LOCATION;VALUE=URI;X-ADDRESS=Church sanctuary 1704 NE 43rd Ave Portland OR 97213 United States;X-APPLE-RADIUS=500;X-TITLE=1704 NE 43rd Ave:geo:-95.712891,37.09024
END:VEVENT
BEGIN:VEVENT
DTSTART;TZID=America/Los_Angeles:20240121T130000
DTEND;TZID=America/Los_Angeles:20240121T150000
DTSTAMP:20260424T084430
CREATED:20230922T174809Z
LAST-MODIFIED:20240201T201931Z
UID:10012810-1705842000-1705849200@stmaa.org
SUMMARY:La Misa - worship service in Spanish + convivio
DESCRIPTION:
URL:https://stmaa.org/event/la-misa-worship-service-in-spanish-convivio/2024-01-21/
LOCATION:Church sanctuary\, Parish Hall\, 1704 NE 43rd Ave\, Portland\, OR\, 97213\, United States
CATEGORIES:Parish Life,Worship regular
GEO:37.09024;-95.712891
X-APPLE-STRUCTURED-LOCATION;VALUE=URI;X-ADDRESS=Church sanctuary Parish Hall 1704 NE 43rd Ave Portland OR 97213 United States;X-APPLE-RADIUS=500;X-TITLE=1704 NE 43rd Ave:geo:-95.712891,37.09024
END:VEVENT
BEGIN:VEVENT
DTSTART;TZID=America/Los_Angeles:20240121T073000
DTEND;TZID=America/Los_Angeles:20240121T120000
DTSTAMP:20260424T084430
CREATED:20230922T175809Z
LAST-MODIFIED:20240307T201905Z
UID:10011316-1705822200-1705838400@stmaa.org
SUMMARY:Sunday morning worship in English at 7:30\, 9:00 & 11:00 am
DESCRIPTION:
URL:https://stmaa.org/event/sunday-morning-worship-in-english-at-730-900-1100-am-2/2024-01-21/
LOCATION:Church sanctuary\, 1704 NE 43rd Ave\, Portland\, OR\, 97213\, United States
CATEGORIES:Worship regular
GEO:37.09024;-95.712891
X-APPLE-STRUCTURED-LOCATION;VALUE=URI;X-ADDRESS=Church sanctuary 1704 NE 43rd Ave Portland OR 97213 United States;X-APPLE-RADIUS=500;X-TITLE=1704 NE 43rd Ave:geo:-95.712891,37.09024
END:VEVENT
BEGIN:VEVENT
DTSTART;TZID=America/Los_Angeles:20240120T090000
DTEND;TZID=America/Los_Angeles:20240120T103000
DTSTAMP:20260424T084430
CREATED:20230107T205603Z
LAST-MODIFIED:20240201T200942Z
UID:10012598-1705741200-1705746600@stmaa.org
SUMMARY:Altar Guild
DESCRIPTION:
URL:https://stmaa.org/event/altar-guild-3/2024-01-20/
LOCATION:Sacristy\, sanctuary\, 1704 NE 43rd Ave\, Portland\, OR\, 97213\, United States
CATEGORIES:Administration,Worship regular
END:VEVENT
BEGIN:VEVENT
DTSTART;TZID=America/Los_Angeles:20240117T181500
DTEND;TZID=America/Los_Angeles:20240117T183000
DTSTAMP:20260424T084430
CREATED:20230922T181743Z
LAST-MODIFIED:20240307T193112Z
UID:10011356-1705515300-1705516200@stmaa.org
SUMMARY:Evening Prayer
DESCRIPTION:
URL:https://stmaa.org/event/evening-prayer-7/2024-01-17/
LOCATION:Church sanctuary\, 1704 NE 43rd Ave\, Portland\, OR\, 97213\, United States
CATEGORIES:Worship regular
GEO:37.09024;-95.712891
X-APPLE-STRUCTURED-LOCATION;VALUE=URI;X-ADDRESS=Church sanctuary 1704 NE 43rd Ave Portland OR 97213 United States;X-APPLE-RADIUS=500;X-TITLE=1704 NE 43rd Ave:geo:-95.712891,37.09024
END:VEVENT
BEGIN:VEVENT
DTSTART;TZID=America/Los_Angeles:20240114T130000
DTEND;TZID=America/Los_Angeles:20240114T150000
DTSTAMP:20260424T084430
CREATED:20230922T174809Z
LAST-MODIFIED:20240201T201931Z
UID:10012809-1705237200-1705244400@stmaa.org
SUMMARY:La Misa - worship service in Spanish + convivio
DESCRIPTION:
URL:https://stmaa.org/event/la-misa-worship-service-in-spanish-convivio/2024-01-14/
LOCATION:Church sanctuary\, Parish Hall\, 1704 NE 43rd Ave\, Portland\, OR\, 97213\, United States
CATEGORIES:Parish Life,Worship regular
GEO:37.09024;-95.712891
X-APPLE-STRUCTURED-LOCATION;VALUE=URI;X-ADDRESS=Church sanctuary Parish Hall 1704 NE 43rd Ave Portland OR 97213 United States;X-APPLE-RADIUS=500;X-TITLE=1704 NE 43rd Ave:geo:-95.712891,37.09024
END:VEVENT
BEGIN:VEVENT
DTSTART;TZID=America/Los_Angeles:20240114T073000
DTEND;TZID=America/Los_Angeles:20240114T120000
DTSTAMP:20260424T084430
CREATED:20230922T175809Z
LAST-MODIFIED:20240307T201905Z
UID:10011315-1705217400-1705233600@stmaa.org
SUMMARY:Sunday morning worship in English at 7:30\, 9:00 & 11:00 am
DESCRIPTION:
URL:https://stmaa.org/event/sunday-morning-worship-in-english-at-730-900-1100-am-2/2024-01-14/
LOCATION:Church sanctuary\, 1704 NE 43rd Ave\, Portland\, OR\, 97213\, United States
CATEGORIES:Worship regular
GEO:37.09024;-95.712891
X-APPLE-STRUCTURED-LOCATION;VALUE=URI;X-ADDRESS=Church sanctuary 1704 NE 43rd Ave Portland OR 97213 United States;X-APPLE-RADIUS=500;X-TITLE=1704 NE 43rd Ave:geo:-95.712891,37.09024
END:VEVENT
BEGIN:VEVENT
DTSTART;TZID=America/Los_Angeles:20240113T090000
DTEND;TZID=America/Los_Angeles:20240113T103000
DTSTAMP:20260424T084430
CREATED:20230107T205603Z
LAST-MODIFIED:20240201T200942Z
UID:10012597-1705136400-1705141800@stmaa.org
SUMMARY:Altar Guild
DESCRIPTION:
URL:https://stmaa.org/event/altar-guild-3/2024-01-13/
LOCATION:Sacristy\, sanctuary\, 1704 NE 43rd Ave\, Portland\, OR\, 97213\, United States
CATEGORIES:Administration,Worship regular
END:VEVENT
BEGIN:VEVENT
DTSTART;TZID=America/Los_Angeles:20240110T181500
DTEND;TZID=America/Los_Angeles:20240110T183000
DTSTAMP:20260424T084430
CREATED:20230922T181743Z
LAST-MODIFIED:20240307T193112Z
UID:10011355-1704910500-1704911400@stmaa.org
SUMMARY:Evening Prayer
DESCRIPTION:
URL:https://stmaa.org/event/evening-prayer-7/2024-01-10/
LOCATION:Church sanctuary\, 1704 NE 43rd Ave\, Portland\, OR\, 97213\, United States
CATEGORIES:Worship regular
GEO:37.09024;-95.712891
X-APPLE-STRUCTURED-LOCATION;VALUE=URI;X-ADDRESS=Church sanctuary 1704 NE 43rd Ave Portland OR 97213 United States;X-APPLE-RADIUS=500;X-TITLE=1704 NE 43rd Ave:geo:-95.712891,37.09024
END:VEVENT
BEGIN:VEVENT
DTSTART;TZID=America/Los_Angeles:20240107T130000
DTEND;TZID=America/Los_Angeles:20240107T150000
DTSTAMP:20260424T084430
CREATED:20230922T174809Z
LAST-MODIFIED:20240201T201931Z
UID:10012808-1704632400-1704639600@stmaa.org
SUMMARY:La Misa - worship service in Spanish + convivio
DESCRIPTION:
URL:https://stmaa.org/event/la-misa-worship-service-in-spanish-convivio/2024-01-07/
LOCATION:Church sanctuary\, Parish Hall\, 1704 NE 43rd Ave\, Portland\, OR\, 97213\, United States
CATEGORIES:Parish Life,Worship regular
GEO:37.09024;-95.712891
X-APPLE-STRUCTURED-LOCATION;VALUE=URI;X-ADDRESS=Church sanctuary Parish Hall 1704 NE 43rd Ave Portland OR 97213 United States;X-APPLE-RADIUS=500;X-TITLE=1704 NE 43rd Ave:geo:-95.712891,37.09024
END:VEVENT
BEGIN:VEVENT
DTSTART;TZID=America/Los_Angeles:20240107T073000
DTEND;TZID=America/Los_Angeles:20240107T120000
DTSTAMP:20260424T084430
CREATED:20230922T175809Z
LAST-MODIFIED:20240307T201905Z
UID:10011314-1704612600-1704628800@stmaa.org
SUMMARY:Sunday morning worship in English at 7:30\, 9:00 & 11:00 am
DESCRIPTION:
URL:https://stmaa.org/event/sunday-morning-worship-in-english-at-730-900-1100-am-2/2024-01-07/
LOCATION:Church sanctuary\, 1704 NE 43rd Ave\, Portland\, OR\, 97213\, United States
CATEGORIES:Worship regular
GEO:37.09024;-95.712891
X-APPLE-STRUCTURED-LOCATION;VALUE=URI;X-ADDRESS=Church sanctuary 1704 NE 43rd Ave Portland OR 97213 United States;X-APPLE-RADIUS=500;X-TITLE=1704 NE 43rd Ave:geo:-95.712891,37.09024
END:VEVENT
BEGIN:VEVENT
DTSTART;TZID=America/Los_Angeles:20240106T090000
DTEND;TZID=America/Los_Angeles:20240106T103000
DTSTAMP:20260424T084430
CREATED:20230107T205603Z
LAST-MODIFIED:20240201T200942Z
UID:10012596-1704531600-1704537000@stmaa.org
SUMMARY:Altar Guild
DESCRIPTION:
URL:https://stmaa.org/event/altar-guild-3/2024-01-06/
LOCATION:Sacristy\, sanctuary\, 1704 NE 43rd Ave\, Portland\, OR\, 97213\, United States
CATEGORIES:Administration,Worship regular
END:VEVENT
BEGIN:VEVENT
DTSTART;TZID=America/Los_Angeles:20240103T181500
DTEND;TZID=America/Los_Angeles:20240103T183000
DTSTAMP:20260424T084430
CREATED:20230922T181743Z
LAST-MODIFIED:20240307T193112Z
UID:10011354-1704305700-1704306600@stmaa.org
SUMMARY:Evening Prayer
DESCRIPTION:
URL:https://stmaa.org/event/evening-prayer-7/2024-01-03/
LOCATION:Church sanctuary\, 1704 NE 43rd Ave\, Portland\, OR\, 97213\, United States
CATEGORIES:Worship regular
GEO:37.09024;-95.712891
X-APPLE-STRUCTURED-LOCATION;VALUE=URI;X-ADDRESS=Church sanctuary 1704 NE 43rd Ave Portland OR 97213 United States;X-APPLE-RADIUS=500;X-TITLE=1704 NE 43rd Ave:geo:-95.712891,37.09024
END:VEVENT
BEGIN:VEVENT
DTSTART;TZID=America/Los_Angeles:20231231T130000
DTEND;TZID=America/Los_Angeles:20231231T150000
DTSTAMP:20260424T084430
CREATED:20230922T174809Z
LAST-MODIFIED:20240201T201931Z
UID:10012807-1704027600-1704034800@stmaa.org
SUMMARY:La Misa - worship service in Spanish + convivio
DESCRIPTION:
URL:https://stmaa.org/event/la-misa-worship-service-in-spanish-convivio/2023-12-31/
LOCATION:Church sanctuary\, Parish Hall\, 1704 NE 43rd Ave\, Portland\, OR\, 97213\, United States
CATEGORIES:Parish Life,Worship regular
GEO:37.09024;-95.712891
X-APPLE-STRUCTURED-LOCATION;VALUE=URI;X-ADDRESS=Church sanctuary Parish Hall 1704 NE 43rd Ave Portland OR 97213 United States;X-APPLE-RADIUS=500;X-TITLE=1704 NE 43rd Ave:geo:-95.712891,37.09024
END:VEVENT
BEGIN:VEVENT
DTSTART;TZID=America/Los_Angeles:20231231T073000
DTEND;TZID=America/Los_Angeles:20231231T140000
DTSTAMP:20260424T084430
CREATED:20231208T231857Z
LAST-MODIFIED:20231208T231857Z
UID:10011818-1704007800-1704031200@stmaa.org
SUMMARY:First Sunday after Christmas/New Year's Eve services
DESCRIPTION:Services at: \n7:30 am – Rite I \n10:00 am – Holy Eucharist with congregational singing \n1:00 pm – La Misa en español
URL:https://stmaa.org/event/first-sunday-after-christmas-new-years-eve-services/
LOCATION:Church sanctuary\, 1704 NE 43rd Ave\, Portland\, OR\, 97213\, United States
CATEGORIES:Worship regular
GEO:37.09024;-95.712891
X-APPLE-STRUCTURED-LOCATION;VALUE=URI;X-ADDRESS=Church sanctuary 1704 NE 43rd Ave Portland OR 97213 United States;X-APPLE-RADIUS=500;X-TITLE=1704 NE 43rd Ave:geo:-95.712891,37.09024
END:VEVENT
BEGIN:VEVENT
DTSTART;TZID=America/Los_Angeles:20231230T090000
DTEND;TZID=America/Los_Angeles:20231230T103000
DTSTAMP:20260424T084430
CREATED:20230107T205603Z
LAST-MODIFIED:20240201T200942Z
UID:10010644-1703926800-1703932200@stmaa.org
SUMMARY:Altar Guild
DESCRIPTION:
URL:https://stmaa.org/event/altar-guild-3/2023-12-30/
LOCATION:Sacristy\, sanctuary\, 1704 NE 43rd Ave\, Portland\, OR\, 97213\, United States
CATEGORIES:Administration,Worship regular
END:VEVENT
BEGIN:VEVENT
DTSTART;TZID=America/Los_Angeles:20231227T181500
DTEND;TZID=America/Los_Angeles:20231227T183000
DTSTAMP:20260424T084430
CREATED:20230922T181743Z
LAST-MODIFIED:20240307T193112Z
UID:10011353-1703700900-1703701800@stmaa.org
SUMMARY:Evening Prayer
DESCRIPTION:
URL:https://stmaa.org/event/evening-prayer-7/2023-12-27/
LOCATION:Church sanctuary\, 1704 NE 43rd Ave\, Portland\, OR\, 97213\, United States
CATEGORIES:Worship regular
GEO:37.09024;-95.712891
X-APPLE-STRUCTURED-LOCATION;VALUE=URI;X-ADDRESS=Church sanctuary 1704 NE 43rd Ave Portland OR 97213 United States;X-APPLE-RADIUS=500;X-TITLE=1704 NE 43rd Ave:geo:-95.712891,37.09024
END:VEVENT
BEGIN:VEVENT
DTSTART;TZID=America/Los_Angeles:20231224T130000
DTEND;TZID=America/Los_Angeles:20231224T150000
DTSTAMP:20260424T084430
CREATED:20230922T174809Z
LAST-MODIFIED:20240201T201931Z
UID:10012806-1703422800-1703430000@stmaa.org
SUMMARY:La Misa - worship service in Spanish + convivio
DESCRIPTION:
URL:https://stmaa.org/event/la-misa-worship-service-in-spanish-convivio/2023-12-24/
LOCATION:Church sanctuary\, Parish Hall\, 1704 NE 43rd Ave\, Portland\, OR\, 97213\, United States
CATEGORIES:Parish Life,Worship regular
GEO:37.09024;-95.712891
X-APPLE-STRUCTURED-LOCATION;VALUE=URI;X-ADDRESS=Church sanctuary Parish Hall 1704 NE 43rd Ave Portland OR 97213 United States;X-APPLE-RADIUS=500;X-TITLE=1704 NE 43rd Ave:geo:-95.712891,37.09024
END:VEVENT
BEGIN:VEVENT
DTSTART;TZID=America/Los_Angeles:20231223T090000
DTEND;TZID=America/Los_Angeles:20231223T103000
DTSTAMP:20260424T084430
CREATED:20230107T205603Z
LAST-MODIFIED:20240201T200942Z
UID:10010643-1703322000-1703327400@stmaa.org
SUMMARY:Altar Guild
DESCRIPTION:
URL:https://stmaa.org/event/altar-guild-3/2023-12-23/
LOCATION:Sacristy\, sanctuary\, 1704 NE 43rd Ave\, Portland\, OR\, 97213\, United States
CATEGORIES:Administration,Worship regular
END:VEVENT
BEGIN:VEVENT
DTSTART;TZID=America/Los_Angeles:20231220T181500
DTEND;TZID=America/Los_Angeles:20231220T183000
DTSTAMP:20260424T084430
CREATED:20230922T181743Z
LAST-MODIFIED:20240307T193112Z
UID:10011352-1703096100-1703097000@stmaa.org
SUMMARY:Evening Prayer
DESCRIPTION:
URL:https://stmaa.org/event/evening-prayer-7/2023-12-20/
LOCATION:Church sanctuary\, 1704 NE 43rd Ave\, Portland\, OR\, 97213\, United States
CATEGORIES:Worship regular
GEO:37.09024;-95.712891
X-APPLE-STRUCTURED-LOCATION;VALUE=URI;X-ADDRESS=Church sanctuary 1704 NE 43rd Ave Portland OR 97213 United States;X-APPLE-RADIUS=500;X-TITLE=1704 NE 43rd Ave:geo:-95.712891,37.09024
END:VEVENT
BEGIN:VEVENT
DTSTART;TZID=America/Los_Angeles:20231217T130000
DTEND;TZID=America/Los_Angeles:20231217T150000
DTSTAMP:20260424T084430
CREATED:20230922T174809Z
LAST-MODIFIED:20240201T201931Z
UID:10011297-1702818000-1702825200@stmaa.org
SUMMARY:La Misa - worship service in Spanish + convivio
DESCRIPTION:
URL:https://stmaa.org/event/la-misa-worship-service-in-spanish-convivio/2023-12-17/
LOCATION:Church sanctuary\, Parish Hall\, 1704 NE 43rd Ave\, Portland\, OR\, 97213\, United States
CATEGORIES:Parish Life,Worship regular
GEO:37.09024;-95.712891
X-APPLE-STRUCTURED-LOCATION;VALUE=URI;X-ADDRESS=Church sanctuary Parish Hall 1704 NE 43rd Ave Portland OR 97213 United States;X-APPLE-RADIUS=500;X-TITLE=1704 NE 43rd Ave:geo:-95.712891,37.09024
END:VEVENT
END:VCALENDAR