BEGIN:VCALENDAR
VERSION:2.0
PRODID:-//St. Michael &amp; All Angels Episcopal Church - ECPv6.15.18//NONSGML v1.0//EN
CALSCALE:GREGORIAN
METHOD:PUBLISH
X-WR-CALNAME:St. Michael &amp; All Angels Episcopal Church
X-ORIGINAL-URL:https://stmaa.org
X-WR-CALDESC:Events for St. Michael &amp; All Angels Episcopal Church
REFRESH-INTERVAL;VALUE=DURATION:PT1H
X-Robots-Tag:noindex
X-PUBLISHED-TTL:PT1H
BEGIN:VTIMEZONE
TZID:America/Los_Angeles
BEGIN:DAYLIGHT
TZOFFSETFROM:-0800
TZOFFSETTO:-0700
TZNAME:PDT
DTSTART:20230312T100000
END:DAYLIGHT
BEGIN:STANDARD
TZOFFSETFROM:-0700
TZOFFSETTO:-0800
TZNAME:PST
DTSTART:20231105T090000
END:STANDARD
BEGIN:DAYLIGHT
TZOFFSETFROM:-0800
TZOFFSETTO:-0700
TZNAME:PDT
DTSTART:20240310T100000
END:DAYLIGHT
BEGIN:STANDARD
TZOFFSETFROM:-0700
TZOFFSETTO:-0800
TZNAME:PST
DTSTART:20241103T090000
END:STANDARD
BEGIN:DAYLIGHT
TZOFFSETFROM:-0800
TZOFFSETTO:-0700
TZNAME:PDT
DTSTART:20250309T100000
END:DAYLIGHT
BEGIN:STANDARD
TZOFFSETFROM:-0700
TZOFFSETTO:-0800
TZNAME:PST
DTSTART:20251102T090000
END:STANDARD
END:VTIMEZONE
BEGIN:VEVENT
DTSTART;TZID=America/Los_Angeles:20240630T080000
DTEND;TZID=America/Los_Angeles:20240630T110000
DTSTAMP:20260419T144811
CREATED:20240605T234632Z
LAST-MODIFIED:20240605T234632Z
UID:10013761-1719734400-1719745200@stmaa.org
SUMMARY:Sunday Worship in English (summer schedule\, services at 8:00 & 10:00 am)
DESCRIPTION:
URL:https://stmaa.org/event/sunday-worship-in-english-summer-schedule-services-at-800-1000-am/2024-06-30/
LOCATION:Church sanctuary\, 1704 NE 43rd Ave\, Portland\, OR\, 97213\, United States
CATEGORIES:Worship regular
GEO:37.09024;-95.712891
X-APPLE-STRUCTURED-LOCATION;VALUE=URI;X-ADDRESS=Church sanctuary 1704 NE 43rd Ave Portland OR 97213 United States;X-APPLE-RADIUS=500;X-TITLE=1704 NE 43rd Ave:geo:-95.712891,37.09024
END:VEVENT
BEGIN:VEVENT
DTSTART;TZID=America/Los_Angeles:20240629T090000
DTEND;TZID=America/Los_Angeles:20240629T103000
DTSTAMP:20260419T144811
CREATED:20230107T205603Z
LAST-MODIFIED:20240201T200942Z
UID:10012621-1719651600-1719657000@stmaa.org
SUMMARY:Altar Guild
DESCRIPTION:
URL:https://stmaa.org/event/altar-guild-3/2024-06-29/
LOCATION:Sacristy\, sanctuary\, 1704 NE 43rd Ave\, Portland\, OR\, 97213\, United States
CATEGORIES:Administration,Worship regular
END:VEVENT
BEGIN:VEVENT
DTSTART;TZID=America/Los_Angeles:20240626T181500
DTEND;TZID=America/Los_Angeles:20240626T183000
DTSTAMP:20260419T144811
CREATED:20230922T181743Z
LAST-MODIFIED:20240307T193112Z
UID:10011379-1719425700-1719426600@stmaa.org
SUMMARY:Evening Prayer
DESCRIPTION:
URL:https://stmaa.org/event/evening-prayer-7/2024-06-26/
LOCATION:Church sanctuary\, 1704 NE 43rd Ave\, Portland\, OR\, 97213\, United States
CATEGORIES:Worship regular
GEO:37.09024;-95.712891
X-APPLE-STRUCTURED-LOCATION;VALUE=URI;X-ADDRESS=Church sanctuary 1704 NE 43rd Ave Portland OR 97213 United States;X-APPLE-RADIUS=500;X-TITLE=1704 NE 43rd Ave:geo:-95.712891,37.09024
END:VEVENT
BEGIN:VEVENT
DTSTART;TZID=America/Los_Angeles:20240623T130000
DTEND;TZID=America/Los_Angeles:20240623T150000
DTSTAMP:20260419T144811
CREATED:20230922T174809Z
LAST-MODIFIED:20240201T201931Z
UID:10012832-1719147600-1719154800@stmaa.org
SUMMARY:La Misa - worship service in Spanish + convivio
DESCRIPTION:
URL:https://stmaa.org/event/la-misa-worship-service-in-spanish-convivio/2024-06-23/
LOCATION:Church sanctuary\, Parish Hall\, 1704 NE 43rd Ave\, Portland\, OR\, 97213\, United States
CATEGORIES:Parish Life,Worship regular
GEO:37.09024;-95.712891
X-APPLE-STRUCTURED-LOCATION;VALUE=URI;X-ADDRESS=Church sanctuary Parish Hall 1704 NE 43rd Ave Portland OR 97213 United States;X-APPLE-RADIUS=500;X-TITLE=1704 NE 43rd Ave:geo:-95.712891,37.09024
END:VEVENT
BEGIN:VEVENT
DTSTART;TZID=America/Los_Angeles:20240623T073000
DTEND;TZID=America/Los_Angeles:20240623T120000
DTSTAMP:20260419T144811
CREATED:20240605T231354Z
LAST-MODIFIED:20240605T231354Z
UID:10013756-1719127800-1719144000@stmaa.org
SUMMARY:Sunday Morning Worship at 7:30\, 9:00 & 11:00 am
DESCRIPTION:
URL:https://stmaa.org/event/sunday-morning-worship-at-730-900-1100-am/2024-06-23/
LOCATION:Church sanctuary\, 1704 NE 43rd Ave\, Portland\, OR\, 97213\, United States
CATEGORIES:Worship regular
GEO:37.09024;-95.712891
X-APPLE-STRUCTURED-LOCATION;VALUE=URI;X-ADDRESS=Church sanctuary 1704 NE 43rd Ave Portland OR 97213 United States;X-APPLE-RADIUS=500;X-TITLE=1704 NE 43rd Ave:geo:-95.712891,37.09024
END:VEVENT
BEGIN:VEVENT
DTSTART;TZID=America/Los_Angeles:20240622T090000
DTEND;TZID=America/Los_Angeles:20240622T103000
DTSTAMP:20260419T144811
CREATED:20230107T205603Z
LAST-MODIFIED:20240201T200942Z
UID:10012620-1719046800-1719052200@stmaa.org
SUMMARY:Altar Guild
DESCRIPTION:
URL:https://stmaa.org/event/altar-guild-3/2024-06-22/
LOCATION:Sacristy\, sanctuary\, 1704 NE 43rd Ave\, Portland\, OR\, 97213\, United States
CATEGORIES:Administration,Worship regular
END:VEVENT
BEGIN:VEVENT
DTSTART;TZID=America/Los_Angeles:20240619T181500
DTEND;TZID=America/Los_Angeles:20240619T183000
DTSTAMP:20260419T144811
CREATED:20230922T181743Z
LAST-MODIFIED:20240307T193112Z
UID:10011378-1718820900-1718821800@stmaa.org
SUMMARY:Evening Prayer
DESCRIPTION:
URL:https://stmaa.org/event/evening-prayer-7/2024-06-19/
LOCATION:Church sanctuary\, 1704 NE 43rd Ave\, Portland\, OR\, 97213\, United States
CATEGORIES:Worship regular
GEO:37.09024;-95.712891
X-APPLE-STRUCTURED-LOCATION;VALUE=URI;X-ADDRESS=Church sanctuary 1704 NE 43rd Ave Portland OR 97213 United States;X-APPLE-RADIUS=500;X-TITLE=1704 NE 43rd Ave:geo:-95.712891,37.09024
END:VEVENT
BEGIN:VEVENT
DTSTART;TZID=America/Los_Angeles:20240616T130000
DTEND;TZID=America/Los_Angeles:20240616T150000
DTSTAMP:20260419T144811
CREATED:20230922T174809Z
LAST-MODIFIED:20240201T201931Z
UID:10012831-1718542800-1718550000@stmaa.org
SUMMARY:La Misa - worship service in Spanish + convivio
DESCRIPTION:
URL:https://stmaa.org/event/la-misa-worship-service-in-spanish-convivio/2024-06-16/
LOCATION:Church sanctuary\, Parish Hall\, 1704 NE 43rd Ave\, Portland\, OR\, 97213\, United States
CATEGORIES:Parish Life,Worship regular
GEO:37.09024;-95.712891
X-APPLE-STRUCTURED-LOCATION;VALUE=URI;X-ADDRESS=Church sanctuary Parish Hall 1704 NE 43rd Ave Portland OR 97213 United States;X-APPLE-RADIUS=500;X-TITLE=1704 NE 43rd Ave:geo:-95.712891,37.09024
END:VEVENT
BEGIN:VEVENT
DTSTART;TZID=America/Los_Angeles:20240616T073000
DTEND;TZID=America/Los_Angeles:20240616T120000
DTSTAMP:20260419T144811
CREATED:20240605T231354Z
LAST-MODIFIED:20240605T231354Z
UID:10013755-1718523000-1718539200@stmaa.org
SUMMARY:Sunday Morning Worship at 7:30\, 9:00 & 11:00 am
DESCRIPTION:
URL:https://stmaa.org/event/sunday-morning-worship-at-730-900-1100-am/2024-06-16/
LOCATION:Church sanctuary\, 1704 NE 43rd Ave\, Portland\, OR\, 97213\, United States
CATEGORIES:Worship regular
GEO:37.09024;-95.712891
X-APPLE-STRUCTURED-LOCATION;VALUE=URI;X-ADDRESS=Church sanctuary 1704 NE 43rd Ave Portland OR 97213 United States;X-APPLE-RADIUS=500;X-TITLE=1704 NE 43rd Ave:geo:-95.712891,37.09024
END:VEVENT
BEGIN:VEVENT
DTSTART;TZID=America/Los_Angeles:20240615T090000
DTEND;TZID=America/Los_Angeles:20240615T103000
DTSTAMP:20260419T144811
CREATED:20230107T205603Z
LAST-MODIFIED:20240201T200942Z
UID:10012619-1718442000-1718447400@stmaa.org
SUMMARY:Altar Guild
DESCRIPTION:
URL:https://stmaa.org/event/altar-guild-3/2024-06-15/
LOCATION:Sacristy\, sanctuary\, 1704 NE 43rd Ave\, Portland\, OR\, 97213\, United States
CATEGORIES:Administration,Worship regular
END:VEVENT
BEGIN:VEVENT
DTSTART;TZID=America/Los_Angeles:20240612T181500
DTEND;TZID=America/Los_Angeles:20240612T183000
DTSTAMP:20260419T144811
CREATED:20230922T181743Z
LAST-MODIFIED:20240307T193112Z
UID:10011377-1718216100-1718217000@stmaa.org
SUMMARY:Evening Prayer
DESCRIPTION:
URL:https://stmaa.org/event/evening-prayer-7/2024-06-12/
LOCATION:Church sanctuary\, 1704 NE 43rd Ave\, Portland\, OR\, 97213\, United States
CATEGORIES:Worship regular
GEO:37.09024;-95.712891
X-APPLE-STRUCTURED-LOCATION;VALUE=URI;X-ADDRESS=Church sanctuary 1704 NE 43rd Ave Portland OR 97213 United States;X-APPLE-RADIUS=500;X-TITLE=1704 NE 43rd Ave:geo:-95.712891,37.09024
END:VEVENT
BEGIN:VEVENT
DTSTART;TZID=America/Los_Angeles:20240609T130000
DTEND;TZID=America/Los_Angeles:20240609T150000
DTSTAMP:20260419T144811
CREATED:20230922T174809Z
LAST-MODIFIED:20240201T201931Z
UID:10012830-1717938000-1717945200@stmaa.org
SUMMARY:La Misa - worship service in Spanish + convivio
DESCRIPTION:
URL:https://stmaa.org/event/la-misa-worship-service-in-spanish-convivio/2024-06-09/
LOCATION:Church sanctuary\, Parish Hall\, 1704 NE 43rd Ave\, Portland\, OR\, 97213\, United States
CATEGORIES:Parish Life,Worship regular
GEO:37.09024;-95.712891
X-APPLE-STRUCTURED-LOCATION;VALUE=URI;X-ADDRESS=Church sanctuary Parish Hall 1704 NE 43rd Ave Portland OR 97213 United States;X-APPLE-RADIUS=500;X-TITLE=1704 NE 43rd Ave:geo:-95.712891,37.09024
END:VEVENT
BEGIN:VEVENT
DTSTART;TZID=America/Los_Angeles:20240609T073000
DTEND;TZID=America/Los_Angeles:20240609T120000
DTSTAMP:20260419T144811
CREATED:20230922T175809Z
LAST-MODIFIED:20240307T201905Z
UID:10011336-1717918200-1717934400@stmaa.org
SUMMARY:Sunday morning worship in English at 7:30\, 9:00 & 11:00 am
DESCRIPTION:
URL:https://stmaa.org/event/sunday-morning-worship-in-english-at-730-900-1100-am-2/2024-06-09/
LOCATION:Church sanctuary\, 1704 NE 43rd Ave\, Portland\, OR\, 97213\, United States
CATEGORIES:Worship regular
GEO:37.09024;-95.712891
X-APPLE-STRUCTURED-LOCATION;VALUE=URI;X-ADDRESS=Church sanctuary 1704 NE 43rd Ave Portland OR 97213 United States;X-APPLE-RADIUS=500;X-TITLE=1704 NE 43rd Ave:geo:-95.712891,37.09024
END:VEVENT
BEGIN:VEVENT
DTSTART;TZID=America/Los_Angeles:20240608T090000
DTEND;TZID=America/Los_Angeles:20240608T103000
DTSTAMP:20260419T144811
CREATED:20230107T205603Z
LAST-MODIFIED:20240201T200942Z
UID:10012618-1717837200-1717842600@stmaa.org
SUMMARY:Altar Guild
DESCRIPTION:
URL:https://stmaa.org/event/altar-guild-3/2024-06-08/
LOCATION:Sacristy\, sanctuary\, 1704 NE 43rd Ave\, Portland\, OR\, 97213\, United States
CATEGORIES:Administration,Worship regular
END:VEVENT
BEGIN:VEVENT
DTSTART;TZID=America/Los_Angeles:20240605T181500
DTEND;TZID=America/Los_Angeles:20240605T183000
DTSTAMP:20260419T144811
CREATED:20230922T181743Z
LAST-MODIFIED:20240307T193112Z
UID:10011376-1717611300-1717612200@stmaa.org
SUMMARY:Evening Prayer
DESCRIPTION:
URL:https://stmaa.org/event/evening-prayer-7/2024-06-05/
LOCATION:Church sanctuary\, 1704 NE 43rd Ave\, Portland\, OR\, 97213\, United States
CATEGORIES:Worship regular
GEO:37.09024;-95.712891
X-APPLE-STRUCTURED-LOCATION;VALUE=URI;X-ADDRESS=Church sanctuary 1704 NE 43rd Ave Portland OR 97213 United States;X-APPLE-RADIUS=500;X-TITLE=1704 NE 43rd Ave:geo:-95.712891,37.09024
END:VEVENT
BEGIN:VEVENT
DTSTART;TZID=America/Los_Angeles:20240602T130000
DTEND;TZID=America/Los_Angeles:20240602T150000
DTSTAMP:20260419T144811
CREATED:20230922T174809Z
LAST-MODIFIED:20240201T201931Z
UID:10012829-1717333200-1717340400@stmaa.org
SUMMARY:La Misa - worship service in Spanish + convivio
DESCRIPTION:
URL:https://stmaa.org/event/la-misa-worship-service-in-spanish-convivio/2024-06-02/
LOCATION:Church sanctuary\, Parish Hall\, 1704 NE 43rd Ave\, Portland\, OR\, 97213\, United States
CATEGORIES:Parish Life,Worship regular
GEO:37.09024;-95.712891
X-APPLE-STRUCTURED-LOCATION;VALUE=URI;X-ADDRESS=Church sanctuary Parish Hall 1704 NE 43rd Ave Portland OR 97213 United States;X-APPLE-RADIUS=500;X-TITLE=1704 NE 43rd Ave:geo:-95.712891,37.09024
END:VEVENT
BEGIN:VEVENT
DTSTART;TZID=America/Los_Angeles:20240602T073000
DTEND;TZID=America/Los_Angeles:20240602T120000
DTSTAMP:20260419T144811
CREATED:20230922T175809Z
LAST-MODIFIED:20240307T201905Z
UID:10011335-1717313400-1717329600@stmaa.org
SUMMARY:Sunday morning worship in English at 7:30\, 9:00 & 11:00 am
DESCRIPTION:
URL:https://stmaa.org/event/sunday-morning-worship-in-english-at-730-900-1100-am-2/2024-06-02/
LOCATION:Church sanctuary\, 1704 NE 43rd Ave\, Portland\, OR\, 97213\, United States
CATEGORIES:Worship regular
GEO:37.09024;-95.712891
X-APPLE-STRUCTURED-LOCATION;VALUE=URI;X-ADDRESS=Church sanctuary 1704 NE 43rd Ave Portland OR 97213 United States;X-APPLE-RADIUS=500;X-TITLE=1704 NE 43rd Ave:geo:-95.712891,37.09024
END:VEVENT
BEGIN:VEVENT
DTSTART;TZID=America/Los_Angeles:20240601T090000
DTEND;TZID=America/Los_Angeles:20240601T103000
DTSTAMP:20260419T144811
CREATED:20230107T205603Z
LAST-MODIFIED:20240201T200942Z
UID:10012617-1717232400-1717237800@stmaa.org
SUMMARY:Altar Guild
DESCRIPTION:
URL:https://stmaa.org/event/altar-guild-3/2024-06-01/
LOCATION:Sacristy\, sanctuary\, 1704 NE 43rd Ave\, Portland\, OR\, 97213\, United States
CATEGORIES:Administration,Worship regular
END:VEVENT
BEGIN:VEVENT
DTSTART;TZID=America/Los_Angeles:20240529T181500
DTEND;TZID=America/Los_Angeles:20240529T183000
DTSTAMP:20260419T144811
CREATED:20230922T181743Z
LAST-MODIFIED:20240307T193112Z
UID:10011375-1717006500-1717007400@stmaa.org
SUMMARY:Evening Prayer
DESCRIPTION:
URL:https://stmaa.org/event/evening-prayer-7/2024-05-29/
LOCATION:Church sanctuary\, 1704 NE 43rd Ave\, Portland\, OR\, 97213\, United States
CATEGORIES:Worship regular
GEO:37.09024;-95.712891
X-APPLE-STRUCTURED-LOCATION;VALUE=URI;X-ADDRESS=Church sanctuary 1704 NE 43rd Ave Portland OR 97213 United States;X-APPLE-RADIUS=500;X-TITLE=1704 NE 43rd Ave:geo:-95.712891,37.09024
END:VEVENT
BEGIN:VEVENT
DTSTART;TZID=America/Los_Angeles:20240526T130000
DTEND;TZID=America/Los_Angeles:20240526T150000
DTSTAMP:20260419T144811
CREATED:20230922T174809Z
LAST-MODIFIED:20240201T201931Z
UID:10012828-1716728400-1716735600@stmaa.org
SUMMARY:La Misa - worship service in Spanish + convivio
DESCRIPTION:
URL:https://stmaa.org/event/la-misa-worship-service-in-spanish-convivio/2024-05-26/
LOCATION:Church sanctuary\, Parish Hall\, 1704 NE 43rd Ave\, Portland\, OR\, 97213\, United States
CATEGORIES:Parish Life,Worship regular
GEO:37.09024;-95.712891
X-APPLE-STRUCTURED-LOCATION;VALUE=URI;X-ADDRESS=Church sanctuary Parish Hall 1704 NE 43rd Ave Portland OR 97213 United States;X-APPLE-RADIUS=500;X-TITLE=1704 NE 43rd Ave:geo:-95.712891,37.09024
END:VEVENT
BEGIN:VEVENT
DTSTART;TZID=America/Los_Angeles:20240526T073000
DTEND;TZID=America/Los_Angeles:20240526T120000
DTSTAMP:20260419T144811
CREATED:20230922T175809Z
LAST-MODIFIED:20240307T201905Z
UID:10011334-1716708600-1716724800@stmaa.org
SUMMARY:Sunday morning worship in English at 7:30\, 9:00 & 11:00 am
DESCRIPTION:
URL:https://stmaa.org/event/sunday-morning-worship-in-english-at-730-900-1100-am-2/2024-05-26/
LOCATION:Church sanctuary\, 1704 NE 43rd Ave\, Portland\, OR\, 97213\, United States
CATEGORIES:Worship regular
GEO:37.09024;-95.712891
X-APPLE-STRUCTURED-LOCATION;VALUE=URI;X-ADDRESS=Church sanctuary 1704 NE 43rd Ave Portland OR 97213 United States;X-APPLE-RADIUS=500;X-TITLE=1704 NE 43rd Ave:geo:-95.712891,37.09024
END:VEVENT
BEGIN:VEVENT
DTSTART;TZID=America/Los_Angeles:20240525T090000
DTEND;TZID=America/Los_Angeles:20240525T103000
DTSTAMP:20260419T144811
CREATED:20230107T205603Z
LAST-MODIFIED:20240201T200942Z
UID:10012616-1716627600-1716633000@stmaa.org
SUMMARY:Altar Guild
DESCRIPTION:
URL:https://stmaa.org/event/altar-guild-3/2024-05-25/
LOCATION:Sacristy\, sanctuary\, 1704 NE 43rd Ave\, Portland\, OR\, 97213\, United States
CATEGORIES:Administration,Worship regular
END:VEVENT
BEGIN:VEVENT
DTSTART;TZID=America/Los_Angeles:20240522T181500
DTEND;TZID=America/Los_Angeles:20240522T183000
DTSTAMP:20260419T144811
CREATED:20230922T181743Z
LAST-MODIFIED:20240307T193112Z
UID:10011374-1716401700-1716402600@stmaa.org
SUMMARY:Evening Prayer
DESCRIPTION:
URL:https://stmaa.org/event/evening-prayer-7/2024-05-22/
LOCATION:Church sanctuary\, 1704 NE 43rd Ave\, Portland\, OR\, 97213\, United States
CATEGORIES:Worship regular
GEO:37.09024;-95.712891
X-APPLE-STRUCTURED-LOCATION;VALUE=URI;X-ADDRESS=Church sanctuary 1704 NE 43rd Ave Portland OR 97213 United States;X-APPLE-RADIUS=500;X-TITLE=1704 NE 43rd Ave:geo:-95.712891,37.09024
END:VEVENT
BEGIN:VEVENT
DTSTART;TZID=America/Los_Angeles:20240519T130000
DTEND;TZID=America/Los_Angeles:20240519T150000
DTSTAMP:20260419T144811
CREATED:20230922T174809Z
LAST-MODIFIED:20240201T201931Z
UID:10012827-1716123600-1716130800@stmaa.org
SUMMARY:La Misa - worship service in Spanish + convivio
DESCRIPTION:
URL:https://stmaa.org/event/la-misa-worship-service-in-spanish-convivio/2024-05-19/
LOCATION:Church sanctuary\, Parish Hall\, 1704 NE 43rd Ave\, Portland\, OR\, 97213\, United States
CATEGORIES:Parish Life,Worship regular
GEO:37.09024;-95.712891
X-APPLE-STRUCTURED-LOCATION;VALUE=URI;X-ADDRESS=Church sanctuary Parish Hall 1704 NE 43rd Ave Portland OR 97213 United States;X-APPLE-RADIUS=500;X-TITLE=1704 NE 43rd Ave:geo:-95.712891,37.09024
END:VEVENT
BEGIN:VEVENT
DTSTART;TZID=America/Los_Angeles:20240519T073000
DTEND;TZID=America/Los_Angeles:20240519T120000
DTSTAMP:20260419T144811
CREATED:20230922T175809Z
LAST-MODIFIED:20240307T201905Z
UID:10011333-1716103800-1716120000@stmaa.org
SUMMARY:Sunday morning worship in English at 7:30\, 9:00 & 11:00 am
DESCRIPTION:
URL:https://stmaa.org/event/sunday-morning-worship-in-english-at-730-900-1100-am-2/2024-05-19/
LOCATION:Church sanctuary\, 1704 NE 43rd Ave\, Portland\, OR\, 97213\, United States
CATEGORIES:Worship regular
GEO:37.09024;-95.712891
X-APPLE-STRUCTURED-LOCATION;VALUE=URI;X-ADDRESS=Church sanctuary 1704 NE 43rd Ave Portland OR 97213 United States;X-APPLE-RADIUS=500;X-TITLE=1704 NE 43rd Ave:geo:-95.712891,37.09024
END:VEVENT
BEGIN:VEVENT
DTSTART;TZID=America/Los_Angeles:20240518T090000
DTEND;TZID=America/Los_Angeles:20240518T103000
DTSTAMP:20260419T144811
CREATED:20230107T205603Z
LAST-MODIFIED:20240201T200942Z
UID:10012615-1716022800-1716028200@stmaa.org
SUMMARY:Altar Guild
DESCRIPTION:
URL:https://stmaa.org/event/altar-guild-3/2024-05-18/
LOCATION:Sacristy\, sanctuary\, 1704 NE 43rd Ave\, Portland\, OR\, 97213\, United States
CATEGORIES:Administration,Worship regular
END:VEVENT
BEGIN:VEVENT
DTSTART;TZID=America/Los_Angeles:20240515T181500
DTEND;TZID=America/Los_Angeles:20240515T183000
DTSTAMP:20260419T144811
CREATED:20230922T181743Z
LAST-MODIFIED:20240307T193112Z
UID:10011373-1715796900-1715797800@stmaa.org
SUMMARY:Evening Prayer
DESCRIPTION:
URL:https://stmaa.org/event/evening-prayer-7/2024-05-15/
LOCATION:Church sanctuary\, 1704 NE 43rd Ave\, Portland\, OR\, 97213\, United States
CATEGORIES:Worship regular
GEO:37.09024;-95.712891
X-APPLE-STRUCTURED-LOCATION;VALUE=URI;X-ADDRESS=Church sanctuary 1704 NE 43rd Ave Portland OR 97213 United States;X-APPLE-RADIUS=500;X-TITLE=1704 NE 43rd Ave:geo:-95.712891,37.09024
END:VEVENT
BEGIN:VEVENT
DTSTART;TZID=America/Los_Angeles:20240512T130000
DTEND;TZID=America/Los_Angeles:20240512T150000
DTSTAMP:20260419T144811
CREATED:20230922T174809Z
LAST-MODIFIED:20240201T201931Z
UID:10012826-1715518800-1715526000@stmaa.org
SUMMARY:La Misa - worship service in Spanish + convivio
DESCRIPTION:
URL:https://stmaa.org/event/la-misa-worship-service-in-spanish-convivio/2024-05-12/
LOCATION:Church sanctuary\, Parish Hall\, 1704 NE 43rd Ave\, Portland\, OR\, 97213\, United States
CATEGORIES:Parish Life,Worship regular
GEO:37.09024;-95.712891
X-APPLE-STRUCTURED-LOCATION;VALUE=URI;X-ADDRESS=Church sanctuary Parish Hall 1704 NE 43rd Ave Portland OR 97213 United States;X-APPLE-RADIUS=500;X-TITLE=1704 NE 43rd Ave:geo:-95.712891,37.09024
END:VEVENT
BEGIN:VEVENT
DTSTART;TZID=America/Los_Angeles:20240512T073000
DTEND;TZID=America/Los_Angeles:20240512T120000
DTSTAMP:20260419T144811
CREATED:20230922T175809Z
LAST-MODIFIED:20240307T201905Z
UID:10011332-1715499000-1715515200@stmaa.org
SUMMARY:Sunday morning worship in English at 7:30\, 9:00 & 11:00 am
DESCRIPTION:
URL:https://stmaa.org/event/sunday-morning-worship-in-english-at-730-900-1100-am-2/2024-05-12/
LOCATION:Church sanctuary\, 1704 NE 43rd Ave\, Portland\, OR\, 97213\, United States
CATEGORIES:Worship regular
GEO:37.09024;-95.712891
X-APPLE-STRUCTURED-LOCATION;VALUE=URI;X-ADDRESS=Church sanctuary 1704 NE 43rd Ave Portland OR 97213 United States;X-APPLE-RADIUS=500;X-TITLE=1704 NE 43rd Ave:geo:-95.712891,37.09024
END:VEVENT
BEGIN:VEVENT
DTSTART;TZID=America/Los_Angeles:20240511T090000
DTEND;TZID=America/Los_Angeles:20240511T103000
DTSTAMP:20260419T144811
CREATED:20230107T205603Z
LAST-MODIFIED:20240201T200942Z
UID:10012614-1715418000-1715423400@stmaa.org
SUMMARY:Altar Guild
DESCRIPTION:
URL:https://stmaa.org/event/altar-guild-3/2024-05-11/
LOCATION:Sacristy\, sanctuary\, 1704 NE 43rd Ave\, Portland\, OR\, 97213\, United States
CATEGORIES:Administration,Worship regular
END:VEVENT
END:VCALENDAR