BEGIN:VCALENDAR
VERSION:2.0
PRODID:-//St. Michael &amp; All Angels Episcopal Church - ECPv6.15.18//NONSGML v1.0//EN
CALSCALE:GREGORIAN
METHOD:PUBLISH
X-ORIGINAL-URL:https://stmaa.org
X-WR-CALDESC:Events for St. Michael &amp; All Angels Episcopal Church
REFRESH-INTERVAL;VALUE=DURATION:PT1H
X-Robots-Tag:noindex
X-PUBLISHED-TTL:PT1H
BEGIN:VTIMEZONE
TZID:America/Los_Angeles
BEGIN:DAYLIGHT
TZOFFSETFROM:-0800
TZOFFSETTO:-0700
TZNAME:PDT
DTSTART:20230312T100000
END:DAYLIGHT
BEGIN:STANDARD
TZOFFSETFROM:-0700
TZOFFSETTO:-0800
TZNAME:PST
DTSTART:20231105T090000
END:STANDARD
BEGIN:DAYLIGHT
TZOFFSETFROM:-0800
TZOFFSETTO:-0700
TZNAME:PDT
DTSTART:20240310T100000
END:DAYLIGHT
BEGIN:STANDARD
TZOFFSETFROM:-0700
TZOFFSETTO:-0800
TZNAME:PST
DTSTART:20241103T090000
END:STANDARD
BEGIN:DAYLIGHT
TZOFFSETFROM:-0800
TZOFFSETTO:-0700
TZNAME:PDT
DTSTART:20250309T100000
END:DAYLIGHT
BEGIN:STANDARD
TZOFFSETFROM:-0700
TZOFFSETTO:-0800
TZNAME:PST
DTSTART:20251102T090000
END:STANDARD
END:VTIMEZONE
BEGIN:VEVENT
DTSTART;TZID=America/Los_Angeles:20241102T090000
DTEND;TZID=America/Los_Angeles:20241102T103000
DTSTAMP:20260420T094309
CREATED:20230107T205603Z
LAST-MODIFIED:20240201T200942Z
UID:10012639-1730538000-1730543400@stmaa.org
SUMMARY:Altar Guild
DESCRIPTION:
URL:https://stmaa.org/event/altar-guild-3/2024-11-02/
LOCATION:Sacristy\, sanctuary\, 1704 NE 43rd Ave\, Portland\, OR\, 97213\, United States
CATEGORIES:Administration,Worship regular
END:VEVENT
BEGIN:VEVENT
DTSTART;TZID=America/Los_Angeles:20241103T130000
DTEND;TZID=America/Los_Angeles:20241103T150000
DTSTAMP:20260420T094309
CREATED:20230922T174809Z
LAST-MODIFIED:20240201T201931Z
UID:10012851-1730638800-1730646000@stmaa.org
SUMMARY:La Misa - worship service in Spanish + convivio
DESCRIPTION:
URL:https://stmaa.org/event/la-misa-worship-service-in-spanish-convivio/2024-11-03/
LOCATION:Church sanctuary\, Parish Hall\, 1704 NE 43rd Ave\, Portland\, OR\, 97213\, United States
CATEGORIES:Parish Life,Worship regular
GEO:37.09024;-95.712891
X-APPLE-STRUCTURED-LOCATION;VALUE=URI;X-ADDRESS=Church sanctuary Parish Hall 1704 NE 43rd Ave Portland OR 97213 United States;X-APPLE-RADIUS=500;X-TITLE=1704 NE 43rd Ave:geo:-95.712891,37.09024
END:VEVENT
BEGIN:VEVENT
DTSTART;TZID=America/Los_Angeles:20241106T181500
DTEND;TZID=America/Los_Angeles:20241106T183000
DTSTAMP:20260420T094309
CREATED:20230922T181743Z
LAST-MODIFIED:20240307T193112Z
UID:10011398-1730916900-1730917800@stmaa.org
SUMMARY:Evening Prayer
DESCRIPTION:
URL:https://stmaa.org/event/evening-prayer-7/2024-11-06/
LOCATION:Church sanctuary\, 1704 NE 43rd Ave\, Portland\, OR\, 97213\, United States
CATEGORIES:Worship regular
GEO:37.09024;-95.712891
X-APPLE-STRUCTURED-LOCATION;VALUE=URI;X-ADDRESS=Church sanctuary 1704 NE 43rd Ave Portland OR 97213 United States;X-APPLE-RADIUS=500;X-TITLE=1704 NE 43rd Ave:geo:-95.712891,37.09024
END:VEVENT
BEGIN:VEVENT
DTSTART;TZID=America/Los_Angeles:20241109T090000
DTEND;TZID=America/Los_Angeles:20241109T103000
DTSTAMP:20260420T094309
CREATED:20230107T205603Z
LAST-MODIFIED:20240201T200942Z
UID:10012640-1731142800-1731148200@stmaa.org
SUMMARY:Altar Guild
DESCRIPTION:
URL:https://stmaa.org/event/altar-guild-3/2024-11-09/
LOCATION:Sacristy\, sanctuary\, 1704 NE 43rd Ave\, Portland\, OR\, 97213\, United States
CATEGORIES:Administration,Worship regular
END:VEVENT
BEGIN:VEVENT
DTSTART;TZID=America/Los_Angeles:20241110T130000
DTEND;TZID=America/Los_Angeles:20241110T150000
DTSTAMP:20260420T094309
CREATED:20230922T174809Z
LAST-MODIFIED:20240201T201931Z
UID:10012852-1731243600-1731250800@stmaa.org
SUMMARY:La Misa - worship service in Spanish + convivio
DESCRIPTION:
URL:https://stmaa.org/event/la-misa-worship-service-in-spanish-convivio/2024-11-10/
LOCATION:Church sanctuary\, Parish Hall\, 1704 NE 43rd Ave\, Portland\, OR\, 97213\, United States
CATEGORIES:Parish Life,Worship regular
GEO:37.09024;-95.712891
X-APPLE-STRUCTURED-LOCATION;VALUE=URI;X-ADDRESS=Church sanctuary Parish Hall 1704 NE 43rd Ave Portland OR 97213 United States;X-APPLE-RADIUS=500;X-TITLE=1704 NE 43rd Ave:geo:-95.712891,37.09024
END:VEVENT
BEGIN:VEVENT
DTSTART;TZID=America/Los_Angeles:20241113T181500
DTEND;TZID=America/Los_Angeles:20241113T183000
DTSTAMP:20260420T094309
CREATED:20230922T181743Z
LAST-MODIFIED:20240307T193112Z
UID:10011399-1731521700-1731522600@stmaa.org
SUMMARY:Evening Prayer
DESCRIPTION:
URL:https://stmaa.org/event/evening-prayer-7/2024-11-13/
LOCATION:Church sanctuary\, 1704 NE 43rd Ave\, Portland\, OR\, 97213\, United States
CATEGORIES:Worship regular
GEO:37.09024;-95.712891
X-APPLE-STRUCTURED-LOCATION;VALUE=URI;X-ADDRESS=Church sanctuary 1704 NE 43rd Ave Portland OR 97213 United States;X-APPLE-RADIUS=500;X-TITLE=1704 NE 43rd Ave:geo:-95.712891,37.09024
END:VEVENT
BEGIN:VEVENT
DTSTART;TZID=America/Los_Angeles:20241116T090000
DTEND;TZID=America/Los_Angeles:20241116T103000
DTSTAMP:20260420T094309
CREATED:20230107T205603Z
LAST-MODIFIED:20240201T200942Z
UID:10012641-1731747600-1731753000@stmaa.org
SUMMARY:Altar Guild
DESCRIPTION:
URL:https://stmaa.org/event/altar-guild-3/2024-11-16/
LOCATION:Sacristy\, sanctuary\, 1704 NE 43rd Ave\, Portland\, OR\, 97213\, United States
CATEGORIES:Administration,Worship regular
END:VEVENT
BEGIN:VEVENT
DTSTART;TZID=America/Los_Angeles:20241117T130000
DTEND;TZID=America/Los_Angeles:20241117T150000
DTSTAMP:20260420T094309
CREATED:20230922T174809Z
LAST-MODIFIED:20240201T201931Z
UID:10012853-1731848400-1731855600@stmaa.org
SUMMARY:La Misa - worship service in Spanish + convivio
DESCRIPTION:
URL:https://stmaa.org/event/la-misa-worship-service-in-spanish-convivio/2024-11-17/
LOCATION:Church sanctuary\, Parish Hall\, 1704 NE 43rd Ave\, Portland\, OR\, 97213\, United States
CATEGORIES:Parish Life,Worship regular
GEO:37.09024;-95.712891
X-APPLE-STRUCTURED-LOCATION;VALUE=URI;X-ADDRESS=Church sanctuary Parish Hall 1704 NE 43rd Ave Portland OR 97213 United States;X-APPLE-RADIUS=500;X-TITLE=1704 NE 43rd Ave:geo:-95.712891,37.09024
END:VEVENT
BEGIN:VEVENT
DTSTART;TZID=America/Los_Angeles:20241120T181500
DTEND;TZID=America/Los_Angeles:20241120T183000
DTSTAMP:20260420T094309
CREATED:20230922T181743Z
LAST-MODIFIED:20240307T193112Z
UID:10011400-1732126500-1732127400@stmaa.org
SUMMARY:Evening Prayer
DESCRIPTION:
URL:https://stmaa.org/event/evening-prayer-7/2024-11-20/
LOCATION:Church sanctuary\, 1704 NE 43rd Ave\, Portland\, OR\, 97213\, United States
CATEGORIES:Worship regular
GEO:37.09024;-95.712891
X-APPLE-STRUCTURED-LOCATION;VALUE=URI;X-ADDRESS=Church sanctuary 1704 NE 43rd Ave Portland OR 97213 United States;X-APPLE-RADIUS=500;X-TITLE=1704 NE 43rd Ave:geo:-95.712891,37.09024
END:VEVENT
BEGIN:VEVENT
DTSTART;TZID=America/Los_Angeles:20241123T090000
DTEND;TZID=America/Los_Angeles:20241123T103000
DTSTAMP:20260420T094309
CREATED:20230107T205603Z
LAST-MODIFIED:20240201T200942Z
UID:10012642-1732352400-1732357800@stmaa.org
SUMMARY:Altar Guild
DESCRIPTION:
URL:https://stmaa.org/event/altar-guild-3/2024-11-23/
LOCATION:Sacristy\, sanctuary\, 1704 NE 43rd Ave\, Portland\, OR\, 97213\, United States
CATEGORIES:Administration,Worship regular
END:VEVENT
BEGIN:VEVENT
DTSTART;TZID=America/Los_Angeles:20241124T130000
DTEND;TZID=America/Los_Angeles:20241124T150000
DTSTAMP:20260420T094309
CREATED:20230922T174809Z
LAST-MODIFIED:20240201T201931Z
UID:10012854-1732453200-1732460400@stmaa.org
SUMMARY:La Misa - worship service in Spanish + convivio
DESCRIPTION:
URL:https://stmaa.org/event/la-misa-worship-service-in-spanish-convivio/2024-11-24/
LOCATION:Church sanctuary\, Parish Hall\, 1704 NE 43rd Ave\, Portland\, OR\, 97213\, United States
CATEGORIES:Parish Life,Worship regular
GEO:37.09024;-95.712891
X-APPLE-STRUCTURED-LOCATION;VALUE=URI;X-ADDRESS=Church sanctuary Parish Hall 1704 NE 43rd Ave Portland OR 97213 United States;X-APPLE-RADIUS=500;X-TITLE=1704 NE 43rd Ave:geo:-95.712891,37.09024
END:VEVENT
BEGIN:VEVENT
DTSTART;TZID=America/Los_Angeles:20241127T181500
DTEND;TZID=America/Los_Angeles:20241127T183000
DTSTAMP:20260420T094309
CREATED:20230922T181743Z
LAST-MODIFIED:20240307T193112Z
UID:10011401-1732731300-1732732200@stmaa.org
SUMMARY:Evening Prayer
DESCRIPTION:
URL:https://stmaa.org/event/evening-prayer-7/2024-11-27/
LOCATION:Church sanctuary\, 1704 NE 43rd Ave\, Portland\, OR\, 97213\, United States
CATEGORIES:Worship regular
GEO:37.09024;-95.712891
X-APPLE-STRUCTURED-LOCATION;VALUE=URI;X-ADDRESS=Church sanctuary 1704 NE 43rd Ave Portland OR 97213 United States;X-APPLE-RADIUS=500;X-TITLE=1704 NE 43rd Ave:geo:-95.712891,37.09024
END:VEVENT
BEGIN:VEVENT
DTSTART;TZID=America/Los_Angeles:20241130T090000
DTEND;TZID=America/Los_Angeles:20241130T103000
DTSTAMP:20260420T094309
CREATED:20230107T205603Z
LAST-MODIFIED:20240201T200942Z
UID:10012643-1732957200-1732962600@stmaa.org
SUMMARY:Altar Guild
DESCRIPTION:
URL:https://stmaa.org/event/altar-guild-3/2024-11-30/
LOCATION:Sacristy\, sanctuary\, 1704 NE 43rd Ave\, Portland\, OR\, 97213\, United States
CATEGORIES:Administration,Worship regular
END:VEVENT
END:VCALENDAR