BEGIN:VCALENDAR
VERSION:2.0
PRODID:-//St. Michael &amp; All Angels Episcopal Church - ECPv6.15.18//NONSGML v1.0//EN
CALSCALE:GREGORIAN
METHOD:PUBLISH
X-ORIGINAL-URL:https://stmaa.org
X-WR-CALDESC:Events for St. Michael &amp; All Angels Episcopal Church
REFRESH-INTERVAL;VALUE=DURATION:PT1H
X-Robots-Tag:noindex
X-PUBLISHED-TTL:PT1H
BEGIN:VTIMEZONE
TZID:America/Los_Angeles
BEGIN:DAYLIGHT
TZOFFSETFROM:-0800
TZOFFSETTO:-0700
TZNAME:PDT
DTSTART:20200308T100000
END:DAYLIGHT
BEGIN:STANDARD
TZOFFSETFROM:-0700
TZOFFSETTO:-0800
TZNAME:PST
DTSTART:20201101T090000
END:STANDARD
BEGIN:DAYLIGHT
TZOFFSETFROM:-0800
TZOFFSETTO:-0700
TZNAME:PDT
DTSTART:20210314T100000
END:DAYLIGHT
BEGIN:STANDARD
TZOFFSETFROM:-0700
TZOFFSETTO:-0800
TZNAME:PST
DTSTART:20211107T090000
END:STANDARD
BEGIN:DAYLIGHT
TZOFFSETFROM:-0800
TZOFFSETTO:-0700
TZNAME:PDT
DTSTART:20220313T100000
END:DAYLIGHT
BEGIN:STANDARD
TZOFFSETFROM:-0700
TZOFFSETTO:-0800
TZNAME:PST
DTSTART:20221106T090000
END:STANDARD
BEGIN:DAYLIGHT
TZOFFSETFROM:-0800
TZOFFSETTO:-0700
TZNAME:PDT
DTSTART:20230312T100000
END:DAYLIGHT
BEGIN:STANDARD
TZOFFSETFROM:-0700
TZOFFSETTO:-0800
TZNAME:PST
DTSTART:20231105T090000
END:STANDARD
BEGIN:DAYLIGHT
TZOFFSETFROM:-0800
TZOFFSETTO:-0700
TZNAME:PDT
DTSTART:20240310T100000
END:DAYLIGHT
BEGIN:STANDARD
TZOFFSETFROM:-0700
TZOFFSETTO:-0800
TZNAME:PST
DTSTART:20241103T090000
END:STANDARD
BEGIN:DAYLIGHT
TZOFFSETFROM:-0800
TZOFFSETTO:-0700
TZNAME:PDT
DTSTART:20250309T100000
END:DAYLIGHT
BEGIN:STANDARD
TZOFFSETFROM:-0700
TZOFFSETTO:-0800
TZNAME:PST
DTSTART:20251102T090000
END:STANDARD
END:VTIMEZONE
BEGIN:VEVENT
DTSTART;TZID=America/Los_Angeles:20240614T100000
DTEND;TZID=America/Los_Angeles:20240614T120000
DTSTAMP:20260423T083719
CREATED:20240605T225001Z
LAST-MODIFIED:20240605T225001Z
UID:10013753-1718359200-1718366400@stmaa.org
SUMMARY:Women's spirituality group
DESCRIPTION:
URL:https://stmaa.org/event/womens-spirituality-group-2/
LOCATION:Raphael Room\, 1704 NE 43rd Ave\, Portland\, OR\, 97213\, United States
CATEGORIES:Adult Education regular
GEO:37.09024;-95.712891
X-APPLE-STRUCTURED-LOCATION;VALUE=URI;X-ADDRESS=Raphael Room 1704 NE 43rd Ave Portland OR 97213 United States;X-APPLE-RADIUS=500;X-TITLE=1704 NE 43rd Ave:geo:-95.712891,37.09024
END:VEVENT
BEGIN:VEVENT
DTSTART;TZID=America/Los_Angeles:20240510T100000
DTEND;TZID=America/Los_Angeles:20240510T120000
DTSTAMP:20260423T083719
CREATED:20240426T202541Z
LAST-MODIFIED:20240426T202541Z
UID:10013734-1715335200-1715342400@stmaa.org
SUMMARY:Women's spirituality group
DESCRIPTION:
URL:https://stmaa.org/event/womens-spirituality-group/
LOCATION:Raphael Room\, 1704 NE 43rd Ave\, Portland\, OR\, 97213\, United States
CATEGORIES:Adult Education regular
GEO:37.09024;-95.712891
X-APPLE-STRUCTURED-LOCATION;VALUE=URI;X-ADDRESS=Raphael Room 1704 NE 43rd Ave Portland OR 97213 United States;X-APPLE-RADIUS=500;X-TITLE=1704 NE 43rd Ave:geo:-95.712891,37.09024
END:VEVENT
BEGIN:VEVENT
DTSTART;TZID=America/Los_Angeles:20240308T093000
DTEND;TZID=America/Los_Angeles:20240308T110000
DTSTAMP:20260423T083719
CREATED:20240307T191912Z
LAST-MODIFIED:20240307T191912Z
UID:10013561-1709890200-1709895600@stmaa.org
SUMMARY:Spirituality Circle
DESCRIPTION:
URL:https://stmaa.org/event/spirituality-circle/
LOCATION:Raphael Room\, 1704 NE 43rd Ave\, Portland\, OR\, 97213\, United States
CATEGORIES:Adult Education regular
GEO:37.09024;-95.712891
X-APPLE-STRUCTURED-LOCATION;VALUE=URI;X-ADDRESS=Raphael Room 1704 NE 43rd Ave Portland OR 97213 United States;X-APPLE-RADIUS=500;X-TITLE=1704 NE 43rd Ave:geo:-95.712891,37.09024
END:VEVENT
BEGIN:VEVENT
DTSTART;TZID=America/Los_Angeles:20230329T110000
DTEND;TZID=America/Los_Angeles:20230329T123000
DTSTAMP:20260423T083719
CREATED:20230307T005931Z
LAST-MODIFIED:20230307T005931Z
UID:10010746-1680087600-1680093000@stmaa.org
SUMMARY:Lenten book study with Fr. Sherman
DESCRIPTION:
URL:https://stmaa.org/event/lenten-book-study-with-fr-sherman/2023-03-29/
LOCATION:Raphael Room\, 1704 NE 43rd Ave\, Portland\, OR\, 97213\, United States
CATEGORIES:Adult Education regular
GEO:37.09024;-95.712891
X-APPLE-STRUCTURED-LOCATION;VALUE=URI;X-ADDRESS=Raphael Room 1704 NE 43rd Ave Portland OR 97213 United States;X-APPLE-RADIUS=500;X-TITLE=1704 NE 43rd Ave:geo:-95.712891,37.09024
END:VEVENT
BEGIN:VEVENT
DTSTART;TZID=America/Los_Angeles:20230322T110000
DTEND;TZID=America/Los_Angeles:20230322T123000
DTSTAMP:20260423T083719
CREATED:20230307T005931Z
LAST-MODIFIED:20230307T005931Z
UID:10010745-1679482800-1679488200@stmaa.org
SUMMARY:Lenten book study with Fr. Sherman
DESCRIPTION:
URL:https://stmaa.org/event/lenten-book-study-with-fr-sherman/2023-03-22/
LOCATION:Raphael Room\, 1704 NE 43rd Ave\, Portland\, OR\, 97213\, United States
CATEGORIES:Adult Education regular
GEO:37.09024;-95.712891
X-APPLE-STRUCTURED-LOCATION;VALUE=URI;X-ADDRESS=Raphael Room 1704 NE 43rd Ave Portland OR 97213 United States;X-APPLE-RADIUS=500;X-TITLE=1704 NE 43rd Ave:geo:-95.712891,37.09024
END:VEVENT
BEGIN:VEVENT
DTSTART;TZID=America/Los_Angeles:20230315T110000
DTEND;TZID=America/Los_Angeles:20230315T123000
DTSTAMP:20260423T083719
CREATED:20230307T005931Z
LAST-MODIFIED:20230307T005931Z
UID:10010744-1678878000-1678883400@stmaa.org
SUMMARY:Lenten book study with Fr. Sherman
DESCRIPTION:
URL:https://stmaa.org/event/lenten-book-study-with-fr-sherman/2023-03-15/
LOCATION:Raphael Room\, 1704 NE 43rd Ave\, Portland\, OR\, 97213\, United States
CATEGORIES:Adult Education regular
GEO:37.09024;-95.712891
X-APPLE-STRUCTURED-LOCATION;VALUE=URI;X-ADDRESS=Raphael Room 1704 NE 43rd Ave Portland OR 97213 United States;X-APPLE-RADIUS=500;X-TITLE=1704 NE 43rd Ave:geo:-95.712891,37.09024
END:VEVENT
BEGIN:VEVENT
DTSTART;TZID=America/Los_Angeles:20230308T110000
DTEND;TZID=America/Los_Angeles:20230308T123000
DTSTAMP:20260423T083719
CREATED:20230307T005931Z
LAST-MODIFIED:20230307T005931Z
UID:10010743-1678273200-1678278600@stmaa.org
SUMMARY:Lenten book study with Fr. Sherman
DESCRIPTION:
URL:https://stmaa.org/event/lenten-book-study-with-fr-sherman/2023-03-08/
LOCATION:Raphael Room\, 1704 NE 43rd Ave\, Portland\, OR\, 97213\, United States
CATEGORIES:Adult Education regular
GEO:37.09024;-95.712891
X-APPLE-STRUCTURED-LOCATION;VALUE=URI;X-ADDRESS=Raphael Room 1704 NE 43rd Ave Portland OR 97213 United States;X-APPLE-RADIUS=500;X-TITLE=1704 NE 43rd Ave:geo:-95.712891,37.09024
END:VEVENT
BEGIN:VEVENT
DTSTART;TZID=America/Los_Angeles:20230301T110000
DTEND;TZID=America/Los_Angeles:20230301T123000
DTSTAMP:20260423T083719
CREATED:20230307T005931Z
LAST-MODIFIED:20230307T005931Z
UID:10010742-1677668400-1677673800@stmaa.org
SUMMARY:Lenten book study with Fr. Sherman
DESCRIPTION:
URL:https://stmaa.org/event/lenten-book-study-with-fr-sherman/2023-03-01/
LOCATION:Raphael Room\, 1704 NE 43rd Ave\, Portland\, OR\, 97213\, United States
CATEGORIES:Adult Education regular
GEO:37.09024;-95.712891
X-APPLE-STRUCTURED-LOCATION;VALUE=URI;X-ADDRESS=Raphael Room 1704 NE 43rd Ave Portland OR 97213 United States;X-APPLE-RADIUS=500;X-TITLE=1704 NE 43rd Ave:geo:-95.712891,37.09024
END:VEVENT
BEGIN:VEVENT
DTSTART;TZID=America/Los_Angeles:20210609T150000
DTEND;TZID=America/Los_Angeles:20210609T160000
DTSTAMP:20260423T083719
CREATED:20210520T234609Z
LAST-MODIFIED:20210520T234609Z
UID:10009802-1623250800-1623254400@stmaa.org
SUMMARY:Small Group with James
DESCRIPTION:
URL:https://stmaa.org/event/small-group-with-james-9/2021-06-09/
LOCATION:Zoom\, Virtual or Life-streamed
CATEGORIES:Adult Education regular
END:VEVENT
BEGIN:VEVENT
DTSTART;TZID=America/Los_Angeles:20210609T093000
DTEND;TZID=America/Los_Angeles:20210609T103000
DTSTAMP:20260423T083719
CREATED:20210520T234445Z
LAST-MODIFIED:20210520T234445Z
UID:10009798-1623231000-1623234600@stmaa.org
SUMMARY:Small Group with James
DESCRIPTION:
URL:https://stmaa.org/event/small-group-with-james-8/2021-06-09/
LOCATION:Zoom\, Virtual or Life-streamed
CATEGORIES:Adult Education regular
END:VEVENT
BEGIN:VEVENT
DTSTART;TZID=America/Los_Angeles:20210608T093000
DTEND;TZID=America/Los_Angeles:20210608T103000
DTSTAMP:20260423T083719
CREATED:20210520T234345Z
LAST-MODIFIED:20210520T234345Z
UID:10009794-1623144600-1623148200@stmaa.org
SUMMARY:Small Group with James
DESCRIPTION:
URL:https://stmaa.org/event/small-group-with-james-7/2021-06-08/
LOCATION:Zoom\, Virtual or Life-streamed
CATEGORIES:Adult Education regular
END:VEVENT
BEGIN:VEVENT
DTSTART;TZID=America/Los_Angeles:20210602T150000
DTEND;TZID=America/Los_Angeles:20210602T160000
DTSTAMP:20260423T083719
CREATED:20210520T234609Z
LAST-MODIFIED:20210520T234609Z
UID:10009801-1622646000-1622649600@stmaa.org
SUMMARY:Small Group with James
DESCRIPTION:
URL:https://stmaa.org/event/small-group-with-james-9/2021-06-02/
LOCATION:Zoom\, Virtual or Life-streamed
CATEGORIES:Adult Education regular
END:VEVENT
BEGIN:VEVENT
DTSTART;TZID=America/Los_Angeles:20210602T093000
DTEND;TZID=America/Los_Angeles:20210602T103000
DTSTAMP:20260423T083719
CREATED:20210520T234445Z
LAST-MODIFIED:20210520T234445Z
UID:10009797-1622626200-1622629800@stmaa.org
SUMMARY:Small Group with James
DESCRIPTION:
URL:https://stmaa.org/event/small-group-with-james-8/2021-06-02/
LOCATION:Zoom\, Virtual or Life-streamed
CATEGORIES:Adult Education regular
END:VEVENT
BEGIN:VEVENT
DTSTART;TZID=America/Los_Angeles:20210601T093000
DTEND;TZID=America/Los_Angeles:20210601T103000
DTSTAMP:20260423T083719
CREATED:20210520T234345Z
LAST-MODIFIED:20210520T234345Z
UID:10009793-1622539800-1622543400@stmaa.org
SUMMARY:Small Group with James
DESCRIPTION:
URL:https://stmaa.org/event/small-group-with-james-7/2021-06-01/
LOCATION:Zoom\, Virtual or Life-streamed
CATEGORIES:Adult Education regular
END:VEVENT
BEGIN:VEVENT
DTSTART;TZID=America/Los_Angeles:20210526T150000
DTEND;TZID=America/Los_Angeles:20210526T160000
DTSTAMP:20260423T083719
CREATED:20210520T234609Z
LAST-MODIFIED:20210520T234609Z
UID:10009800-1622041200-1622044800@stmaa.org
SUMMARY:Small Group with James
DESCRIPTION:
URL:https://stmaa.org/event/small-group-with-james-9/2021-05-26/
LOCATION:Zoom\, Virtual or Life-streamed
CATEGORIES:Adult Education regular
END:VEVENT
BEGIN:VEVENT
DTSTART;TZID=America/Los_Angeles:20210526T093000
DTEND;TZID=America/Los_Angeles:20210526T103000
DTSTAMP:20260423T083719
CREATED:20210520T234445Z
LAST-MODIFIED:20210520T234445Z
UID:10009796-1622021400-1622025000@stmaa.org
SUMMARY:Small Group with James
DESCRIPTION:
URL:https://stmaa.org/event/small-group-with-james-8/2021-05-26/
LOCATION:Zoom\, Virtual or Life-streamed
CATEGORIES:Adult Education regular
END:VEVENT
BEGIN:VEVENT
DTSTART;TZID=America/Los_Angeles:20210525T093000
DTEND;TZID=America/Los_Angeles:20210525T103000
DTSTAMP:20260423T083719
CREATED:20210520T234345Z
LAST-MODIFIED:20210520T234345Z
UID:10009792-1621935000-1621938600@stmaa.org
SUMMARY:Small Group with James
DESCRIPTION:
URL:https://stmaa.org/event/small-group-with-james-7/2021-05-25/
LOCATION:Zoom\, Virtual or Life-streamed
CATEGORIES:Adult Education regular
END:VEVENT
BEGIN:VEVENT
DTSTART;TZID=America/Los_Angeles:20210519T150000
DTEND;TZID=America/Los_Angeles:20210519T160000
DTSTAMP:20260423T083719
CREATED:20210520T234609Z
LAST-MODIFIED:20210520T234609Z
UID:10009799-1621436400-1621440000@stmaa.org
SUMMARY:Small Group with James
DESCRIPTION:
URL:https://stmaa.org/event/small-group-with-james-9/2021-05-19/
LOCATION:Zoom\, Virtual or Life-streamed
CATEGORIES:Adult Education regular
END:VEVENT
BEGIN:VEVENT
DTSTART;TZID=America/Los_Angeles:20210519T093000
DTEND;TZID=America/Los_Angeles:20210519T103000
DTSTAMP:20260423T083719
CREATED:20210520T234445Z
LAST-MODIFIED:20210520T234445Z
UID:10009795-1621416600-1621420200@stmaa.org
SUMMARY:Small Group with James
DESCRIPTION:
URL:https://stmaa.org/event/small-group-with-james-8/2021-05-19/
LOCATION:Zoom\, Virtual or Life-streamed
CATEGORIES:Adult Education regular
END:VEVENT
BEGIN:VEVENT
DTSTART;TZID=America/Los_Angeles:20210518T093000
DTEND;TZID=America/Los_Angeles:20210518T103000
DTSTAMP:20260423T083719
CREATED:20210520T234345Z
LAST-MODIFIED:20210520T234345Z
UID:10009791-1621330200-1621333800@stmaa.org
SUMMARY:Small Group with James
DESCRIPTION:
URL:https://stmaa.org/event/small-group-with-james-7/2021-05-18/
LOCATION:Zoom\, Virtual or Life-streamed
CATEGORIES:Adult Education regular
END:VEVENT
BEGIN:VEVENT
DTSTART;TZID=America/Los_Angeles:20210331T150000
DTEND;TZID=America/Los_Angeles:20210331T160000
DTSTAMP:20260423T083719
CREATED:20210325T213920Z
LAST-MODIFIED:20210325T213920Z
UID:10007487-1617202800-1617206400@stmaa.org
SUMMARY:Small group with James
DESCRIPTION:
URL:https://stmaa.org/event/small-group-with-james-5/2021-03-31/
LOCATION:Zoom\, Virtual or Life-streamed
CATEGORIES:Adult Education regular
END:VEVENT
BEGIN:VEVENT
DTSTART;TZID=America/Los_Angeles:20210331T090000
DTEND;TZID=America/Los_Angeles:20210331T100000
DTSTAMP:20260423T083719
CREATED:20210325T213745Z
LAST-MODIFIED:20210325T213745Z
UID:10007482-1617181200-1617184800@stmaa.org
SUMMARY:Small group with James
DESCRIPTION:
URL:https://stmaa.org/event/small-group-with-james-4/2021-03-31/
LOCATION:Zoom\, Virtual or Life-streamed
CATEGORIES:Adult Education regular
END:VEVENT
BEGIN:VEVENT
DTSTART;TZID=America/Los_Angeles:20210330T093000
DTEND;TZID=America/Los_Angeles:20210330T103000
DTSTAMP:20260423T083719
CREATED:20210325T213354Z
LAST-MODIFIED:20210325T214253Z
UID:10009789-1617096600-1617100200@stmaa.org
SUMMARY:Small group with James
DESCRIPTION:
URL:https://stmaa.org/event/small-groups-with-james/2021-03-30/
LOCATION:Zoom\, Virtual or Life-streamed
CATEGORIES:Adult Education regular
END:VEVENT
BEGIN:VEVENT
DTSTART;TZID=America/Los_Angeles:20210325T120000
DTEND;TZID=America/Los_Angeles:20210325T130000
DTSTAMP:20260423T083719
CREATED:20210325T214112Z
LAST-MODIFIED:20210325T214112Z
UID:10007491-1616673600-1616677200@stmaa.org
SUMMARY:Small group with James
DESCRIPTION:
URL:https://stmaa.org/event/small-group-with-james-6/2021-03-25/
LOCATION:Zoom\, Virtual or Life-streamed
CATEGORIES:Adult Education regular
END:VEVENT
BEGIN:VEVENT
DTSTART;TZID=America/Los_Angeles:20210324T150000
DTEND;TZID=America/Los_Angeles:20210324T160000
DTSTAMP:20260423T083719
CREATED:20210325T213920Z
LAST-MODIFIED:20210325T213920Z
UID:10007486-1616598000-1616601600@stmaa.org
SUMMARY:Small group with James
DESCRIPTION:
URL:https://stmaa.org/event/small-group-with-james-5/2021-03-24/
LOCATION:Zoom\, Virtual or Life-streamed
CATEGORIES:Adult Education regular
END:VEVENT
BEGIN:VEVENT
DTSTART;TZID=America/Los_Angeles:20210324T090000
DTEND;TZID=America/Los_Angeles:20210324T100000
DTSTAMP:20260423T083719
CREATED:20210325T213745Z
LAST-MODIFIED:20210325T213745Z
UID:10007481-1616576400-1616580000@stmaa.org
SUMMARY:Small group with James
DESCRIPTION:
URL:https://stmaa.org/event/small-group-with-james-4/2021-03-24/
LOCATION:Zoom\, Virtual or Life-streamed
CATEGORIES:Adult Education regular
END:VEVENT
BEGIN:VEVENT
DTSTART;TZID=America/Los_Angeles:20210323T093000
DTEND;TZID=America/Los_Angeles:20210323T103000
DTSTAMP:20260423T083719
CREATED:20210325T213354Z
LAST-MODIFIED:20210325T214253Z
UID:10009788-1616491800-1616495400@stmaa.org
SUMMARY:Small group with James
DESCRIPTION:
URL:https://stmaa.org/event/small-groups-with-james/2021-03-23/
LOCATION:Zoom\, Virtual or Life-streamed
CATEGORIES:Adult Education regular
END:VEVENT
BEGIN:VEVENT
DTSTART;TZID=America/Los_Angeles:20210318T120000
DTEND;TZID=America/Los_Angeles:20210318T130000
DTSTAMP:20260423T083719
CREATED:20210325T214112Z
LAST-MODIFIED:20210325T214112Z
UID:10007490-1616068800-1616072400@stmaa.org
SUMMARY:Small group with James
DESCRIPTION:
URL:https://stmaa.org/event/small-group-with-james-6/2021-03-18/
LOCATION:Zoom\, Virtual or Life-streamed
CATEGORIES:Adult Education regular
END:VEVENT
BEGIN:VEVENT
DTSTART;TZID=America/Los_Angeles:20210317T150000
DTEND;TZID=America/Los_Angeles:20210317T160000
DTSTAMP:20260423T083719
CREATED:20210325T213920Z
LAST-MODIFIED:20210325T213920Z
UID:10007485-1615993200-1615996800@stmaa.org
SUMMARY:Small group with James
DESCRIPTION:
URL:https://stmaa.org/event/small-group-with-james-5/2021-03-17/
LOCATION:Zoom\, Virtual or Life-streamed
CATEGORIES:Adult Education regular
END:VEVENT
BEGIN:VEVENT
DTSTART;TZID=America/Los_Angeles:20210317T090000
DTEND;TZID=America/Los_Angeles:20210317T100000
DTSTAMP:20260423T083719
CREATED:20210325T213745Z
LAST-MODIFIED:20210325T213745Z
UID:10007480-1615971600-1615975200@stmaa.org
SUMMARY:Small group with James
DESCRIPTION:
URL:https://stmaa.org/event/small-group-with-james-4/2021-03-17/
LOCATION:Zoom\, Virtual or Life-streamed
CATEGORIES:Adult Education regular
END:VEVENT
END:VCALENDAR