BEGIN:VCALENDAR
VERSION:2.0
PRODID:-//St. Michael &amp; All Angels Episcopal Church - ECPv6.15.18//NONSGML v1.0//EN
CALSCALE:GREGORIAN
METHOD:PUBLISH
X-ORIGINAL-URL:https://stmaa.org
X-WR-CALDESC:Events for St. Michael &amp; All Angels Episcopal Church
REFRESH-INTERVAL;VALUE=DURATION:PT1H
X-Robots-Tag:noindex
X-PUBLISHED-TTL:PT1H
BEGIN:VTIMEZONE
TZID:America/Los_Angeles
BEGIN:DAYLIGHT
TZOFFSETFROM:-0800
TZOFFSETTO:-0700
TZNAME:PDT
DTSTART:20240310T100000
END:DAYLIGHT
BEGIN:STANDARD
TZOFFSETFROM:-0700
TZOFFSETTO:-0800
TZNAME:PST
DTSTART:20241103T090000
END:STANDARD
BEGIN:DAYLIGHT
TZOFFSETFROM:-0800
TZOFFSETTO:-0700
TZNAME:PDT
DTSTART:20250309T100000
END:DAYLIGHT
BEGIN:STANDARD
TZOFFSETFROM:-0700
TZOFFSETTO:-0800
TZNAME:PST
DTSTART:20251102T090000
END:STANDARD
BEGIN:DAYLIGHT
TZOFFSETFROM:-0800
TZOFFSETTO:-0700
TZNAME:PDT
DTSTART:20260308T100000
END:DAYLIGHT
BEGIN:STANDARD
TZOFFSETFROM:-0700
TZOFFSETTO:-0800
TZNAME:PST
DTSTART:20261101T090000
END:STANDARD
END:VTIMEZONE
BEGIN:VEVENT
DTSTART;TZID=America/Los_Angeles:20250604T083000
DTEND;TZID=America/Los_Angeles:20250604T110000
DTSTAMP:20260425T131516
CREATED:20230107T202533Z
LAST-MODIFIED:20240201T210957Z
UID:10013170-1749025800-1749034800@stmaa.org
SUMMARY:MOW/WOWs volunteer gathering
DESCRIPTION:
URL:https://stmaa.org/event/mow-wows-volunteer-gathering/2025-06-04/
LOCATION:Entire propery
CATEGORIES:Administration
END:VEVENT
BEGIN:VEVENT
DTSTART;TZID=America/Los_Angeles:20250607T090000
DTEND;TZID=America/Los_Angeles:20250607T103000
DTSTAMP:20260425T131516
CREATED:20230107T205603Z
LAST-MODIFIED:20240201T200942Z
UID:10012670-1749286800-1749292200@stmaa.org
SUMMARY:Altar Guild
DESCRIPTION:
URL:https://stmaa.org/event/altar-guild-3/2025-06-07/
LOCATION:Sacristy\, sanctuary\, 1704 NE 43rd Ave\, Portland\, OR\, 97213\, United States
CATEGORIES:Administration,Worship regular
END:VEVENT
BEGIN:VEVENT
DTSTART;TZID=America/Los_Angeles:20250611T083000
DTEND;TZID=America/Los_Angeles:20250611T110000
DTSTAMP:20260425T131516
CREATED:20230107T202533Z
LAST-MODIFIED:20240201T210957Z
UID:10013171-1749630600-1749639600@stmaa.org
SUMMARY:MOW/WOWs volunteer gathering
DESCRIPTION:
URL:https://stmaa.org/event/mow-wows-volunteer-gathering/2025-06-11/
LOCATION:Entire propery
CATEGORIES:Administration
END:VEVENT
BEGIN:VEVENT
DTSTART;TZID=America/Los_Angeles:20250614T090000
DTEND;TZID=America/Los_Angeles:20250614T103000
DTSTAMP:20260425T131516
CREATED:20230107T205603Z
LAST-MODIFIED:20240201T200942Z
UID:10012671-1749891600-1749897000@stmaa.org
SUMMARY:Altar Guild
DESCRIPTION:
URL:https://stmaa.org/event/altar-guild-3/2025-06-14/
LOCATION:Sacristy\, sanctuary\, 1704 NE 43rd Ave\, Portland\, OR\, 97213\, United States
CATEGORIES:Administration,Worship regular
END:VEVENT
BEGIN:VEVENT
DTSTART;TZID=America/Los_Angeles:20250618T083000
DTEND;TZID=America/Los_Angeles:20250618T110000
DTSTAMP:20260425T131516
CREATED:20230107T202533Z
LAST-MODIFIED:20240201T210957Z
UID:10013172-1750235400-1750244400@stmaa.org
SUMMARY:MOW/WOWs volunteer gathering
DESCRIPTION:
URL:https://stmaa.org/event/mow-wows-volunteer-gathering/2025-06-18/
LOCATION:Entire propery
CATEGORIES:Administration
END:VEVENT
BEGIN:VEVENT
DTSTART;TZID=America/Los_Angeles:20250619T183000
DTEND;TZID=America/Los_Angeles:20250619T203000
DTSTAMP:20260425T131516
CREATED:20230107T204209Z
LAST-MODIFIED:20240201T212153Z
UID:10013305-1750357800-1750365000@stmaa.org
SUMMARY:Vestry meeting
DESCRIPTION:
URL:https://stmaa.org/event/vestry-meeting-4/2025-06-19/
LOCATION:Parish Hall\, 1704 NE 43rd Ave\, Portland\, OR\, 97213\, United States
CATEGORIES:Administration
GEO:37.09024;-95.712891
X-APPLE-STRUCTURED-LOCATION;VALUE=URI;X-ADDRESS=Parish Hall 1704 NE 43rd Ave Portland OR 97213 United States;X-APPLE-RADIUS=500;X-TITLE=1704 NE 43rd Ave:geo:-95.712891,37.09024
END:VEVENT
BEGIN:VEVENT
DTSTART;TZID=America/Los_Angeles:20250621T090000
DTEND;TZID=America/Los_Angeles:20250621T103000
DTSTAMP:20260425T131516
CREATED:20230107T205603Z
LAST-MODIFIED:20240201T200942Z
UID:10012672-1750496400-1750501800@stmaa.org
SUMMARY:Altar Guild
DESCRIPTION:
URL:https://stmaa.org/event/altar-guild-3/2025-06-21/
LOCATION:Sacristy\, sanctuary\, 1704 NE 43rd Ave\, Portland\, OR\, 97213\, United States
CATEGORIES:Administration,Worship regular
END:VEVENT
BEGIN:VEVENT
DTSTART;TZID=America/Los_Angeles:20250625T083000
DTEND;TZID=America/Los_Angeles:20250625T110000
DTSTAMP:20260425T131516
CREATED:20230107T202533Z
LAST-MODIFIED:20240201T210957Z
UID:10013173-1750840200-1750849200@stmaa.org
SUMMARY:MOW/WOWs volunteer gathering
DESCRIPTION:
URL:https://stmaa.org/event/mow-wows-volunteer-gathering/2025-06-25/
LOCATION:Entire propery
CATEGORIES:Administration
END:VEVENT
BEGIN:VEVENT
DTSTART;TZID=America/Los_Angeles:20250628T090000
DTEND;TZID=America/Los_Angeles:20250628T103000
DTSTAMP:20260425T131516
CREATED:20230107T205603Z
LAST-MODIFIED:20240201T200942Z
UID:10012673-1751101200-1751106600@stmaa.org
SUMMARY:Altar Guild
DESCRIPTION:
URL:https://stmaa.org/event/altar-guild-3/2025-06-28/
LOCATION:Sacristy\, sanctuary\, 1704 NE 43rd Ave\, Portland\, OR\, 97213\, United States
CATEGORIES:Administration,Worship regular
END:VEVENT
END:VCALENDAR