BEGIN:VCALENDAR
VERSION:2.0
PRODID:-//St. Michael &amp; All Angels Episcopal Church - ECPv6.15.18//NONSGML v1.0//EN
CALSCALE:GREGORIAN
METHOD:PUBLISH
X-ORIGINAL-URL:https://stmaa.org
X-WR-CALDESC:Events for St. Michael &amp; All Angels Episcopal Church
REFRESH-INTERVAL;VALUE=DURATION:PT1H
X-Robots-Tag:noindex
X-PUBLISHED-TTL:PT1H
BEGIN:VTIMEZONE
TZID:America/Los_Angeles
BEGIN:DAYLIGHT
TZOFFSETFROM:-0800
TZOFFSETTO:-0700
TZNAME:PDT
DTSTART:20170312T100000
END:DAYLIGHT
BEGIN:STANDARD
TZOFFSETFROM:-0700
TZOFFSETTO:-0800
TZNAME:PST
DTSTART:20171105T090000
END:STANDARD
BEGIN:DAYLIGHT
TZOFFSETFROM:-0800
TZOFFSETTO:-0700
TZNAME:PDT
DTSTART:20180311T100000
END:DAYLIGHT
BEGIN:STANDARD
TZOFFSETFROM:-0700
TZOFFSETTO:-0800
TZNAME:PST
DTSTART:20181104T090000
END:STANDARD
BEGIN:DAYLIGHT
TZOFFSETFROM:-0800
TZOFFSETTO:-0700
TZNAME:PDT
DTSTART:20190310T100000
END:DAYLIGHT
BEGIN:STANDARD
TZOFFSETFROM:-0700
TZOFFSETTO:-0800
TZNAME:PST
DTSTART:20191103T090000
END:STANDARD
END:VTIMEZONE
BEGIN:VEVENT
DTSTART;TZID=America/Los_Angeles:20181003T083000
DTEND;TZID=America/Los_Angeles:20181003T110000
DTSTAMP:20260425T125906
CREATED:20180606T220238Z
LAST-MODIFIED:20190827T181137Z
UID:10007288-1538555400-1538564400@stmaa.org
SUMMARY:MOW/WOWs
DESCRIPTION:The Men and Women on Wednesday meet weekly to perform maintenance work around the church buildings and enjoy each other’s company and delicious snacks.
URL:https://stmaa.org/event/mow-wows/2018-10-03/
LOCATION:Entire propery
CATEGORIES:Administration
END:VEVENT
BEGIN:VEVENT
DTSTART;TZID=America/Los_Angeles:20181010T083000
DTEND;TZID=America/Los_Angeles:20181010T110000
DTSTAMP:20260425T125906
CREATED:20180606T220238Z
LAST-MODIFIED:20190827T181137Z
UID:10007289-1539160200-1539169200@stmaa.org
SUMMARY:MOW/WOWs
DESCRIPTION:The Men and Women on Wednesday meet weekly to perform maintenance work around the church buildings and enjoy each other’s company and delicious snacks.
URL:https://stmaa.org/event/mow-wows/2018-10-10/
LOCATION:Entire propery
CATEGORIES:Administration
END:VEVENT
BEGIN:VEVENT
DTSTART;TZID=America/Los_Angeles:20181015T173000
DTEND;TZID=America/Los_Angeles:20181015T190000
DTSTAMP:20260425T125906
CREATED:20180618T194903Z
LAST-MODIFIED:20180618T194903Z
UID:10005893-1539624600-1539630000@stmaa.org
SUMMARY:Finance Committee meeting
DESCRIPTION:
URL:https://stmaa.org/event/finance-committee-meeting-2/2018-10-15/
LOCATION:Raphael Room\, 1704 NE 43rd Ave\, Portland\, OR\, 97213\, United States
CATEGORIES:Administration
GEO:37.09024;-95.712891
X-APPLE-STRUCTURED-LOCATION;VALUE=URI;X-ADDRESS=Raphael Room 1704 NE 43rd Ave Portland OR 97213 United States;X-APPLE-RADIUS=500;X-TITLE=1704 NE 43rd Ave:geo:-95.712891,37.09024
END:VEVENT
BEGIN:VEVENT
DTSTART;TZID=America/Los_Angeles:20181017T083000
DTEND;TZID=America/Los_Angeles:20181017T110000
DTSTAMP:20260425T125906
CREATED:20180606T220238Z
LAST-MODIFIED:20190827T181137Z
UID:10007290-1539765000-1539774000@stmaa.org
SUMMARY:MOW/WOWs
DESCRIPTION:The Men and Women on Wednesday meet weekly to perform maintenance work around the church buildings and enjoy each other’s company and delicious snacks.
URL:https://stmaa.org/event/mow-wows/2018-10-17/
LOCATION:Entire propery
CATEGORIES:Administration
END:VEVENT
BEGIN:VEVENT
DTSTART;TZID=America/Los_Angeles:20181018T183000
DTEND;TZID=America/Los_Angeles:20181018T203000
DTSTAMP:20260425T125906
CREATED:20180618T204153Z
LAST-MODIFIED:20180618T204153Z
UID:10007543-1539887400-1539894600@stmaa.org
SUMMARY:Vestry meeting
DESCRIPTION:Monthly meeting of the governing body of St. Michael’s with members elected by the parishioners.
URL:https://stmaa.org/event/vestry-meeting/2018-10-18/
LOCATION:Parish Hall\, 1704 NE 43rd Ave\, Portland\, OR\, 97213\, United States
CATEGORIES:Administration
GEO:37.09024;-95.712891
X-APPLE-STRUCTURED-LOCATION;VALUE=URI;X-ADDRESS=Parish Hall 1704 NE 43rd Ave Portland OR 97213 United States;X-APPLE-RADIUS=500;X-TITLE=1704 NE 43rd Ave:geo:-95.712891,37.09024
END:VEVENT
BEGIN:VEVENT
DTSTART;TZID=America/Los_Angeles:20181024T083000
DTEND;TZID=America/Los_Angeles:20181024T110000
DTSTAMP:20260425T125906
CREATED:20180606T220238Z
LAST-MODIFIED:20190827T181137Z
UID:10007291-1540369800-1540378800@stmaa.org
SUMMARY:MOW/WOWs
DESCRIPTION:The Men and Women on Wednesday meet weekly to perform maintenance work around the church buildings and enjoy each other’s company and delicious snacks.
URL:https://stmaa.org/event/mow-wows/2018-10-24/
LOCATION:Entire propery
CATEGORIES:Administration
END:VEVENT
BEGIN:VEVENT
DTSTART;TZID=America/Los_Angeles:20181031T083000
DTEND;TZID=America/Los_Angeles:20181031T110000
DTSTAMP:20260425T125906
CREATED:20180606T220238Z
LAST-MODIFIED:20190827T181137Z
UID:10007292-1540974600-1540983600@stmaa.org
SUMMARY:MOW/WOWs
DESCRIPTION:The Men and Women on Wednesday meet weekly to perform maintenance work around the church buildings and enjoy each other’s company and delicious snacks.
URL:https://stmaa.org/event/mow-wows/2018-10-31/
LOCATION:Entire propery
CATEGORIES:Administration
END:VEVENT
END:VCALENDAR