BEGIN:VCALENDAR
VERSION:2.0
PRODID:-//St. Michael &amp; All Angels Episcopal Church - ECPv6.15.18//NONSGML v1.0//EN
CALSCALE:GREGORIAN
METHOD:PUBLISH
X-ORIGINAL-URL:https://stmaa.org
X-WR-CALDESC:Events for St. Michael &amp; All Angels Episcopal Church
REFRESH-INTERVAL;VALUE=DURATION:PT1H
X-Robots-Tag:noindex
X-PUBLISHED-TTL:PT1H
BEGIN:VTIMEZONE
TZID:America/Los_Angeles
BEGIN:DAYLIGHT
TZOFFSETFROM:-0800
TZOFFSETTO:-0700
TZNAME:PDT
DTSTART:20220313T100000
END:DAYLIGHT
BEGIN:STANDARD
TZOFFSETFROM:-0700
TZOFFSETTO:-0800
TZNAME:PST
DTSTART:20221106T090000
END:STANDARD
BEGIN:DAYLIGHT
TZOFFSETFROM:-0800
TZOFFSETTO:-0700
TZNAME:PDT
DTSTART:20230312T100000
END:DAYLIGHT
BEGIN:STANDARD
TZOFFSETFROM:-0700
TZOFFSETTO:-0800
TZNAME:PST
DTSTART:20231105T090000
END:STANDARD
BEGIN:DAYLIGHT
TZOFFSETFROM:-0800
TZOFFSETTO:-0700
TZNAME:PDT
DTSTART:20240310T100000
END:DAYLIGHT
BEGIN:STANDARD
TZOFFSETFROM:-0700
TZOFFSETTO:-0800
TZNAME:PST
DTSTART:20241103T090000
END:STANDARD
END:VTIMEZONE
BEGIN:VEVENT
DTSTART;TZID=America/Los_Angeles:20230914T120000
DTEND;TZID=America/Los_Angeles:20230914T130000
DTSTAMP:20260419T130441
CREATED:20230107T202714Z
LAST-MODIFIED:20231115T192159Z
UID:10010463-1694692800-1694696400@stmaa.org
SUMMARY:It's in the Bag sack lunch offering
DESCRIPTION:
URL:https://stmaa.org/event/its-in-the-bag-sack-lunch-offering/2023-09-14/
LOCATION:Courtyard\, 1704 NE 43rd Ave\, Portland\, OR\, 97213\, United States
CATEGORIES:Outreach & Justice regular
END:VEVENT
BEGIN:VEVENT
DTSTART;TZID=America/Los_Angeles:20230914T170000
DTEND;TZID=America/Los_Angeles:20230914T183000
DTSTAMP:20260419T130441
CREATED:20230720T211150Z
LAST-MODIFIED:20230720T211150Z
UID:10011102-1694710800-1694716200@stmaa.org
SUMMARY:Women Celebrating in Recovery group
DESCRIPTION:
URL:https://stmaa.org/event/women-celebrating-in-recovery-group/2023-09-14/
LOCATION:Nativity Hall\, 1704 NE 43rd Ave\, Portland\, OR\, 97213\, United States
CATEGORIES:Recovery meetings
GEO:37.09024;-95.712891
X-APPLE-STRUCTURED-LOCATION;VALUE=URI;X-ADDRESS=Nativity Hall 1704 NE 43rd Ave Portland OR 97213 United States;X-APPLE-RADIUS=500;X-TITLE=1704 NE 43rd Ave:geo:-95.712891,37.09024
END:VEVENT
BEGIN:VEVENT
DTSTART;TZID=America/Los_Angeles:20230914T183000
DTEND;TZID=America/Los_Angeles:20230914T200000
DTSTAMP:20260419T130441
CREATED:20220307T201122Z
LAST-MODIFIED:20240201T200052Z
UID:10010106-1694716200-1694721600@stmaa.org
SUMMARY:AA meeting
DESCRIPTION:
URL:https://stmaa.org/event/aa-meeting/2023-09-14/
LOCATION:Nativity Hall\, 1704 NE 43rd Ave\, Portland\, OR\, 97213\, United States
CATEGORIES:Recovery meetings
GEO:37.09024;-95.712891
X-APPLE-STRUCTURED-LOCATION;VALUE=URI;X-ADDRESS=Nativity Hall 1704 NE 43rd Ave Portland OR 97213 United States;X-APPLE-RADIUS=500;X-TITLE=1704 NE 43rd Ave:geo:-95.712891,37.09024
END:VEVENT
BEGIN:VEVENT
DTSTART;TZID=America/Los_Angeles:20230914T190000
DTEND;TZID=America/Los_Angeles:20230914T203000
DTSTAMP:20260419T130441
CREATED:20230107T203818Z
LAST-MODIFIED:20240201T211200Z
UID:10010489-1694718000-1694723400@stmaa.org
SUMMARY:IWC meeting (Zoom or in-person)
DESCRIPTION:
URL:https://stmaa.org/event/iwc-meeting-zoom-or-in-person/2023-09-14/
LOCATION:Parish Hall or Zoom\, 1704 NE 43rd Ave\, Portland\, OR\, 97213\, United States
CATEGORIES:Outreach & Justice regular
END:VEVENT
END:VCALENDAR