BEGIN:VCALENDAR
VERSION:2.0
PRODID:-//St. Michael &amp; All Angels Episcopal Church - ECPv6.15.18//NONSGML v1.0//EN
CALSCALE:GREGORIAN
METHOD:PUBLISH
X-WR-CALNAME:St. Michael &amp; All Angels Episcopal Church
X-ORIGINAL-URL:https://stmaa.org
X-WR-CALDESC:Events for St. Michael &amp; All Angels Episcopal Church
REFRESH-INTERVAL;VALUE=DURATION:PT1H
X-Robots-Tag:noindex
X-PUBLISHED-TTL:PT1H
BEGIN:VTIMEZONE
TZID:America/Los_Angeles
BEGIN:DAYLIGHT
TZOFFSETFROM:-0800
TZOFFSETTO:-0700
TZNAME:PDT
DTSTART:20220313T100000
END:DAYLIGHT
BEGIN:STANDARD
TZOFFSETFROM:-0700
TZOFFSETTO:-0800
TZNAME:PST
DTSTART:20221106T090000
END:STANDARD
BEGIN:DAYLIGHT
TZOFFSETFROM:-0800
TZOFFSETTO:-0700
TZNAME:PDT
DTSTART:20230312T100000
END:DAYLIGHT
BEGIN:STANDARD
TZOFFSETFROM:-0700
TZOFFSETTO:-0800
TZNAME:PST
DTSTART:20231105T090000
END:STANDARD
BEGIN:DAYLIGHT
TZOFFSETFROM:-0800
TZOFFSETTO:-0700
TZNAME:PDT
DTSTART:20240310T100000
END:DAYLIGHT
BEGIN:STANDARD
TZOFFSETFROM:-0700
TZOFFSETTO:-0800
TZNAME:PST
DTSTART:20241103T090000
END:STANDARD
END:VTIMEZONE
BEGIN:VEVENT
DTSTART;TZID=America/Los_Angeles:20230910T073000
DTEND;TZID=America/Los_Angeles:20230910T110000
DTSTAMP:20260420T173554
CREATED:20230526T003949Z
LAST-MODIFIED:20230720T220124Z
UID:10011092-1694331000-1694343600@stmaa.org
SUMMARY:Sunday morning worship in English (summer schedule) at 7:30 & 10:00 am
DESCRIPTION:
URL:https://stmaa.org/event/sunday-morning-worship-in-english-summer-schedule-at-730-1000-am/2023-09-10/
LOCATION:Nave\, 1704 NE 43rd Ave\, Portland\, OR\, 97213\, United States
CATEGORIES:Worship regular
END:VEVENT
BEGIN:VEVENT
DTSTART;TZID=America/Los_Angeles:20230910T073000
DTEND;TZID=America/Los_Angeles:20230910T120000
DTSTAMP:20260420T173554
CREATED:20230922T175809Z
LAST-MODIFIED:20240307T201905Z
UID:10011299-1694331000-1694347200@stmaa.org
SUMMARY:Sunday morning worship in English at 7:30\, 9:00 & 11:00 am
DESCRIPTION:
URL:https://stmaa.org/event/sunday-morning-worship-in-english-at-730-900-1100-am-2/2023-09-10/
LOCATION:Church sanctuary\, 1704 NE 43rd Ave\, Portland\, OR\, 97213\, United States
CATEGORIES:Worship regular
GEO:37.09024;-95.712891
X-APPLE-STRUCTURED-LOCATION;VALUE=URI;X-ADDRESS=Church sanctuary 1704 NE 43rd Ave Portland OR 97213 United States;X-APPLE-RADIUS=500;X-TITLE=1704 NE 43rd Ave:geo:-95.712891,37.09024
END:VEVENT
BEGIN:VEVENT
DTSTART;TZID=America/Los_Angeles:20230910T101500
DTEND;TZID=America/Los_Angeles:20230910T110000
DTSTAMP:20260420T173554
CREATED:20230818T205910Z
LAST-MODIFIED:20240307T202147Z
UID:10011229-1694340900-1694343600@stmaa.org
SUMMARY:Coffee Hour
DESCRIPTION:
URL:https://stmaa.org/event/coffee-hour/2023-09-10/
LOCATION:Parish Hall\, 1704 NE 43rd Ave\, Portland\, OR\, 97213\, United States
CATEGORIES:Parish Life
GEO:37.09024;-95.712891
X-APPLE-STRUCTURED-LOCATION;VALUE=URI;X-ADDRESS=Parish Hall 1704 NE 43rd Ave Portland OR 97213 United States;X-APPLE-RADIUS=500;X-TITLE=1704 NE 43rd Ave:geo:-95.712891,37.09024
END:VEVENT
BEGIN:VEVENT
DTSTART;TZID=America/Los_Angeles:20230910T130000
DTEND;TZID=America/Los_Angeles:20230910T150000
DTSTAMP:20260420T173554
CREATED:20230922T174809Z
LAST-MODIFIED:20240201T201931Z
UID:10011283-1694350800-1694358000@stmaa.org
SUMMARY:La Misa - worship service in Spanish + convivio
DESCRIPTION:
URL:https://stmaa.org/event/la-misa-worship-service-in-spanish-convivio/2023-09-10/
LOCATION:Church sanctuary\, Parish Hall\, 1704 NE 43rd Ave\, Portland\, OR\, 97213\, United States
CATEGORIES:Parish Life,Worship regular
GEO:37.09024;-95.712891
X-APPLE-STRUCTURED-LOCATION;VALUE=URI;X-ADDRESS=Church sanctuary Parish Hall 1704 NE 43rd Ave Portland OR 97213 United States;X-APPLE-RADIUS=500;X-TITLE=1704 NE 43rd Ave:geo:-95.712891,37.09024
END:VEVENT
BEGIN:VEVENT
DTSTART;TZID=America/Los_Angeles:20230910T183000
DTEND;TZID=America/Los_Angeles:20230910T203000
DTSTAMP:20260420T173554
CREATED:20230107T205128Z
LAST-MODIFIED:20240201T205234Z
UID:10010575-1694370600-1694377800@stmaa.org
SUMMARY:CA meeting
DESCRIPTION:
URL:https://stmaa.org/event/ca-meeting-3/2023-09-10/
LOCATION:Nativity Hall\, 1704 NE 43rd Ave\, Portland\, OR\, 97213\, United States
CATEGORIES:Recovery meetings
GEO:37.09024;-95.712891
X-APPLE-STRUCTURED-LOCATION;VALUE=URI;X-ADDRESS=Nativity Hall 1704 NE 43rd Ave Portland OR 97213 United States;X-APPLE-RADIUS=500;X-TITLE=1704 NE 43rd Ave:geo:-95.712891,37.09024
END:VEVENT
END:VCALENDAR