BEGIN:VCALENDAR
VERSION:2.0
PRODID:-//St. Michael &amp; All Angels Episcopal Church - ECPv6.15.18//NONSGML v1.0//EN
CALSCALE:GREGORIAN
METHOD:PUBLISH
X-WR-CALNAME:St. Michael &amp; All Angels Episcopal Church
X-ORIGINAL-URL:https://stmaa.org
X-WR-CALDESC:Events for St. Michael &amp; All Angels Episcopal Church
REFRESH-INTERVAL;VALUE=DURATION:PT1H
X-Robots-Tag:noindex
X-PUBLISHED-TTL:PT1H
BEGIN:VTIMEZONE
TZID:America/Los_Angeles
BEGIN:DAYLIGHT
TZOFFSETFROM:-0800
TZOFFSETTO:-0700
TZNAME:PDT
DTSTART:20220313T100000
END:DAYLIGHT
BEGIN:STANDARD
TZOFFSETFROM:-0700
TZOFFSETTO:-0800
TZNAME:PST
DTSTART:20221106T090000
END:STANDARD
BEGIN:DAYLIGHT
TZOFFSETFROM:-0800
TZOFFSETTO:-0700
TZNAME:PDT
DTSTART:20230312T100000
END:DAYLIGHT
BEGIN:STANDARD
TZOFFSETFROM:-0700
TZOFFSETTO:-0800
TZNAME:PST
DTSTART:20231105T090000
END:STANDARD
BEGIN:DAYLIGHT
TZOFFSETFROM:-0800
TZOFFSETTO:-0700
TZNAME:PDT
DTSTART:20240310T100000
END:DAYLIGHT
BEGIN:STANDARD
TZOFFSETFROM:-0700
TZOFFSETTO:-0800
TZNAME:PST
DTSTART:20241103T090000
END:STANDARD
END:VTIMEZONE
BEGIN:VEVENT
DTSTART;TZID=America/Los_Angeles:20230820T073000
DTEND;TZID=America/Los_Angeles:20230820T110000
DTSTAMP:20260420T102149
CREATED:20230526T003949Z
LAST-MODIFIED:20230720T220124Z
UID:10011089-1692516600-1692529200@stmaa.org
SUMMARY:Sunday morning worship in English (summer schedule) at 7:30 & 10:00 am
DESCRIPTION:
URL:https://stmaa.org/event/sunday-morning-worship-in-english-summer-schedule-at-730-1000-am/2023-08-20/
LOCATION:Nave\, 1704 NE 43rd Ave\, Portland\, OR\, 97213\, United States
CATEGORIES:Worship regular
END:VEVENT
BEGIN:VEVENT
DTSTART;TZID=America/Los_Angeles:20230820T101500
DTEND;TZID=America/Los_Angeles:20230820T110000
DTSTAMP:20260420T102149
CREATED:20230720T215744Z
LAST-MODIFIED:20230720T215744Z
UID:10011207-1692526500-1692529200@stmaa.org
SUMMARY:Packing of backpacks for foster kids
DESCRIPTION:
URL:https://stmaa.org/event/packing-of-backpacks-for-foster-kids/
LOCATION:Parish Hall\, 1704 NE 43rd Ave\, Portland\, OR\, 97213\, United States
CATEGORIES:Outreach & Justice events
GEO:37.09024;-95.712891
X-APPLE-STRUCTURED-LOCATION;VALUE=URI;X-ADDRESS=Parish Hall 1704 NE 43rd Ave Portland OR 97213 United States;X-APPLE-RADIUS=500;X-TITLE=1704 NE 43rd Ave:geo:-95.712891,37.09024
END:VEVENT
BEGIN:VEVENT
DTSTART;TZID=America/Los_Angeles:20230820T101500
DTEND;TZID=America/Los_Angeles:20230820T110000
DTSTAMP:20260420T102149
CREATED:20230818T205711Z
LAST-MODIFIED:20230818T205711Z
UID:10011223-1692526500-1692529200@stmaa.org
SUMMARY:Forum: "The Reluctant Singer"
DESCRIPTION:Also\, Choir Director Brian Fairbanks is offering a forum called The Reluctant Singer after the service in the Nativity Hall. Learn some basic vocal technique and music-reading tips\, whether or not you consider yourself a singer. Everyone is invited to make some noise in this fun\, inclusive workshop!
URL:https://stmaa.org/event/forum-the-reluctant-singer/
LOCATION:Nativity Hall\, 1704 NE 43rd Ave\, Portland\, OR\, 97213\, United States
CATEGORIES:Music events
GEO:37.09024;-95.712891
X-APPLE-STRUCTURED-LOCATION;VALUE=URI;X-ADDRESS=Nativity Hall 1704 NE 43rd Ave Portland OR 97213 United States;X-APPLE-RADIUS=500;X-TITLE=1704 NE 43rd Ave:geo:-95.712891,37.09024
END:VEVENT
BEGIN:VEVENT
DTSTART;TZID=America/Los_Angeles:20230820T101500
DTEND;TZID=America/Los_Angeles:20230820T110000
DTSTAMP:20260420T102149
CREATED:20230818T205910Z
LAST-MODIFIED:20240307T202147Z
UID:10011226-1692526500-1692529200@stmaa.org
SUMMARY:Coffee Hour
DESCRIPTION:
URL:https://stmaa.org/event/coffee-hour/2023-08-20/
LOCATION:Parish Hall\, 1704 NE 43rd Ave\, Portland\, OR\, 97213\, United States
CATEGORIES:Parish Life
GEO:37.09024;-95.712891
X-APPLE-STRUCTURED-LOCATION;VALUE=URI;X-ADDRESS=Parish Hall 1704 NE 43rd Ave Portland OR 97213 United States;X-APPLE-RADIUS=500;X-TITLE=1704 NE 43rd Ave:geo:-95.712891,37.09024
END:VEVENT
BEGIN:VEVENT
DTSTART;TZID=America/Los_Angeles:20230820T183000
DTEND;TZID=America/Los_Angeles:20230820T203000
DTSTAMP:20260420T102149
CREATED:20230107T205128Z
LAST-MODIFIED:20240201T205234Z
UID:10010572-1692556200-1692563400@stmaa.org
SUMMARY:CA meeting
DESCRIPTION:
URL:https://stmaa.org/event/ca-meeting-3/2023-08-20/
LOCATION:Nativity Hall\, 1704 NE 43rd Ave\, Portland\, OR\, 97213\, United States
CATEGORIES:Recovery meetings
GEO:37.09024;-95.712891
X-APPLE-STRUCTURED-LOCATION;VALUE=URI;X-ADDRESS=Nativity Hall 1704 NE 43rd Ave Portland OR 97213 United States;X-APPLE-RADIUS=500;X-TITLE=1704 NE 43rd Ave:geo:-95.712891,37.09024
END:VEVENT
END:VCALENDAR