BEGIN:VCALENDAR
VERSION:2.0
PRODID:-//St. Michael &amp; All Angels Episcopal Church - ECPv6.15.18//NONSGML v1.0//EN
CALSCALE:GREGORIAN
METHOD:PUBLISH
X-ORIGINAL-URL:https://stmaa.org
X-WR-CALDESC:Events for St. Michael &amp; All Angels Episcopal Church
REFRESH-INTERVAL;VALUE=DURATION:PT1H
X-Robots-Tag:noindex
X-PUBLISHED-TTL:PT1H
BEGIN:VTIMEZONE
TZID:America/Los_Angeles
BEGIN:DAYLIGHT
TZOFFSETFROM:-0800
TZOFFSETTO:-0700
TZNAME:PDT
DTSTART:20220313T100000
END:DAYLIGHT
BEGIN:STANDARD
TZOFFSETFROM:-0700
TZOFFSETTO:-0800
TZNAME:PST
DTSTART:20221106T090000
END:STANDARD
BEGIN:DAYLIGHT
TZOFFSETFROM:-0800
TZOFFSETTO:-0700
TZNAME:PDT
DTSTART:20230312T100000
END:DAYLIGHT
BEGIN:STANDARD
TZOFFSETFROM:-0700
TZOFFSETTO:-0800
TZNAME:PST
DTSTART:20231105T090000
END:STANDARD
BEGIN:DAYLIGHT
TZOFFSETFROM:-0800
TZOFFSETTO:-0700
TZNAME:PDT
DTSTART:20240310T100000
END:DAYLIGHT
BEGIN:STANDARD
TZOFFSETFROM:-0700
TZOFFSETTO:-0800
TZNAME:PST
DTSTART:20241103T090000
END:STANDARD
END:VTIMEZONE
BEGIN:VEVENT
DTSTART;TZID=America/Los_Angeles:20230604T073000
DTEND;TZID=America/Los_Angeles:20230604T120000
DTSTAMP:20260424T034425
CREATED:20230526T003639Z
LAST-MODIFIED:20230526T003639Z
UID:10011078-1685863800-1685880000@stmaa.org
SUMMARY:Sunday morning worship in English at 7:30\, 9:00 & 11:00 am
DESCRIPTION:
URL:https://stmaa.org/event/sunday-morning-worship-in-english-at-730-900-1100-am/2023-06-04/
LOCATION:Nave\, 1704 NE 43rd Ave\, Portland\, OR\, 97213\, United States
CATEGORIES:Worship regular
END:VEVENT
BEGIN:VEVENT
DTSTART;TZID=America/Los_Angeles:20230604T102000
DTEND;TZID=America/Los_Angeles:20230604T110000
DTSTAMP:20260424T034425
CREATED:20230307T190445Z
LAST-MODIFIED:20230307T190445Z
UID:10010933-1685874000-1685876400@stmaa.org
SUMMARY:Godly Play
DESCRIPTION:
URL:https://stmaa.org/event/godly-play-2/2023-06-04/
LOCATION:Godly Play 2 classroom\, 1704 NE 43rd Ave\, Portland\, OR\, 97213\, United States
CATEGORIES:Children/Families regular
END:VEVENT
BEGIN:VEVENT
DTSTART;TZID=America/Los_Angeles:20230604T160000
DTEND;TZID=America/Los_Angeles:20230604T173000
DTSTAMP:20260424T034425
CREATED:20230525T232911Z
LAST-MODIFIED:20230525T232911Z
UID:10011059-1685894400-1685899800@stmaa.org
SUMMARY:Youth Group (w/Scott+)
DESCRIPTION:
URL:https://stmaa.org/event/youth-group-w-scott/
LOCATION:Parish Hall\, 1704 NE 43rd Ave\, Portland\, OR\, 97213\, United States
CATEGORIES:Youth events
GEO:37.09024;-95.712891
X-APPLE-STRUCTURED-LOCATION;VALUE=URI;X-ADDRESS=Parish Hall 1704 NE 43rd Ave Portland OR 97213 United States;X-APPLE-RADIUS=500;X-TITLE=1704 NE 43rd Ave:geo:-95.712891,37.09024
END:VEVENT
BEGIN:VEVENT
DTSTART;TZID=America/Los_Angeles:20230604T183000
DTEND;TZID=America/Los_Angeles:20230604T203000
DTSTAMP:20260424T034425
CREATED:20230107T205128Z
LAST-MODIFIED:20240201T205234Z
UID:10010561-1685903400-1685910600@stmaa.org
SUMMARY:CA meeting
DESCRIPTION:
URL:https://stmaa.org/event/ca-meeting-3/2023-06-04/
LOCATION:Nativity Hall\, 1704 NE 43rd Ave\, Portland\, OR\, 97213\, United States
CATEGORIES:Recovery meetings
GEO:37.09024;-95.712891
X-APPLE-STRUCTURED-LOCATION;VALUE=URI;X-ADDRESS=Nativity Hall 1704 NE 43rd Ave Portland OR 97213 United States;X-APPLE-RADIUS=500;X-TITLE=1704 NE 43rd Ave:geo:-95.712891,37.09024
END:VEVENT
END:VCALENDAR