BEGIN:VCALENDAR
VERSION:2.0
PRODID:-//St. Michael &amp; All Angels Episcopal Church - ECPv6.15.18//NONSGML v1.0//EN
CALSCALE:GREGORIAN
METHOD:PUBLISH
X-ORIGINAL-URL:https://stmaa.org
X-WR-CALDESC:Events for St. Michael &amp; All Angels Episcopal Church
REFRESH-INTERVAL;VALUE=DURATION:PT1H
X-Robots-Tag:noindex
X-PUBLISHED-TTL:PT1H
BEGIN:VTIMEZONE
TZID:America/Los_Angeles
BEGIN:DAYLIGHT
TZOFFSETFROM:-0800
TZOFFSETTO:-0700
TZNAME:PDT
DTSTART:20210314T100000
END:DAYLIGHT
BEGIN:STANDARD
TZOFFSETFROM:-0700
TZOFFSETTO:-0800
TZNAME:PST
DTSTART:20211107T090000
END:STANDARD
BEGIN:DAYLIGHT
TZOFFSETFROM:-0800
TZOFFSETTO:-0700
TZNAME:PDT
DTSTART:20220313T100000
END:DAYLIGHT
BEGIN:STANDARD
TZOFFSETFROM:-0700
TZOFFSETTO:-0800
TZNAME:PST
DTSTART:20221106T090000
END:STANDARD
BEGIN:DAYLIGHT
TZOFFSETFROM:-0800
TZOFFSETTO:-0700
TZNAME:PDT
DTSTART:20230312T100000
END:DAYLIGHT
BEGIN:STANDARD
TZOFFSETFROM:-0700
TZOFFSETTO:-0800
TZNAME:PST
DTSTART:20231105T090000
END:STANDARD
END:VTIMEZONE
BEGIN:VEVENT
DTSTART;TZID=America/Los_Angeles:20221019T083000
DTEND;TZID=America/Los_Angeles:20221019T110000
DTSTAMP:20260419T183305
CREATED:20220320T012715Z
LAST-MODIFIED:20220320T012715Z
UID:10008634-1666168200-1666177200@stmaa.org
SUMMARY:MOW/WOWs
DESCRIPTION:Men and Women on Wednesday facilities volunteers
URL:https://stmaa.org/event/mow-wows-2/2022-10-19/
LOCATION:Entire propery
CATEGORIES:Administration
END:VEVENT
BEGIN:VEVENT
DTSTART;TZID=America/Los_Angeles:20221019T190000
DTEND;TZID=America/Los_Angeles:20221019T200000
DTSTAMP:20260419T183305
CREATED:20221010T194708Z
LAST-MODIFIED:20221010T194708Z
UID:10008972-1666206000-1666209600@stmaa.org
SUMMARY:Choral Evensong
DESCRIPTION:Our first Choral Evensong since before the pandemic will be held on Wednesday\, October 19\, at 7:00 pm. The choir is preparing Stanford’s Magnificat and Nunc dimittis in G\, Henry Balfour Gardiner’s Evening Hymn and lots more transcendent music! This beautiful\, traditional service will last less than an hour and is a chance to immerse yourself in the familiar Anglican structure and music-filled resonance of Evensong.
URL:https://stmaa.org/event/choral-evensong-2/
LOCATION:Church sanctuary\, 1704 NE 43rd Ave\, Portland\, OR\, 97213\, United States
CATEGORIES:Music events
GEO:37.09024;-95.712891
X-APPLE-STRUCTURED-LOCATION;VALUE=URI;X-ADDRESS=Church sanctuary 1704 NE 43rd Ave Portland OR 97213 United States;X-APPLE-RADIUS=500;X-TITLE=1704 NE 43rd Ave:geo:-95.712891,37.09024
END:VEVENT
END:VCALENDAR