BEGIN:VCALENDAR
VERSION:2.0
PRODID:-//St. Michael &amp; All Angels Episcopal Church - ECPv6.15.18//NONSGML v1.0//EN
CALSCALE:GREGORIAN
METHOD:PUBLISH
X-ORIGINAL-URL:https://stmaa.org
X-WR-CALDESC:Events for St. Michael &amp; All Angels Episcopal Church
REFRESH-INTERVAL;VALUE=DURATION:PT1H
X-Robots-Tag:noindex
X-PUBLISHED-TTL:PT1H
BEGIN:VTIMEZONE
TZID:America/Los_Angeles
BEGIN:DAYLIGHT
TZOFFSETFROM:-0800
TZOFFSETTO:-0700
TZNAME:PDT
DTSTART:20200308T100000
END:DAYLIGHT
BEGIN:STANDARD
TZOFFSETFROM:-0700
TZOFFSETTO:-0800
TZNAME:PST
DTSTART:20201101T090000
END:STANDARD
BEGIN:DAYLIGHT
TZOFFSETFROM:-0800
TZOFFSETTO:-0700
TZNAME:PDT
DTSTART:20210314T100000
END:DAYLIGHT
BEGIN:STANDARD
TZOFFSETFROM:-0700
TZOFFSETTO:-0800
TZNAME:PST
DTSTART:20211107T090000
END:STANDARD
BEGIN:DAYLIGHT
TZOFFSETFROM:-0800
TZOFFSETTO:-0700
TZNAME:PDT
DTSTART:20220313T100000
END:DAYLIGHT
BEGIN:STANDARD
TZOFFSETFROM:-0700
TZOFFSETTO:-0800
TZNAME:PST
DTSTART:20221106T090000
END:STANDARD
END:VTIMEZONE
BEGIN:VEVENT
DTSTART;TZID=America/Los_Angeles:20210610T183000
DTEND;TZID=America/Los_Angeles:20210610T200000
DTSTAMP:20260420T165040
CREATED:20210527T213701Z
LAST-MODIFIED:20210527T214301Z
UID:10009805-1623349800-1623355200@stmaa.org
SUMMARY:Land Story Gathering
DESCRIPTION:We are continuing our Land Story Gatherings. We are discovering that it is both overwhelming and inspiring to hear the Land Story of St. Michael’s – overwhelming with the recognition and acknowledgment of how we came to be on this land\, and inspiring to envision a future world that seeks restitution and compassionate care. Please register for this gathering. They are about 90 minutes long\, and each one contains the same agenda and information-sharing.
URL:https://stmaa.org/event/land-story-gathering-3/
LOCATION:Zoom\, Virtual or Life-streamed
CATEGORIES:Adult Education events
END:VEVENT
END:VCALENDAR