BEGIN:VCALENDAR
VERSION:2.0
PRODID:-//St. Michael &amp; All Angels Episcopal Church - ECPv6.15.18//NONSGML v1.0//EN
CALSCALE:GREGORIAN
METHOD:PUBLISH
X-ORIGINAL-URL:https://stmaa.org
X-WR-CALDESC:Events for St. Michael &amp; All Angels Episcopal Church
REFRESH-INTERVAL;VALUE=DURATION:PT1H
X-Robots-Tag:noindex
X-PUBLISHED-TTL:PT1H
BEGIN:VTIMEZONE
TZID:America/Los_Angeles
BEGIN:DAYLIGHT
TZOFFSETFROM:-0800
TZOFFSETTO:-0700
TZNAME:PDT
DTSTART:20200308T100000
END:DAYLIGHT
BEGIN:STANDARD
TZOFFSETFROM:-0700
TZOFFSETTO:-0800
TZNAME:PST
DTSTART:20201101T090000
END:STANDARD
BEGIN:DAYLIGHT
TZOFFSETFROM:-0800
TZOFFSETTO:-0700
TZNAME:PDT
DTSTART:20210314T100000
END:DAYLIGHT
BEGIN:STANDARD
TZOFFSETFROM:-0700
TZOFFSETTO:-0800
TZNAME:PST
DTSTART:20211107T090000
END:STANDARD
BEGIN:DAYLIGHT
TZOFFSETFROM:-0800
TZOFFSETTO:-0700
TZNAME:PDT
DTSTART:20220313T100000
END:DAYLIGHT
BEGIN:STANDARD
TZOFFSETFROM:-0700
TZOFFSETTO:-0800
TZNAME:PST
DTSTART:20221106T090000
END:STANDARD
END:VTIMEZONE
BEGIN:VEVENT
DTSTART;TZID=America/Los_Angeles:20210601T063000
DTEND;TZID=America/Los_Angeles:20210601T200000
DTSTAMP:20260420T124125
CREATED:20210527T213451Z
LAST-MODIFIED:20210527T213451Z
UID:10009804-1622529000-1622577600@stmaa.org
SUMMARY:Land Story Gathering
DESCRIPTION:On Wednesday\, we hosted our first Land Story Gathering and had a great conversation with about 15 participants. We are discovering that it is both overwhelming and inspiring to hear the Land Story of St. Michael’s – overwhelming with the recognition and acknowledgment of how we came to be on this land\, and inspiring to envision a future world that seeks restitution and compassionate care. Please register for one of the upcoming gatherings. They are about 90 minutes long\, and each one contains the same agenda and information-sharing.
URL:https://stmaa.org/event/land-story-gathering-2/
LOCATION:Zoom\, Virtual or Life-streamed
CATEGORIES:Adult Education events
END:VEVENT
BEGIN:VEVENT
DTSTART;TZID=America/Los_Angeles:20210601T093000
DTEND;TZID=America/Los_Angeles:20210601T103000
DTSTAMP:20260420T124125
CREATED:20210520T234345Z
LAST-MODIFIED:20210520T234345Z
UID:10009793-1622539800-1622543400@stmaa.org
SUMMARY:Small Group with James
DESCRIPTION:
URL:https://stmaa.org/event/small-group-with-james-7/2021-06-01/
LOCATION:Zoom\, Virtual or Life-streamed
CATEGORIES:Adult Education regular
END:VEVENT
BEGIN:VEVENT
DTSTART;TZID=America/Los_Angeles:20210601T120000
DTEND;TZID=America/Los_Angeles:20210601T130000
DTSTAMP:20260420T124125
CREATED:20210325T213608Z
LAST-MODIFIED:20210325T213608Z
UID:10009781-1622548800-1622552400@stmaa.org
SUMMARY:Staff meeting
DESCRIPTION:
URL:https://stmaa.org/event/staff-meeting-2/2021-06-01/
LOCATION:Zoom\, Virtual or Life-streamed
CATEGORIES:Administration
END:VEVENT
BEGIN:VEVENT
DTSTART;TZID=America/Los_Angeles:20210601T120000
DTEND;TZID=America/Los_Angeles:20210601T130000
DTSTAMP:20260420T124125
CREATED:20210325T213608Z
LAST-MODIFIED:20210325T213608Z
UID:10014994-1622548800-1622552400@stmaa.org
SUMMARY:Staff meeting
DESCRIPTION:
URL:https://stmaa.org/event/staff-meeting-2/2021-06-01/
LOCATION:Zoom\, Virtual or Life-streamed
CATEGORIES:Administration
END:VEVENT
BEGIN:VEVENT
DTSTART;TZID=America/Los_Angeles:20210601T120000
DTEND;TZID=America/Los_Angeles:20210601T130000
DTSTAMP:20260420T124125
CREATED:20210325T213608Z
LAST-MODIFIED:20210325T213608Z
UID:10014998-1622548800-1622552400@stmaa.org
SUMMARY:Staff meeting
DESCRIPTION:
URL:https://stmaa.org/event/staff-meeting-2/2021-06-01/
LOCATION:Zoom\, Virtual or Life-streamed
CATEGORIES:Administration
END:VEVENT
END:VCALENDAR