BEGIN:VCALENDAR
VERSION:2.0
PRODID:-//St. Michael &amp; All Angels Episcopal Church - ECPv6.15.18//NONSGML v1.0//EN
CALSCALE:GREGORIAN
METHOD:PUBLISH
X-ORIGINAL-URL:https://stmaa.org
X-WR-CALDESC:Events for St. Michael &amp; All Angels Episcopal Church
REFRESH-INTERVAL;VALUE=DURATION:PT1H
X-Robots-Tag:noindex
X-PUBLISHED-TTL:PT1H
BEGIN:VTIMEZONE
TZID:America/Los_Angeles
BEGIN:DAYLIGHT
TZOFFSETFROM:-0800
TZOFFSETTO:-0700
TZNAME:PDT
DTSTART:20200308T100000
END:DAYLIGHT
BEGIN:STANDARD
TZOFFSETFROM:-0700
TZOFFSETTO:-0800
TZNAME:PST
DTSTART:20201101T090000
END:STANDARD
BEGIN:DAYLIGHT
TZOFFSETFROM:-0800
TZOFFSETTO:-0700
TZNAME:PDT
DTSTART:20210314T100000
END:DAYLIGHT
BEGIN:STANDARD
TZOFFSETFROM:-0700
TZOFFSETTO:-0800
TZNAME:PST
DTSTART:20211107T090000
END:STANDARD
BEGIN:DAYLIGHT
TZOFFSETFROM:-0800
TZOFFSETTO:-0700
TZNAME:PDT
DTSTART:20220313T100000
END:DAYLIGHT
BEGIN:STANDARD
TZOFFSETFROM:-0700
TZOFFSETTO:-0800
TZNAME:PST
DTSTART:20221106T090000
END:STANDARD
END:VTIMEZONE
BEGIN:VEVENT
DTSTART;TZID=America/Los_Angeles:20210519T093000
DTEND;TZID=America/Los_Angeles:20210519T103000
DTSTAMP:20260421T103029
CREATED:20210520T234445Z
LAST-MODIFIED:20210520T234445Z
UID:10009795-1621416600-1621420200@stmaa.org
SUMMARY:Small Group with James
DESCRIPTION:
URL:https://stmaa.org/event/small-group-with-james-8/2021-05-19/
LOCATION:Zoom\, Virtual or Life-streamed
CATEGORIES:Adult Education regular
END:VEVENT
BEGIN:VEVENT
DTSTART;TZID=America/Los_Angeles:20210519T150000
DTEND;TZID=America/Los_Angeles:20210519T160000
DTSTAMP:20260421T103029
CREATED:20210520T234609Z
LAST-MODIFIED:20210520T234609Z
UID:10009799-1621436400-1621440000@stmaa.org
SUMMARY:Small Group with James
DESCRIPTION:
URL:https://stmaa.org/event/small-group-with-james-9/2021-05-19/
LOCATION:Zoom\, Virtual or Life-streamed
CATEGORIES:Adult Education regular
END:VEVENT
BEGIN:VEVENT
DTSTART;TZID=America/Los_Angeles:20210519T180000
DTEND;TZID=America/Los_Angeles:20210519T184000
DTSTAMP:20260421T103029
CREATED:20210302T220320Z
LAST-MODIFIED:20210302T220320Z
UID:10009765-1621447200-1621449600@stmaa.org
SUMMARY:Choristers rehearsal via Zoom (most weeks)
DESCRIPTION:
URL:https://stmaa.org/event/choristers-rehearsal-via-zoom-most-weeks-2/2021-05-19/
LOCATION:1704 NE 43rd Ave\, Portland\, OR\, 97213\, United States
CATEGORIES:Music rehearsals
END:VEVENT
BEGIN:VEVENT
DTSTART;TZID=America/Los_Angeles:20210519T190000
DTEND;TZID=America/Los_Angeles:20210519T200000
DTSTAMP:20260421T103029
CREATED:20210302T215435Z
LAST-MODIFIED:20210302T215435Z
UID:10009743-1621450800-1621454400@stmaa.org
SUMMARY:St. Michael's Singers rehearsal via Zoom
DESCRIPTION:
URL:https://stmaa.org/event/st-michaels-singers-rehearsal-via-zoom/2021-05-19/
LOCATION:Zoom\, Virtual or Life-streamed
CATEGORIES:Music rehearsals
END:VEVENT
END:VCALENDAR