BEGIN:VCALENDAR
VERSION:2.0
PRODID:-//St. Michael &amp; All Angels Episcopal Church - ECPv6.15.18//NONSGML v1.0//EN
CALSCALE:GREGORIAN
METHOD:PUBLISH
X-ORIGINAL-URL:https://stmaa.org
X-WR-CALDESC:Events for St. Michael &amp; All Angels Episcopal Church
REFRESH-INTERVAL;VALUE=DURATION:PT1H
X-Robots-Tag:noindex
X-PUBLISHED-TTL:PT1H
BEGIN:VTIMEZONE
TZID:America/Los_Angeles
BEGIN:DAYLIGHT
TZOFFSETFROM:-0800
TZOFFSETTO:-0700
TZNAME:PDT
DTSTART:20200308T100000
END:DAYLIGHT
BEGIN:STANDARD
TZOFFSETFROM:-0700
TZOFFSETTO:-0800
TZNAME:PST
DTSTART:20201101T090000
END:STANDARD
BEGIN:DAYLIGHT
TZOFFSETFROM:-0800
TZOFFSETTO:-0700
TZNAME:PDT
DTSTART:20210314T100000
END:DAYLIGHT
BEGIN:STANDARD
TZOFFSETFROM:-0700
TZOFFSETTO:-0800
TZNAME:PST
DTSTART:20211107T090000
END:STANDARD
BEGIN:DAYLIGHT
TZOFFSETFROM:-0800
TZOFFSETTO:-0700
TZNAME:PDT
DTSTART:20220313T100000
END:DAYLIGHT
BEGIN:STANDARD
TZOFFSETFROM:-0700
TZOFFSETTO:-0800
TZNAME:PST
DTSTART:20221106T090000
END:STANDARD
END:VTIMEZONE
BEGIN:VEVENT
DTSTART;TZID=America/Los_Angeles:20210331T090000
DTEND;TZID=America/Los_Angeles:20210331T100000
DTSTAMP:20260421T055255
CREATED:20210325T213745Z
LAST-MODIFIED:20210325T213745Z
UID:10007482-1617181200-1617184800@stmaa.org
SUMMARY:Small group with James
DESCRIPTION:
URL:https://stmaa.org/event/small-group-with-james-4/2021-03-31/
LOCATION:Zoom\, Virtual or Life-streamed
CATEGORIES:Adult Education regular
END:VEVENT
BEGIN:VEVENT
DTSTART;TZID=America/Los_Angeles:20210331T120000
DTEND;TZID=America/Los_Angeles:20210331T130000
DTSTAMP:20260421T055255
CREATED:20210222T222357Z
LAST-MODIFIED:20210222T222357Z
UID:10009637-1617192000-1617195600@stmaa.org
SUMMARY:Rector's Lenten Book Group
DESCRIPTION:This Lent\, Rector Chris Craun will be using 40-Day Journey with Howard Thurman as a daily practice of reflection\, prayer and writing. She will be offering space for mutual sharing and conversation on Wednesdays at noon\, starting February 24\, throughout the season. Please email her if you would like to receive the Zoom link. \nFrom Amazon: “Howard Thurman was an influential American author\, philosopher\, theologian\, educator\, and civil rights leader. Strongly influenced by his grandmother\, a former slave\, who raised him and a Quaker mystic under whom he studied\, Thurman adopted a philosophy of activism rooted in faith\, guided by spirit\, and maintained in peace. Editor Donna Schaper selects forty inspiring passages from the works of this spiritual advisor to Dr. Martin Luther King\, Jr. to accompany readers on their own spiritual journeys. Ideal for traveling through the seasons of Advent and Lent.”
URL:https://stmaa.org/event/rectors-lenten-book-group/2021-03-31/
LOCATION:Zoom\, Virtual or Life-streamed
CATEGORIES:Adult Education events
END:VEVENT
BEGIN:VEVENT
DTSTART;TZID=America/Los_Angeles:20210331T150000
DTEND;TZID=America/Los_Angeles:20210331T160000
DTSTAMP:20260421T055255
CREATED:20210325T213920Z
LAST-MODIFIED:20210325T213920Z
UID:10007487-1617202800-1617206400@stmaa.org
SUMMARY:Small group with James
DESCRIPTION:
URL:https://stmaa.org/event/small-group-with-james-5/2021-03-31/
LOCATION:Zoom\, Virtual or Life-streamed
CATEGORIES:Adult Education regular
END:VEVENT
BEGIN:VEVENT
DTSTART;TZID=America/Los_Angeles:20210331T180000
DTEND;TZID=America/Los_Angeles:20210331T184000
DTSTAMP:20260421T055255
CREATED:20210302T220320Z
LAST-MODIFIED:20210302T220320Z
UID:10009758-1617213600-1617216000@stmaa.org
SUMMARY:Choristers rehearsal via Zoom (most weeks)
DESCRIPTION:
URL:https://stmaa.org/event/choristers-rehearsal-via-zoom-most-weeks-2/2021-03-31/
LOCATION:1704 NE 43rd Ave\, Portland\, OR\, 97213\, United States
CATEGORIES:Music rehearsals
END:VEVENT
BEGIN:VEVENT
DTSTART;TZID=America/Los_Angeles:20210331T190000
DTEND;TZID=America/Los_Angeles:20210331T200000
DTSTAMP:20260421T055255
CREATED:20210302T215435Z
LAST-MODIFIED:20210302T215435Z
UID:10009736-1617217200-1617220800@stmaa.org
SUMMARY:St. Michael's Singers rehearsal via Zoom
DESCRIPTION:
URL:https://stmaa.org/event/st-michaels-singers-rehearsal-via-zoom/2021-03-31/
LOCATION:Zoom\, Virtual or Life-streamed
CATEGORIES:Music rehearsals
END:VEVENT
END:VCALENDAR