BEGIN:VCALENDAR
VERSION:2.0
PRODID:-//St. Michael &amp; All Angels Episcopal Church - ECPv6.15.18//NONSGML v1.0//EN
CALSCALE:GREGORIAN
METHOD:PUBLISH
X-ORIGINAL-URL:https://stmaa.org
X-WR-CALDESC:Events for St. Michael &amp; All Angels Episcopal Church
REFRESH-INTERVAL;VALUE=DURATION:PT1H
X-Robots-Tag:noindex
X-PUBLISHED-TTL:PT1H
BEGIN:VTIMEZONE
TZID:America/Los_Angeles
BEGIN:DAYLIGHT
TZOFFSETFROM:-0800
TZOFFSETTO:-0700
TZNAME:PDT
DTSTART:20200308T100000
END:DAYLIGHT
BEGIN:STANDARD
TZOFFSETFROM:-0700
TZOFFSETTO:-0800
TZNAME:PST
DTSTART:20201101T090000
END:STANDARD
BEGIN:DAYLIGHT
TZOFFSETFROM:-0800
TZOFFSETTO:-0700
TZNAME:PDT
DTSTART:20210314T100000
END:DAYLIGHT
BEGIN:STANDARD
TZOFFSETFROM:-0700
TZOFFSETTO:-0800
TZNAME:PST
DTSTART:20211107T090000
END:STANDARD
BEGIN:DAYLIGHT
TZOFFSETFROM:-0800
TZOFFSETTO:-0700
TZNAME:PDT
DTSTART:20220313T100000
END:DAYLIGHT
BEGIN:STANDARD
TZOFFSETFROM:-0700
TZOFFSETTO:-0800
TZNAME:PST
DTSTART:20221106T090000
END:STANDARD
END:VTIMEZONE
BEGIN:VEVENT
DTSTART;TZID=America/Los_Angeles:20210131T100000
DTEND;TZID=America/Los_Angeles:20210131T110000
DTSTAMP:20260424T104741
CREATED:20200505T171627Z
LAST-MODIFIED:20201217T193743Z
UID:10009314-1612087200-1612090800@stmaa.org
SUMMARY:Sunday Live at STMAA
DESCRIPTION:To watch the service here on our website click here.\nYou can join anytime but if you want to watch later\, click here.\nFor the service bulletins\, click here.
URL:https://stmaa.org/event/sunday-live-at-stmaa-6/2021-01-31/
LOCATION:St Michael & All Angels Church\, 1704 NE 43rd Ave\, Portland\, OR\, United States
CATEGORIES:Live Stream Events
GEO:45.535157;-122.618837
X-APPLE-STRUCTURED-LOCATION;VALUE=URI;X-ADDRESS=St Michael & All Angels Church 1704 NE 43rd Ave Portland OR United States;X-APPLE-RADIUS=500;X-TITLE=1704 NE 43rd Ave:geo:-122.618837,45.535157
END:VEVENT
BEGIN:VEVENT
DTSTART;TZID=America/Los_Angeles:20210131T143000
DTEND;TZID=America/Los_Angeles:20210131T163000
DTSTAMP:20260424T104741
CREATED:20201105T193951Z
LAST-MODIFIED:20201207T220210Z
UID:10009521-1612103400-1612110600@stmaa.org
SUMMARY:Workshop: Offering Sacred Welcome to Immigrants
DESCRIPTION:The St. Michael’s Immigrant Welcoming Congregation (IWC) team will give a two-session virtual workshop\, Offering a Sacred Welcome: Reflection & Action Toward Immigrant Justice on Sundays\, January 31 & February 7\, from 2:30 to 4:30 pm via Zoom. This workshop was developed by the Interfaith Movement for Immigrant Justice (IMIrJ) in partnership with the Oregon Diocese Commission on Sanctuary and modified by your IWC team to be offered by Zoom.
URL:https://stmaa.org/event/offering-sacred-welcome-to-immigrants-an-immigrant-justice-workshop-in-two-sessions-on-zoom/2021-01-31/
LOCATION:Zoom\, Virtual or Life-streamed
CATEGORIES:Outreach & Justice events
END:VEVENT
END:VCALENDAR