BEGIN:VCALENDAR
VERSION:2.0
PRODID:-//St. Michael &amp; All Angels Episcopal Church - ECPv6.15.18//NONSGML v1.0//EN
CALSCALE:GREGORIAN
METHOD:PUBLISH
X-WR-CALNAME:St. Michael &amp; All Angels Episcopal Church
X-ORIGINAL-URL:https://stmaa.org
X-WR-CALDESC:Events for St. Michael &amp; All Angels Episcopal Church
REFRESH-INTERVAL;VALUE=DURATION:PT1H
X-Robots-Tag:noindex
X-PUBLISHED-TTL:PT1H
BEGIN:VTIMEZONE
TZID:America/Los_Angeles
BEGIN:DAYLIGHT
TZOFFSETFROM:-0800
TZOFFSETTO:-0700
TZNAME:PDT
DTSTART:20200308T100000
END:DAYLIGHT
BEGIN:STANDARD
TZOFFSETFROM:-0700
TZOFFSETTO:-0800
TZNAME:PST
DTSTART:20201101T090000
END:STANDARD
BEGIN:DAYLIGHT
TZOFFSETFROM:-0800
TZOFFSETTO:-0700
TZNAME:PDT
DTSTART:20210314T100000
END:DAYLIGHT
BEGIN:STANDARD
TZOFFSETFROM:-0700
TZOFFSETTO:-0800
TZNAME:PST
DTSTART:20211107T090000
END:STANDARD
BEGIN:DAYLIGHT
TZOFFSETFROM:-0800
TZOFFSETTO:-0700
TZNAME:PDT
DTSTART:20220313T100000
END:DAYLIGHT
BEGIN:STANDARD
TZOFFSETFROM:-0700
TZOFFSETTO:-0800
TZNAME:PST
DTSTART:20221106T090000
END:STANDARD
END:VTIMEZONE
BEGIN:VEVENT
DTSTART;TZID=America/Los_Angeles:20210110T100000
DTEND;TZID=America/Los_Angeles:20210110T110000
DTSTAMP:20260425T162820
CREATED:20200505T171627Z
LAST-MODIFIED:20201217T193743Z
UID:10009311-1610272800-1610276400@stmaa.org
SUMMARY:Sunday Live at STMAA
DESCRIPTION:To watch the service here on our website click here.\nYou can join anytime but if you want to watch later\, click here.\nFor the service bulletins\, click here.
URL:https://stmaa.org/event/sunday-live-at-stmaa-6/2021-01-10/
LOCATION:St Michael & All Angels Church\, 1704 NE 43rd Ave\, Portland\, OR\, United States
CATEGORIES:Live Stream Events
GEO:45.535157;-122.618837
X-APPLE-STRUCTURED-LOCATION;VALUE=URI;X-ADDRESS=St Michael & All Angels Church 1704 NE 43rd Ave Portland OR United States;X-APPLE-RADIUS=500;X-TITLE=1704 NE 43rd Ave:geo:-122.618837,45.535157
END:VEVENT
BEGIN:VEVENT
DTSTART;TZID=America/Los_Angeles:20210110T110000
DTEND;TZID=America/Los_Angeles:20210110T120000
DTSTAMP:20260425T162820
CREATED:20201105T211819Z
LAST-MODIFIED:20201105T211819Z
UID:10009545-1610276400-1610280000@stmaa.org
SUMMARY:Healing Prayer on Zoom
DESCRIPTION:
URL:https://stmaa.org/event/healing-prayer-on-zoom/2021-01-10/
LOCATION:Zoom\, Virtual or Life-streamed
CATEGORIES:Pastoral Care events
END:VEVENT
END:VCALENDAR