BEGIN:VCALENDAR
VERSION:2.0
PRODID:-//St. Michael &amp; All Angels Episcopal Church - ECPv6.15.18//NONSGML v1.0//EN
CALSCALE:GREGORIAN
METHOD:PUBLISH
X-WR-CALNAME:St. Michael &amp; All Angels Episcopal Church
X-ORIGINAL-URL:https://stmaa.org
X-WR-CALDESC:Events for St. Michael &amp; All Angels Episcopal Church
REFRESH-INTERVAL;VALUE=DURATION:PT1H
X-Robots-Tag:noindex
X-PUBLISHED-TTL:PT1H
BEGIN:VTIMEZONE
TZID:America/Los_Angeles
BEGIN:DAYLIGHT
TZOFFSETFROM:-0800
TZOFFSETTO:-0700
TZNAME:PDT
DTSTART:20190310T100000
END:DAYLIGHT
BEGIN:STANDARD
TZOFFSETFROM:-0700
TZOFFSETTO:-0800
TZNAME:PST
DTSTART:20191103T090000
END:STANDARD
BEGIN:DAYLIGHT
TZOFFSETFROM:-0800
TZOFFSETTO:-0700
TZNAME:PDT
DTSTART:20200308T100000
END:DAYLIGHT
BEGIN:STANDARD
TZOFFSETFROM:-0700
TZOFFSETTO:-0800
TZNAME:PST
DTSTART:20201101T090000
END:STANDARD
BEGIN:DAYLIGHT
TZOFFSETFROM:-0800
TZOFFSETTO:-0700
TZNAME:PDT
DTSTART:20210314T100000
END:DAYLIGHT
BEGIN:STANDARD
TZOFFSETFROM:-0700
TZOFFSETTO:-0800
TZNAME:PST
DTSTART:20211107T090000
END:STANDARD
END:VTIMEZONE
BEGIN:VEVENT
DTSTART;TZID=America/Los_Angeles:20200322T100000
DTEND;TZID=America/Los_Angeles:20200322T110000
DTSTAMP:20260423T030858
CREATED:20200110T232546Z
LAST-MODIFIED:20200110T232546Z
UID:10009202-1584871200-1584874800@stmaa.org
SUMMARY:Parish support group - L.K.
DESCRIPTION:
URL:https://stmaa.org/event/parish-support-group-l-k/2020-03-22/
LOCATION:OR
CATEGORIES:Administration
END:VEVENT
BEGIN:VEVENT
DTSTART;TZID=America/Los_Angeles:20200322T101500
DTEND;TZID=America/Los_Angeles:20200322T110000
DTSTAMP:20260423T030858
CREATED:20200213T221116Z
LAST-MODIFIED:20200213T221116Z
UID:10006743-1584872100-1584874800@stmaa.org
SUMMARY:Lenten Forums
DESCRIPTION:Associate Rector James Joiner will lead the Sunday Forums in Lent\, which will explore the ideas of sin and mercy and how we can use each for self-examination and community accountability. We tend to have a very loaded idea of what constitutes sin in our tradition\, and for good reason! The classification of sins has a notorious history for being used to dominate and manipulate the faithful with misplaced religious authority. Yet we still hold the idea that there is something good that we pursue in our spiritual lives\, and part of that involves discerning which parts of our lives as individuals and communities are worth turning away from. Through a comparison with how other religious traditions approach this phenomenon\, particularly the teachings from Buddhism on the Five Hindrances\, we’ll look at fresh approaches for how to engage Christianity’s use and misuse of sin. In the process\, we’ll develop practices for becoming fountains of God’s mercy in our daily lives. All are welcome in the Nativity Hall each Sunday at 10:15 am from March 1 to March 29 for more.
URL:https://stmaa.org/event/lenten-forums/2020-03-22/
LOCATION:Nativity Hall\, 1704 NE 43rd Ave\, Portland\, OR\, 97213\, United States
CATEGORIES:Adult Education events
GEO:37.09024;-95.712891
X-APPLE-STRUCTURED-LOCATION;VALUE=URI;X-ADDRESS=Nativity Hall 1704 NE 43rd Ave Portland OR 97213 United States;X-APPLE-RADIUS=500;X-TITLE=1704 NE 43rd Ave:geo:-95.712891,37.09024
END:VEVENT
END:VCALENDAR