BEGIN:VCALENDAR
VERSION:2.0
PRODID:-//St. Michael &amp; All Angels Episcopal Church - ECPv6.15.18//NONSGML v1.0//EN
CALSCALE:GREGORIAN
METHOD:PUBLISH
X-WR-CALNAME:St. Michael &amp; All Angels Episcopal Church
X-ORIGINAL-URL:https://stmaa.org
X-WR-CALDESC:Events for St. Michael &amp; All Angels Episcopal Church
REFRESH-INTERVAL;VALUE=DURATION:PT1H
X-Robots-Tag:noindex
X-PUBLISHED-TTL:PT1H
BEGIN:VTIMEZONE
TZID:America/Los_Angeles
BEGIN:DAYLIGHT
TZOFFSETFROM:-0800
TZOFFSETTO:-0700
TZNAME:PDT
DTSTART:20190310T100000
END:DAYLIGHT
BEGIN:STANDARD
TZOFFSETFROM:-0700
TZOFFSETTO:-0800
TZNAME:PST
DTSTART:20191103T090000
END:STANDARD
BEGIN:DAYLIGHT
TZOFFSETFROM:-0800
TZOFFSETTO:-0700
TZNAME:PDT
DTSTART:20200308T100000
END:DAYLIGHT
BEGIN:STANDARD
TZOFFSETFROM:-0700
TZOFFSETTO:-0800
TZNAME:PST
DTSTART:20201101T090000
END:STANDARD
BEGIN:DAYLIGHT
TZOFFSETFROM:-0800
TZOFFSETTO:-0700
TZNAME:PDT
DTSTART:20210314T100000
END:DAYLIGHT
BEGIN:STANDARD
TZOFFSETFROM:-0700
TZOFFSETTO:-0800
TZNAME:PST
DTSTART:20211107T090000
END:STANDARD
END:VTIMEZONE
BEGIN:VEVENT
DTSTART;TZID=America/Los_Angeles:20200202T101000
DTEND;TZID=America/Los_Angeles:20200202T143000
DTSTAMP:20260420T103834
CREATED:20180618T211107Z
LAST-MODIFIED:20180618T211107Z
UID:10007984-1580638200-1580653800@stmaa.org
SUMMARY:Coffee Hour & Convivio
DESCRIPTION:Coffee hour (coffee and treats) and convivio (meal) happen every Sunday following the 9:00 and 11:00 am services and the 1:00 pm Spanish-language Misa.
URL:https://stmaa.org/event/coffee-hour-convivio/2020-02-02/
LOCATION:Parish Hall\, 1704 NE 43rd Ave\, Portland\, OR\, 97213\, United States
CATEGORIES:Hospitality
GEO:37.09024;-95.712891
X-APPLE-STRUCTURED-LOCATION;VALUE=URI;X-ADDRESS=Parish Hall 1704 NE 43rd Ave Portland OR 97213 United States;X-APPLE-RADIUS=500;X-TITLE=1704 NE 43rd Ave:geo:-95.712891,37.09024
END:VEVENT
BEGIN:VEVENT
DTSTART;TZID=America/Los_Angeles:20200202T101500
DTEND;TZID=America/Los_Angeles:20200202T110000
DTSTAMP:20260420T103834
CREATED:20200128T235403Z
LAST-MODIFIED:20200128T235949Z
UID:10009211-1580638500-1580641200@stmaa.org
SUMMARY:February Forums
DESCRIPTION:In February\, we’re hosting a series of Forums geared towards getting to know one another better and making new connections over our passions at St. Michael’s and beyond. This will be an especially great time for folks who are newer to our community to get to know other folks\, and for folks who have been around the community a while to share about some of what has kept them connected over the years. Join Associate Rector James Joiner in the Nativity Hall at 10:15 am today to be a part of the conversation!
URL:https://stmaa.org/event/youth-group-cnc-mission-trip-meeting/2020-02-02/
LOCATION:Nativity Hall\, 1704 NE 43rd Ave\, Portland\, OR\, 97213\, United States
CATEGORIES:Adult Education regular,Youth regular
GEO:37.09024;-95.712891
X-APPLE-STRUCTURED-LOCATION;VALUE=URI;X-ADDRESS=Nativity Hall 1704 NE 43rd Ave Portland OR 97213 United States;X-APPLE-RADIUS=500;X-TITLE=1704 NE 43rd Ave:geo:-95.712891,37.09024
END:VEVENT
END:VCALENDAR