BEGIN:VCALENDAR
VERSION:2.0
PRODID:-//St. Michael &amp; All Angels Episcopal Church - ECPv6.15.18//NONSGML v1.0//EN
CALSCALE:GREGORIAN
METHOD:PUBLISH
X-WR-CALNAME:St. Michael &amp; All Angels Episcopal Church
X-ORIGINAL-URL:https://stmaa.org
X-WR-CALDESC:Events for St. Michael &amp; All Angels Episcopal Church
REFRESH-INTERVAL;VALUE=DURATION:PT1H
X-Robots-Tag:noindex
X-PUBLISHED-TTL:PT1H
BEGIN:VTIMEZONE
TZID:America/Los_Angeles
BEGIN:DAYLIGHT
TZOFFSETFROM:-0800
TZOFFSETTO:-0700
TZNAME:PDT
DTSTART:20180311T100000
END:DAYLIGHT
BEGIN:STANDARD
TZOFFSETFROM:-0700
TZOFFSETTO:-0800
TZNAME:PST
DTSTART:20181104T090000
END:STANDARD
BEGIN:DAYLIGHT
TZOFFSETFROM:-0800
TZOFFSETTO:-0700
TZNAME:PDT
DTSTART:20190310T100000
END:DAYLIGHT
BEGIN:STANDARD
TZOFFSETFROM:-0700
TZOFFSETTO:-0800
TZNAME:PST
DTSTART:20191103T090000
END:STANDARD
BEGIN:DAYLIGHT
TZOFFSETFROM:-0800
TZOFFSETTO:-0700
TZNAME:PDT
DTSTART:20200308T100000
END:DAYLIGHT
BEGIN:STANDARD
TZOFFSETFROM:-0700
TZOFFSETTO:-0800
TZNAME:PST
DTSTART:20201101T090000
END:STANDARD
END:VTIMEZONE
BEGIN:VEVENT
DTSTART;TZID=America/Los_Angeles:20191216T180000
DTEND;TZID=America/Los_Angeles:20191216T200000
DTSTAMP:20260425T071157
CREATED:20191114T002619Z
LAST-MODIFIED:20191114T002619Z
UID:10009101-1576519200-1576526400@stmaa.org
SUMMARY:Las Posadas
DESCRIPTION:Check back for more information. First and last nights take place at St. Michael’s
URL:https://stmaa.org/event/las-posadas-2/2019-12-16/
LOCATION:Offsite location
CATEGORIES:Worship events
END:VEVENT
BEGIN:VEVENT
DTSTART;TZID=America/Los_Angeles:20191216T190000
DTEND;TZID=America/Los_Angeles:20191216T213000
DTSTAMP:20260425T071157
CREATED:20190914T014748Z
LAST-MODIFIED:20190914T014748Z
UID:10006590-1576522800-1576531800@stmaa.org
SUMMARY:ViVoce rehearsals
DESCRIPTION:
URL:https://stmaa.org/event/vivoce-rehearsals/2019-12-16/
LOCATION:Choir room\, 1704 NE 43rd Ave\, Portland\, OR\, 97213\, United States
CATEGORIES:Community Groups
END:VEVENT
END:VCALENDAR